{"text_format":"1","workbook":"xlsx","n_sheets":2,"sheets":["Dveřní sítě","Objednávka"],"not_rendered":{"charts":0,"images":11,"macros":1,"external_links":1,"defined_names":3,"comments":0,"pivot_tables":0},"unopened":[],"bounds":{"document_bytes":16777216,"sheet_cells":100000,"rows_first":2000,"rows_last":500,"rows_between":2000,"halvings":0,"cell_chars":16384,"cell_head_chars":4096},"cells_cut":0,"cells_raw":0,"read":"whole","date_system":"1900"}

{"sheet":"Dveřní sítě","index":0,"n_rows":174,"n_cols":6,"rows_kept":174,"cut":false,"hidden":true,"merged":[[26,0,26,1],[15,0,15,1],[16,2,18,2],[23,2,25,2],[29,0,29,5],[26,2,28,2],[22,0,22,5],[23,0,23,1],[19,0,19,1],[16,0,16,1],[3,4,3,5],[4,4,4,5],[6,0,6,5],[7,0,7,5],[15,4,15,5]]}
[null,null,null,"PROVOZOVNA:","Žerotínova 87"]
[null,null,null,null,"areál Na Bělidle"]
[null,null,null,null,"787 01 Šumperk"]
[null,null,null,"Region:",{"$f":"[1]Úvod!$G$7","v":"Šumperk"}]
["Stará 205 , 789 61, Bludov",null,"www.parapetyrs.cz","Vyhotovil:",{"$f":"[1]Úvod!$G$8","v":"Baženov"}]
[]
["Ceník hotových dveřních sítí pro firmu"]
[{"$f":"'[1]Sítě Dv'!$F$4","v":"INTERNET "}]
[]
["Typ:","Hotové DVEŘNÍ SÍTĚ - Zhotovení dveřních sítí dle požadavku zákazníka"]
["Dekory:","Bílá, hnědá, RAL 8003, polep renolitovou fólií a nástřik v různých RAL odstínech"]
["Renolity (standard):","Zlatý dub 01, Ořech 02, Tmavý dub 03, Bahenní dub 14, Sorento balsamico 20, Macoré 06,"]
[null,"Cherry amaretto 10, Douglas 05, Mahagon 04, Black cherry 17, Světlý dub 18, Irský dub 07,"]
[null,"Winchester 16, Oregon 08, Antracitová šedá 19, Šedá 13, Rustikální dub 15"]
[]
["Označení:",null,"Profil:","Barva:","Cena za m²:"]
["DE 50x20",null,null,"Bílá, hnědá, RAL8003",{"$f":"IF($B$43=\"NE\",\"NE\",'[1]Sítě Dv'!$H$9)","v":1624},"/m²"]
[null,null,null,"RAL",{"$f":"IF($B$43=\"NE\",\"NE\",'[1]Sítě Dv'!$H$9+'[1]Sítě Dv'!$H$17)","v":2024},"/m²"]
[null,null,null,"Renolit",{"$f":"IF($B$43=\"NE\",\"NE\",'[1]Sítě Dv'!$H$9+'[1]Sítě Dv'!$H$20)","v":2624},"/m²"]
["DE 50x20 LUX",null,null,"Bílá, hnědá, RAL8003, RAL7016",{"$f":"IF($B$43=\"NE\",\"NE\",'[1]Sítě Dv'!$H$10)","v":2120},"/m²"]
[null,null,null,"RAL",{"$f":"IF($B$43=\"NE\",\"NE\",'[1]Sítě Dv'!$H$10+'[1]Sítě Dv'!$H$17)","v":2520},"/m²"]
[null,null,null,"Renolit",{"$f":"IF($B$43=\"NE\",\"NE\",'[1]Sítě Dv'!$H$10+'[1]Sítě Dv'!$H$20)","v":3120},"/m²"]
["*V ceně sítě DE 50x20 a DE 50x20 LUX jsou: 2x PVC samozavírací pant, 1x PVC obyčejný pant, 1x madlo, 1x magnet"]
["DE 46x14",null,null,"Bílá, hnědá, RAL8003, RAL7016",{"$f":"IF($B$43=\"NE\",\"NE\",'[1]Sítě Dv'!$H$11)","v":2443},"/m²"]
["Komfort",null,null,"RAL",{"$f":"IF($B$43=\"NE\",\"NE\",'[1]Sítě Dv'!$H$11+'[1]Sítě Dv'!$H$18)","v":3043},"/m²"]
[null,null,null,"Renolit",{"$f":"IF($B$43=\"NE\",\"NE\",'[1]Sítě Dv'!$H$11+'[1]Sítě Dv'!$H$21)","v":3443},"/m²"]
["DE 46x14 + rám",null,null,"Bílá, hnědá, RAL8003, RAL7016",{"$f":"IF($B$43=\"NE\",\"NE\",'[1]Sítě Dv'!$H$12)","v":3526},"/m²"]
["Komfort",null,null,"RAL",{"$f":"IF($B$43=\"NE\",\"NE\",'[1]Sítě Dv'!$H$12+'[1]Sítě Dv'!$H$19)","v":4626},"/m²"]
[null,null,null,"Renolit",{"$f":"IF($B$43=\"NE\",\"NE\",'[1]Sítě Dv'!$H$12+'[1]Sítě Dv'!$H$22)","v":5226},"/m²"]
["*V ceně sítě DE 46x14 Komfort + (rám) jsou: 2x Al samozavírací pant, 1x Al obyčejný pant, 1x madlo-příčka, 1x magnetický pás"]
[]
["Okopová příčka",null,null,null,{"$f":"IF($B$43=\"NE\",\"NE\",'[1]Sítě Dv'!$H$23)","v":230},"/kus"]
["Samolepící těsnící kartáček",null,null,null,{"$f":"IF($B$43=\"NE\",\"NE\",'[1]Sítě Dv'!$H$24)","v":15},"/bm"]
["Nestandardní renolit (účtuje se za každý typ profilu, u DE jsou 2 profily, rám a příčka)",null,null,null,{"$f":"IF($B$43=\"NE\",\"NE\",'[1]Sítě Dv'!$H$25)","v":2000},"/profil"]
["Uvedené ceny jsou bez DPH."]
[]
["Rozměr pro výrobu je vnější rozměr křídla nebo rámu."]
["Tolerance výrobních rozměrů je 3mm, maximální povolený průhyb je 5mm (měřeno v 1/2 rozměru)."]
[]
["Minimální účtovatelný rozměr je 1,2 m² !!!"]
[]
[]
["Platnost od:",{"$f":"'[1]Sítě Dv'!$B$4","v":"2018-10-16"},null,null,{"$f":"[1]Úvod!$K$4","v":3},{"$f":"[1]Úvod!$L$4","v":"SÍTĚ O-D"}]
[]
[]
["Bankovní spojení:",null,"IČ: 69204705",null,"TEL: 583/284070"]
["KB Šumperk",null,"DIČ: CZ7204215799",null,"FAX: 583/238875"]
["č.ú. 43-5137000207/0100",null,"mail: objednavky@parapetyrs.cz",null,"MOBIL: 777/238872"]
[]
[]
["Dveřní otvíravá síť DE 50x20"]
[]
[]
[]
[]
[]
[]
[]
[]
[]
[]
[]
[]
[]
[]
[]
[]
[]
[]
[]
[]
[]
[]
["Zaměření sítě DE 50x20 LUX"]
[]
[]
[]
[]
[]
[]
[]
[]
[]
[]
[]
[]
[]
[]
[]
["Zaměření sítě DE 50x20"]
[]
[]
[]
[]
[]
[]
[]
[]
[]
[]
[]
[]
[]
[]
[]
["Při zaměření je nutné počítat 25mm na místo pro panty a 20mm pro místo na magnety !!!"]
["Středová příčka se montuje standardně do 1/3 výšky sítě. "]
["Pokud chcete umístit příčku do jiné výšky, zaměří se rozměr od spodu rámu na střed příčky."]
[]
[]
[]
["Dveřní otvíravá síť DE 46x14 Komfort"]
[]
[]
[]
[]
[]
[]
[]
[]
[]
[]
[]
[]
[]
[]
[]
[]
[]
[]
[]
[]
[]
[]
[]
[]
[]
[]
[]
[]
[]
[]
[]
[]
[]
[]
[]
[]
[]
[]
[]
[]
[]
[]
[]
[]
[]
[]
[]
[]
[]
[]
[]
[]
[]
[]
[]
[]
[]
[]
[]
[]
[]
["Dveřní otvíravá síť DE 46x14 Komfort v rámu"]

{"sheet":"Objednávka","index":1,"n_rows":53,"n_cols":35,"rows_kept":53,"cut":false,"hidden":false,"merged":[[33,7,33,8],[33,11,33,12],[33,18,33,19],[27,10,33,10],[30,7,30,8],[31,7,31,8],[26,7,26,8],[26,11,26,12],[26,18,26,19],[27,3,27,6],[27,7,27,8],[27,11,27,12],[27,18,27,19],[31,18,31,19],[32,7,32,8],[32,11,32,12],[32,18,32,19],[28,3,28,6],[31,11,31,12],[28,7,28,8],[28,11,28,12],[28,18,28,19],[29,3,29,6],[29,7,29,8],[29,18,29,19],[29,11,30,12],[30,18,30,19],[24,3,24,4],[24,5,24,6],[24,11,24,12],[24,18,24,19],[25,3,25,4],[25,5,25,6],[25,11,25,12],[25,18,25,19],[22,3,22,4],[22,5,22,6],[22,11,22,12],[22,18,22,19],[23,3,23,4],[23,5,23,6],[23,11,23,12],[23,18,23,19],[21,3,21,4],[21,5,21,6],[21,11,21,12],[21,18,21,19],[18,3,18,4],[18,5,18,6],[18,11,18,12],[18,18,18,19],[19,3,19,4],[19,5,19,6],[19,11,19,12],[19,18,19,19],[14,3,14,4],[14,5,14,6],[14,11,14,12],[14,18,14,19],[15,3,15,4],[15,5,15,6],[15,18,15,19],[20,3,20,4],[20,5,20,6],[20,11,20,12],[20,18,20,19],[16,3,16,4],[16,5,16,6],[16,11,16,12],[16,18,16,19],[15,11,15,12],[17,3,17,4],[17,5,17,6],[17,11,17,12],[17,18,17,19],[7,14,8,14],[7,17,7,19],[9,17,10,17],[11,18,11,19],[13,3,13,4],[13,5,13,6],[13,11,13,12],[13,18,13,19],[12,3,12,4],[12,5,12,6],[12,11,12,12],[12,18,12,19],[11,3,11,4],[11,5,11,6],[11,11,11,12],[9,3,9,6],[9,7,10,7],[6,1,6,7],[6,8,6,9],[9,2,10,2],[10,5,10,6],[9,9,10,9],[6,10,6,12],[6,17,6,19],[7,8,7,9],[7,10,7,12],[7,13,8,13],[8,1,8,7],[8,8,8,9],[8,10,8,12],[7,1,7,7],[8,17,8,19],[9,16,10,16],[9,14,10,14],[9,10,10,10],[9,15,10,15],[9,18,10,19],[10,3,10,4],[9,11,10,12],[9,13,10,13],[9,8,10,8],[41,6,41,7],[42,6,42,7],[43,6,43,7],[46,6,46,7],[47,6,47,7],[48,6,48,7],[0,0,0,19],[2,0,2,1],[2,8,2,10],[2,13,2,14],[2,18,2,19],[4,1,4,7],[4,8,4,9],[4,10,4,12],[4,18,4,19],[5,1,5,7],[5,8,5,9],[5,10,5,12],[5,17,5,19],[3,1,3,7],[3,8,3,10],[3,18,3,19],[9,0,10,0],[9,1,10,1],[53,6,53,7],[54,6,54,7],[55,6,55,7],[56,6,56,7],[44,6,44,7],[50,6,50,7],[45,6,45,7],[49,6,49,7],[51,6,51,7],[52,6,52,7]]}
["Objednávka – Dveřní sítě proti hmyzu"]
[]
["Objednatel:",null,null,null,null,null,null,null,"List č. 1  z  1",null,null,null,null,"Souhrn objednávky:"]
[null,{"$f":"'Dveřní sítě'!A8","v":"INTERNET "},null,null,null,null,null,null,"(příklad: List č. 1   z.  5)",null,null,null,null,"Platnost od:",{"$f":"'Dveřní sítě'!B43","v":"2018-10-16"}]
[null,null,null,null,null,null,null,null,"Datum objednání:",null,null,null,null,"Plocha m²:",{"$f":"SUM($H$12*P12)+($H$13*P13)+($H$14*P14)+($H$15*P15)+($H$16*P16)+($H$17*P17)+($H$18*P18)+($H$19*P19)+($H$20*P20)+($H$21*P21)+($H$22*P22)+($H$23*P23)+($H$24*P24)+($H$25*P25)+($H$26*P26)","v":0}]
[null,null,null,null,null,null,null,null,"Datum dodání:",null,null,null,null,"Kusů:",{"$f":"SUM($H$12:$H$26)","v":0},null,null,"Stará 205, 789 61, Bludov"]
["IČ:",null,null,null,null,null,null,null,"Adresa dodání:",null,null,null,null,"Rabat, marže:",0,null,null,"Provozovna:"]
[null,null,null,null,null,null,null,null,"Kontakt:",null,null,null,null,"Přibližná cena bez DPH:",{"$f":"SUM($R$12:$R$26)","v":0},null,null,"ul. Žerotínova 87, 787 01, Šumperk"]
[null,null,null,null,null,null,null,null,"Zakázka:",null,null,null,null,null,null,null,null,"bývalý areál Moravolenu (Bělidlo)"]
["Pozice","Typ","Panty","Rozměr (mm)",null,null,null,"ks","Barva","Barva síťoviny","Výška příčky (mm)","Doplňky sítě",null,"Typ kartáčku","Délka kartáčku(m)","Síť m2","Cena kus","Cena celkem","Poznámka"]
[null,null,null,"šířka",null,"výška",null,null,null,null,null,null,null,null,null,null,null,null,null,null,null,null,null,null,null,"Plocha index","Typ index","BarvaIndex","Cena za m2","Rozměr sitě","Cena sítě","Cena site + rabat","Okapová příčka","Cena kartáček","Cena celkem"]
[null,null,null,null,null,null,null,null,null,null,null,null,null,null,null,{"$f":"(D12*F12)/1000000","v":0},{"$f":"IF(AI12=0,\"\",AI12)","v":""},{"$f":"IF(Q12=\"\",\"\",Q12 * IF(H12=\"\",1,H12))","v":""},null,null,null,null,null,null,null,{"$f":"IF(P12< 0.5,3,IF(P12<0.75,4,IF(P12<1,5,IF(P12<1.5,6,7))))","v":3},{"$f":"MATCH(B12,'Dveřní sítě'!$A$17:$A$27,0)","v":{"$error":"#N/A"}},{"$f":"IF(I12=\"\",\"\",IF(I12=$H$30,1,IF(I12=$H$31,2,0)))","v":""},{"$f":"IF(ISNUMBER(AB12),INDEX('Dveřní sítě'!$A$17:$F$29,AA12+AB12,5),0)","v":0},{"$f":"IF(P12 < 1.2,1.2,P12)","v":1.2},{"$f":"(AC12*AD12)","v":0},{"$f":"(AE12 + (AE12)*$O$7)","v":0},{"$f":"IF(L12=\"\",0,'Dveřní sítě'!$E$32)","v":0},{"$f":"IF(O12=\"\",0,O12*'Dveřní sítě'!$E$33)","v":0},{"$f":"SUM(IF(ISNA(AF12),0,AF12),IF(ISNA(AG12),0,AG12),AH12)","v":0}]
[null,null,null,null,null,null,null,null,null,null,null,null,null,null,null,{"$f":"(D13*F13)/1000000","v":0},{"$f":"IF(AI13=0,\"\",AI13)","v":""},{"$f":"IF(Q13=\"\",\"\",Q13 * IF(H13=\"\",1,H13))","v":""},null,null,null,null,null,null,null,{"$f":"IF(P13< 0.5,3,IF(P13<0.75,4,IF(P13<1,5,IF(P13<1.5,6,7))))","v":3},{"$f":"MATCH(B13,'Dveřní sítě'!$A$17:$A$27,0)","v":{"$error":"#N/A"}},{"$f":"IF(I13=\"\",\"\",IF(I13=$H$30,1,IF(I13=$H$31,2,0)))","v":""},{"$f":"IF(ISNUMBER(AB13),INDEX('Dveřní sítě'!$A$17:$F$29,AA13+AB13,5),0)","v":0},{"$f":"IF(P13 < 1.2,1.2,P13)","v":1.2},{"$f":"(AC13*AD13)","v":0},{"$f":"(AE13 + (AE13)*$O$7)","v":0},{"$f":"IF(L13=\"\",0,'Dveřní sítě'!$E$32)","v":0},{"$f":"IF(O13=\"\",0,O13*'Dveřní sítě'!$E$33)","v":0},{"$f":"SUM(IF(ISNA(AF13),0,AF13),IF(ISNA(AG13),0,AG13),AH13)","v":0}]
[null,null,null,null,null,null,null,null,null,null,null,null,null,null,null,0,"","",null,null,null,null,null,null,null,3,{"$f":"MATCH(B14,'Dveřní sítě'!$A$17:$A$27,0)","v":{"$error":"#N/A"}},"",{"$f":"IF(ISNUMBER(AB14),INDEX('Dveřní sítě'!$A$17:$F$29,AA14+AB14,5),0)","v":0},1.2,0,0,{"$f":"IF(L14=\"\",0,'Dveřní sítě'!$E$32)","v":0},{"$f":"IF(O14=\"\",0,O14*'Dveřní sítě'!$E$33)","v":0},0]
[null,null,null,null,null,null,null,null,null,null,null,null,null,null,null,0,"","",null,null,null,null,null,null,null,3,{"$f":"MATCH(B15,'Dveřní sítě'!$A$17:$A$27,0)","v":{"$error":"#N/A"}},"",{"$f":"IF(ISNUMBER(AB15),INDEX('Dveřní sítě'!$A$17:$F$29,AA15+AB15,5),0)","v":0},1.2,0,0,{"$f":"IF(L15=\"\",0,'Dveřní sítě'!$E$32)","v":0},{"$f":"IF(O15=\"\",0,O15*'Dveřní sítě'!$E$33)","v":0},0]
[null,null,null,null,null,null,null,null,null,null,null,null,null,null,null,0,"","",null,null,null,null,null,null,null,3,{"$f":"MATCH(B16,'Dveřní sítě'!$A$17:$A$27,0)","v":{"$error":"#N/A"}},"",{"$f":"IF(ISNUMBER(AB16),INDEX('Dveřní sítě'!$A$17:$F$29,AA16+AB16,5),0)","v":0},1.2,0,0,{"$f":"IF(L16=\"\",0,'Dveřní sítě'!$E$32)","v":0},{"$f":"IF(O16=\"\",0,O16*'Dveřní sítě'!$E$33)","v":0},0]
[null,null,null,null,null,null,null,null,null,null,null,null,null,null,null,0,"","",null,null,null,null,null,null,null,3,{"$f":"MATCH(B17,'Dveřní sítě'!$A$17:$A$27,0)","v":{"$error":"#N/A"}},"",{"$f":"IF(ISNUMBER(AB17),INDEX('Dveřní sítě'!$A$17:$F$29,AA17+AB17,5),0)","v":0},1.2,0,0,{"$f":"IF(L17=\"\",0,'Dveřní sítě'!$E$32)","v":0},{"$f":"IF(O17=\"\",0,O17*'Dveřní sítě'!$E$33)","v":0},0]
[null,null,null,null,null,null,null,null,null,null,null,null,null,null,null,0,"","",null,null,null,null,null,null,null,3,{"$f":"MATCH(B18,'Dveřní sítě'!$A$17:$A$27,0)","v":{"$error":"#N/A"}},"",{"$f":"IF(ISNUMBER(AB18),INDEX('Dveřní sítě'!$A$17:$F$29,AA18+AB18,5),0)","v":0},1.2,0,0,{"$f":"IF(L18=\"\",0,'Dveřní sítě'!$E$32)","v":0},{"$f":"IF(O18=\"\",0,O18*'Dveřní sítě'!$E$33)","v":0},0]
[null,null,null,null,null,null,null,null,null,null,null,null,null,null,null,0,"","",null,null,null,null,null,null,null,3,{"$f":"MATCH(B19,'Dveřní sítě'!$A$17:$A$27,0)","v":{"$error":"#N/A"}},"",{"$f":"IF(ISNUMBER(AB19),INDEX('Dveřní sítě'!$A$17:$F$29,AA19+AB19,5),0)","v":0},1.2,0,0,{"$f":"IF(L19=\"\",0,'Dveřní sítě'!$E$32)","v":0},{"$f":"IF(O19=\"\",0,O19*'Dveřní sítě'!$E$33)","v":0},0]
[null,null,null,null,null,null,null,null,null,null,null,null,null,null,null,0,"","",null,null,null,null,null,null,null,3,{"$f":"MATCH(B20,'Dveřní sítě'!$A$17:$A$27,0)","v":{"$error":"#N/A"}},"",{"$f":"IF(ISNUMBER(AB20),INDEX('Dveřní sítě'!$A$17:$F$29,AA20+AB20,5),0)","v":0},1.2,0,0,{"$f":"IF(L20=\"\",0,'Dveřní sítě'!$E$32)","v":0},{"$f":"IF(O20=\"\",0,O20*'Dveřní sítě'!$E$33)","v":0},0]
[null,null,null,null,null,null,null,null,null,null,null,null,null,null,null,0,"","",null,null,null,null,null,null,null,3,{"$f":"MATCH(B21,'Dveřní sítě'!$A$17:$A$27,0)","v":{"$error":"#N/A"}},"",{"$f":"IF(ISNUMBER(AB21),INDEX('Dveřní sítě'!$A$17:$F$29,AA21+AB21,5),0)","v":0},1.2,0,0,{"$f":"IF(L21=\"\",0,'Dveřní sítě'!$E$32)","v":0},{"$f":"IF(O21=\"\",0,O21*'Dveřní sítě'!$E$33)","v":0},0]
[null,null,null,null,null,null,null,null,null,null,null,null,null,null,null,0,"","",null,null,null,null,null,null,null,3,{"$f":"MATCH(B22,'Dveřní sítě'!$A$17:$A$27,0)","v":{"$error":"#N/A"}},"",{"$f":"IF(ISNUMBER(AB22),INDEX('Dveřní sítě'!$A$17:$F$29,AA22+AB22,5),0)","v":0},1.2,0,0,{"$f":"IF(L22=\"\",0,'Dveřní sítě'!$E$32)","v":0},{"$f":"IF(O22=\"\",0,O22*'Dveřní sítě'!$E$33)","v":0},0]
[null,null,null,null,null,null,null,null,null,null,null,null,null,null,null,0,"","",null,null,null,null,null,null,null,3,{"$f":"MATCH(B23,'Dveřní sítě'!$A$17:$A$27,0)","v":{"$error":"#N/A"}},"",{"$f":"IF(ISNUMBER(AB23),INDEX('Dveřní sítě'!$A$17:$F$29,AA23+AB23,5),0)","v":0},1.2,0,0,{"$f":"IF(L23=\"\",0,'Dveřní sítě'!$E$32)","v":0},{"$f":"IF(O23=\"\",0,O23*'Dveřní sítě'!$E$33)","v":0},0]
[null,null,null,null,null,null,null,null,null,null,null,null,null,null,null,0,"","",null,null,null,null,null,null,null,3,{"$f":"MATCH(B24,'Dveřní sítě'!$A$17:$A$27,0)","v":{"$error":"#N/A"}},"",{"$f":"IF(ISNUMBER(AB24),INDEX('Dveřní sítě'!$A$17:$F$29,AA24+AB24,5),0)","v":0},1.2,0,0,{"$f":"IF(L24=\"\",0,'Dveřní sítě'!$E$32)","v":0},{"$f":"IF(O24=\"\",0,O24*'Dveřní sítě'!$E$33)","v":0},0]
[null,null,null,null,null,null,null,null,null,null,null,null,null,null,null,0,"","",null,null,null,null,null,null,null,3,{"$f":"MATCH(B25,'Dveřní sítě'!$A$17:$A$27,0)","v":{"$error":"#N/A"}},"",{"$f":"IF(ISNUMBER(AB25),INDEX('Dveřní sítě'!$A$17:$F$29,AA25+AB25,5),0)","v":0},1.2,0,0,{"$f":"IF(L25=\"\",0,'Dveřní sítě'!$E$32)","v":0},{"$f":"IF(O25=\"\",0,O25*'Dveřní sítě'!$E$33)","v":0},0]
[null,null,null,null,null,null,null,null,null,null,null,null,null,null,null,0,"","",null,null,null,null,null,null,null,3,{"$f":"MATCH(B26,'Dveřní sítě'!$A$17:$A$27,0)","v":{"$error":"#N/A"}},"",{"$f":"IF(ISNUMBER(AB26),INDEX('Dveřní sítě'!$A$17:$F$29,AA26+AB26,5),0)","v":0},1.2,0,0,{"$f":"IF(L26=\"\",0,'Dveřní sítě'!$E$32)","v":0},{"$f":"IF(O26=\"\",0,O26*'Dveřní sítě'!$E$33)","v":0},0]
[null,"Typ:","Panty:",null,null,null,null,"Barva:",null,"Barva","Výška příčky","Doplňky sítě",null,"Typ kartáčku:","Tento formulář slouží pro objednávání zboží a výpočet ceny je",null,null,null,"Poznámka:"]
[null,"DE 50x20","Levé",null,null,null,null,"Bílá",null,"síťoviny:","Zaměří se od spodu sítě na střed příčky","Okopová příčka",null,"Malý","pouze orientační. Výslednou cenu si prosím zkontrolujte podle ",null,null,null,"V poznámce uvádíme"]
[null,"DE 50x20 LUX","Pravé",null,null,null,null,"Hnědá",null,"Š – šedá",null,null,null,"Střední","platných ceníků. Za chyby ve výpočtu neneseme žádnou",null,null,null,"všechny nestandardní"]
[null,"DE 46x14",null,null,null,null,null,"Ral lakování",null,"Č - černá",null,"(Montuje se na spodek sítě)",null,"Velký","zodpovědnost.",null,null,null,"požadavky a úpravy"]
[null,"DE 46x14 + rám",null,null,null,null,null,"Renolit",null,null,null,null,null,null,"Zde objednávejte pouze standardní zboží. ",null,null,null,"Upřesnění Renolitu nebo RAL"]
[]
[]
[]
[]
[]
[]
[]
[]
[]
[]
["Klíč:","DE 50x20",null,null,null,null,"Bílá"]
[null,null,null,null,null,null,"Hnědá"]
[null,null,null,null,null,null,"RAL8003"]
[null,null,null,null,null,null,"Ral lakování"]
[null,null,null,null,null,null,"Renolit"]
[]
[null,"DE 50x20 LUX",null,null,null,null,"Bílá"]
[null,"DE 46x14",null,null,null,null,"Hnědá"]
[null,"DE 46x14 + rám",null,null,null,null,"RAL8003"]
[null,null,null,null,null,null,"RAL7016"]
[null,null,null,null,null,null,"Ral lakování"]
[null,null,null,null,null,null,"Renolit"]