{"text_format":"1","workbook":"xlsx","n_sheets":2,"sheets":["Okenní sítě","Objednávka"],"not_rendered":{"charts":0,"images":7,"macros":1,"external_links":1,"defined_names":6,"comments":0,"pivot_tables":0},"unopened":[],"bounds":{"document_bytes":16777216,"sheet_cells":100000,"rows_first":2000,"rows_last":500,"rows_between":2000,"halvings":0,"cell_chars":16384,"cell_head_chars":4096},"cells_cut":0,"cells_raw":0,"read":"whole","date_system":"1900"}

{"sheet":"Okenní sítě","index":0,"n_rows":50,"n_cols":7,"rows_kept":50,"cut":false,"hidden":true,"merged":[[6,0,6,6],[7,0,7,6],[12,0,13,0],[12,1,13,1],[12,2,12,6],[11,1,11,6]]}
[null,null,null,null,"PROVOZOVNA:","Žerotínova 87"]
[null,null,null,null,null,"areál Na Bělidle"]
[null,null,null,null,null,"787 01 Šumperk"]
[null,null,null,null,"Region:",{"$f":"[1]Úvod!$G$7","v":"Šumperk"}]
["Stará 205 , 789 61, Bludov",null,"www.parapetyrs.cz",null,"Vyhotovil:",{"$f":"[1]Úvod!$G$8","v":"Baženov"}]
[]
["Ceník hotových okenních sítí pro firmu"]
[{"$f":"'[1]Sítě Ok'!$G$4","v":"INTERNET "}]
[]
["Typ:","Hotové OKENNÍ SÍTĚ - Zhotovení okenních sítí dle požadavku zákazníka "]
["Dekory:","Bílá RAL 9016, Tmavě hnědá RAL 8019, Světle hnědá RAL 8003 a nástřik v různých odstínech RAL"]
["Renolity (standard):","Zlatý dub 01, Ořech 02, Tmavý dub 03, Bahenní dub 14, Sorento balsamico 20, Macoré 06,      Cherry amaretto 10, Douglas 05, Mahagon 04, Black cherry 17, Světlý dub 18, Irský dub 07,     Winchester 16, Oregon 08, Antracitová šedá 19, Šedá 13, Rustikální dub 15"]
["Typ:","Dekor:","Cena za m²"]
[null,null,"do 0,49 m²","0,5 - 0,74 m²","0,75 - 0,99 m²","1 - 1,49 m²","nad 1,5 m²"]
["OV 25x10","Bílá, hnědá, I.D.",{"$f":"IF($B$45=\"NE\",\"NE\",'[1]Sítě Ok'!$I$9)","v":640},{"$f":"IF($B$45=\"NE\",\"NE\",'[1]Sítě Ok'!$I$10)","v":593},{"$f":"IF($B$45=\"NE\",\"NE\",'[1]Sítě Ok'!$I$11)","v":536},{"$f":"IF($B$45=\"NE\",\"NE\",'[1]Sítě Ok'!$I$12)","v":481},{"$f":"IF($B$45=\"NE\",\"NE\",'[1]Sítě Ok'!$I$13)","v":474}]
[null,"RAL lakování (LESK)",{"$f":"IF($B$45=\"NE\",\"NE\",'[1]Sítě Ok'!$I$9+'[1]Sítě Ok'!$I$77)","v":890},{"$f":"IF($B$45=\"NE\",\"NE\",'[1]Sítě Ok'!$I$10+'[1]Sítě Ok'!$I$77)","v":843},{"$f":"IF($B$45=\"NE\",\"NE\",'[1]Sítě Ok'!$I$11+'[1]Sítě Ok'!$I$77)","v":786},{"$f":"IF($B$45=\"NE\",\"NE\",'[1]Sítě Ok'!$I$12+'[1]Sítě Ok'!$I$77)","v":731},{"$f":"IF($B$45=\"NE\",\"NE\",'[1]Sítě Ok'!$I$13+'[1]Sítě Ok'!$I$77)","v":724}]
[]
["ISSO OV 25x10","Bílá, hnědá, I.D.",{"$f":"IF($B$45=\"NE\",\"NE\",'[1]Sítě Ok'!$I$18)","v":716},{"$f":"IF($B$45=\"NE\",\"NE\",'[1]Sítě Ok'!$I$19)","v":656},{"$f":"IF($B$45=\"NE\",\"NE\",'[1]Sítě Ok'!$I$20)","v":587},{"$f":"IF($B$45=\"NE\",\"NE\",'[1]Sítě Ok'!$I$21)","v":519},{"$f":"IF($B$45=\"NE\",\"NE\",'[1]Sítě Ok'!$I$22)","v":506}]
[null,"RAL lakování (LESK)",{"$f":"IF($B$45=\"NE\",\"NE\",'[1]Sítě Ok'!$I$18+'[1]Sítě Ok'!$I$77)","v":966},{"$f":"IF($B$45=\"NE\",\"NE\",'[1]Sítě Ok'!$I$19+'[1]Sítě Ok'!$I$77)","v":906},{"$f":"IF($B$45=\"NE\",\"NE\",'[1]Sítě Ok'!$I$20+'[1]Sítě Ok'!$I$77)","v":837},{"$f":"IF($B$45=\"NE\",\"NE\",'[1]Sítě Ok'!$I$21+'[1]Sítě Ok'!$I$77)","v":769},{"$f":"IF($B$45=\"NE\",\"NE\",'[1]Sítě Ok'!$I$22+'[1]Sítě Ok'!$I$77)","v":756}]
[null,"\"Šikmina\""]
["OE 24x24","Bílá, hnědá",{"$f":"IF($B$45=\"NE\",\"NE\",'[1]Sítě Ok'!$I$27)","v":802},{"$f":"IF($B$45=\"NE\",\"NE\",'[1]Sítě Ok'!$I$28)","v":756},{"$f":"IF($B$45=\"NE\",\"NE\",'[1]Sítě Ok'!$I$29)","v":687},{"$f":"IF($B$45=\"NE\",\"NE\",'[1]Sítě Ok'!$I$30)","v":619},{"$f":"IF($B$45=\"NE\",\"NE\",'[1]Sítě Ok'!$I$31)","v":610}]
[null,"RAL lakování (LESK)",{"$f":"IF($B$45=\"NE\",\"NE\",'[1]Sítě Ok'!$I$27+'[1]Sítě Ok'!$I$77)","v":1052},{"$f":"IF($B$45=\"NE\",\"NE\",'[1]Sítě Ok'!$I$28+'[1]Sítě Ok'!$I$77)","v":1006},{"$f":"IF($B$45=\"NE\",\"NE\",'[1]Sítě Ok'!$I$29+'[1]Sítě Ok'!$I$77)","v":937},{"$f":"IF($B$45=\"NE\",\"NE\",'[1]Sítě Ok'!$I$30+'[1]Sítě Ok'!$I$77)","v":869},{"$f":"IF($B$45=\"NE\",\"NE\",'[1]Sítě Ok'!$I$31+'[1]Sítě Ok'!$I$77)","v":860}]
[null,"Renolit",{"$f":"IF($B$45=\"NE\",\"NE\",'[1]Sítě Ok'!$I$27+'[1]Sítě Ok'!$I$74)","v":1402},{"$f":"IF($B$45=\"NE\",\"NE\",'[1]Sítě Ok'!$I$28+'[1]Sítě Ok'!$I$74)","v":1356},{"$f":"IF($B$45=\"NE\",\"NE\",'[1]Sítě Ok'!$I$29+'[1]Sítě Ok'!$I$74)","v":1287},{"$f":"IF($B$45=\"NE\",\"NE\",'[1]Sítě Ok'!$I$30+'[1]Sítě Ok'!$I$74)","v":1219},{"$f":"IF($B$45=\"NE\",\"NE\",'[1]Sítě Ok'!$I$31+'[1]Sítě Ok'!$I$74)","v":1210}]
["ISSO OE 33x6","Bílá,Hnědá,RAL8003,RAL7016",{"$f":"IF($B$45=\"NE\",\"NE\",'[1]Sítě Ok'!$I$46)","v":722},{"$f":"IF($B$45=\"NE\",\"NE\",'[1]Sítě Ok'!$I$47)","v":666},{"$f":"IF($B$45=\"NE\",\"NE\",'[1]Sítě Ok'!$I$48)","v":597},{"$f":"IF($B$45=\"NE\",\"NE\",'[1]Sítě Ok'!$I$49)","v":530},{"$f":"IF($B$45=\"NE\",\"NE\",'[1]Sítě Ok'!$I$50)","v":519}]
[null,"RAL lakování (LESK)",{"$f":"IF($B$45=\"NE\",\"NE\",'[1]Sítě Ok'!$I$46+'[1]Sítě Ok'!$I$77)","v":972},{"$f":"IF($B$45=\"NE\",\"NE\",'[1]Sítě Ok'!$I$47+'[1]Sítě Ok'!$I$77)","v":916},{"$f":"IF($B$45=\"NE\",\"NE\",'[1]Sítě Ok'!$I$48+'[1]Sítě Ok'!$I$77)","v":847},{"$f":"IF($B$45=\"NE\",\"NE\",'[1]Sítě Ok'!$I$49+'[1]Sítě Ok'!$I$77)","v":780},{"$f":"IF($B$45=\"NE\",\"NE\",'[1]Sítě Ok'!$I$50+'[1]Sítě Ok'!$I$77)","v":769}]
[null,"Renolit",{"$f":"IF($B$45=\"NE\",\"NE\",'[1]Sítě Ok'!$I$46+'[1]Sítě Ok'!$I$74)","v":1322},{"$f":"IF($B$45=\"NE\",\"NE\",'[1]Sítě Ok'!$I$47+'[1]Sítě Ok'!$I$74)","v":1266},{"$f":"IF($B$45=\"NE\",\"NE\",'[1]Sítě Ok'!$I$48+'[1]Sítě Ok'!$I$74)","v":1197},{"$f":"IF($B$45=\"NE\",\"NE\",'[1]Sítě Ok'!$I$49+'[1]Sítě Ok'!$I$74)","v":1130},{"$f":"IF($B$45=\"NE\",\"NE\",'[1]Sítě Ok'!$I$50+'[1]Sítě Ok'!$I$74)","v":1119}]
[null,"\"Šikmina\""]
["ISSO OE 25x10","Bílá,Hnědá,RAL8003,RAL7016",{"$f":"IF($B$45=\"NE\",\"NE\",'[1]Sítě Ok'!$I$55)","v":722},{"$f":"IF($B$45=\"NE\",\"NE\",'[1]Sítě Ok'!$I$56)","v":666},{"$f":"IF($B$45=\"NE\",\"NE\",'[1]Sítě Ok'!$I$57)","v":597},{"$f":"IF($B$45=\"NE\",\"NE\",'[1]Sítě Ok'!$I$58)","v":530},{"$f":"IF($B$45=\"NE\",\"NE\",'[1]Sítě Ok'!$I$59)","v":519}]
[null,"RAL lakování (LESK)",{"$f":"IF($B$45=\"NE\",\"NE\",'[1]Sítě Ok'!$I$55+'[1]Sítě Ok'!$I$77)","v":972},{"$f":"IF($B$45=\"NE\",\"NE\",'[1]Sítě Ok'!$I$56+'[1]Sítě Ok'!$I$77)","v":916},{"$f":"IF($B$45=\"NE\",\"NE\",'[1]Sítě Ok'!$I$57+'[1]Sítě Ok'!$I$77)","v":847},{"$f":"IF($B$45=\"NE\",\"NE\",'[1]Sítě Ok'!$I$58+'[1]Sítě Ok'!$I$77)","v":780},{"$f":"IF($B$45=\"NE\",\"NE\",'[1]Sítě Ok'!$I$59+'[1]Sítě Ok'!$I$77)","v":769}]
[null,"Renolit",{"$f":"IF($B$45=\"NE\",\"NE\",'[1]Sítě Ok'!$I$55+'[1]Sítě Ok'!$I$74)","v":1322},{"$f":"IF($B$45=\"NE\",\"NE\",'[1]Sítě Ok'!$I$56+'[1]Sítě Ok'!$I$74)","v":1266},{"$f":"IF($B$45=\"NE\",\"NE\",'[1]Sítě Ok'!$I$57+'[1]Sítě Ok'!$I$74)","v":1197},{"$f":"IF($B$45=\"NE\",\"NE\",'[1]Sítě Ok'!$I$58+'[1]Sítě Ok'!$I$74)","v":1130},{"$f":"IF($B$45=\"NE\",\"NE\",'[1]Sítě Ok'!$I$59+'[1]Sítě Ok'!$I$74)","v":1119}]
["ISSO OE 37x10","Bílá,hnědá",{"$f":"IF($B$45=\"NE\",\"NE\",'[1]Sítě Ok'!$I$64)","v":722},{"$f":"IF($B$45=\"NE\",\"NE\",'[1]Sítě Ok'!$I$65)","v":666},{"$f":"IF($B$45=\"NE\",\"NE\",'[1]Sítě Ok'!$I$66)","v":597},{"$f":"IF($B$45=\"NE\",\"NE\",'[1]Sítě Ok'!$I$67)","v":530},{"$f":"IF($B$45=\"NE\",\"NE\",'[1]Sítě Ok'!$I$68)","v":519}]
[null,"RAL lakování (LESK)",{"$f":"IF($B$45=\"NE\",\"NE\",'[1]Sítě Ok'!$I$64+'[1]Sítě Ok'!$I$77)","v":972},{"$f":"IF($B$45=\"NE\",\"NE\",'[1]Sítě Ok'!$I$65+'[1]Sítě Ok'!$I$77)","v":916},{"$f":"IF($B$45=\"NE\",\"NE\",'[1]Sítě Ok'!$I$66+'[1]Sítě Ok'!$I$77)","v":847},{"$f":"IF($B$45=\"NE\",\"NE\",'[1]Sítě Ok'!$I$67+'[1]Sítě Ok'!$I$77)","v":780},{"$f":"IF($B$45=\"NE\",\"NE\",'[1]Sítě Ok'!$I$68+'[1]Sítě Ok'!$I$77)","v":769}]
[null,"Renolit",{"$f":"IF($B$45=\"NE\",\"NE\",'[1]Sítě Ok'!$I$64+'[1]Sítě Ok'!$I$74)","v":1322},{"$f":"IF($B$45=\"NE\",\"NE\",'[1]Sítě Ok'!$I$65+'[1]Sítě Ok'!$I$74)","v":1266},{"$f":"IF($B$45=\"NE\",\"NE\",'[1]Sítě Ok'!$I$66+'[1]Sítě Ok'!$I$74)","v":1197},{"$f":"IF($B$45=\"NE\",\"NE\",'[1]Sítě Ok'!$I$67+'[1]Sítě Ok'!$I$74)","v":1130},{"$f":"IF($B$45=\"NE\",\"NE\",'[1]Sítě Ok'!$I$68+'[1]Sítě Ok'!$I$74)","v":1119}]
[]
["Příplatky:"]
["Šikmina",null,null,null,null,{"$f":"IF($B$45=\"NE\",\"NE\",'[1]Sítě Ok'!$I$73)","v":400},"/ks"]
["Samolepící těsnící kartáček (/bm)",null,null,null,null,{"$f":"IF($B$45=\"NE\",\"NE\",'[1]Sítě Ok'!$I$75)","v":15},"/bm"]
["\"Z\" držák/pár",null,null,null,null,{"$f":"IF($B$45=\"NE\",\"NE\",'[1]Sítě Ok'!$I$76)","v":20},"/pár"]
["Nestandardní renolit (účtuje se za každý typ profilu, u OE je 1 profil)",null,null,null,null,{"$f":"IF($B$45=\"NE\",\"NE\",'[1]Sítě Ok'!$I$78)","v":850},"/profil"]
["Uvedené ceny jsou bez DPH."]
[]
["Tolerance výrobních rozměrů je 3mm, maximální povolený průhyb je 5mm (měřeno v 1/2 rozměru)."]
["Minimální účtovatelný rozměr je 0,49 m² !!!"]
[]
["Platnost od:",{"$f":"'[1]Sítě Ok'!$B$4","v":"2018-10-16"},null,null,null,{"$f":"[1]Úvod!$K$4","v":3},{"$f":"[1]Úvod!$L$4","v":"SÍTĚ O-D"}]
[]
[]
["Bankovní spojení:",null,"IČ: 69204705",null,null,"TEL: 583/284070"]
["KB Šumperk",null,"DIČ: CZ7204215799",null,null,"FAX: 583/238875"]
["č.ú. 43-5137000207/0100",null,"mail: objednavky@parapetyrs.cz",null,null,"MOBIL: 777/238872"]

{"sheet":"Objednávka","index":1,"n_rows":71,"n_cols":36,"rows_kept":71,"cut":false,"hidden":false,"merged":[[9,1,10,1],[8,1,8,6],[9,18,10,19],[2,7,2,9],[3,7,3,9],[4,7,4,8],[5,7,5,8],[7,14,8,14],[8,7,8,8],[8,9,8,12],[0,0,0,19],[7,13,8,13],[6,17,6,19],[7,17,7,19],[8,17,8,19],[2,13,2,14],[7,7,7,8],[7,9,7,12],[2,0,2,1],[2,18,2,19],[4,1,4,6],[5,1,5,6],[3,1,3,6],[3,18,3,19],[4,18,4,19],[5,17,5,19],[21,18,21,19],[18,18,18,19],[13,2,13,3],[13,4,13,5],[18,11,18,12],[12,11,12,12],[12,18,12,19],[9,15,10,15],[11,18,11,19],[10,4,10,5],[9,17,10,17],[9,13,10,13],[9,14,10,14],[9,7,10,7],[9,8,10,8],[9,11,10,12],[9,9,10,10],[9,16,10,16],[11,11,11,12],[12,2,12,3],[12,4,12,5],[9,2,9,5],[9,6,10,6],[11,2,11,3],[9,0,10,0],[6,1,6,6],[7,1,7,6],[5,9,5,12],[4,9,4,12],[29,18,29,19],[30,6,30,7],[30,18,30,19],[30,11,30,12],[27,18,27,19],[28,6,28,7],[28,9,28,10],[28,11,28,12],[28,18,28,19],[25,18,25,19],[26,6,26,7],[26,9,26,10],[26,11,26,12],[26,18,26,19],[24,18,24,19],[25,11,25,12],[22,18,22,19],[22,11,22,12],[19,18,19,19],[17,4,17,5],[17,2,17,3],[33,18,33,19],[31,6,31,7],[31,9,31,10],[31,11,31,12],[31,18,31,19],[32,6,32,7],[32,9,32,10],[32,11,32,12],[32,18,32,19],[33,6,33,7],[23,2,23,3],[23,4,23,5],[23,11,23,12],[23,18,23,19],[21,2,21,3],[20,11,20,12],[20,2,20,3],[20,18,20,19],[19,11,19,12],[21,11,21,12],[17,11,17,12],[17,18,17,19],[16,18,16,19],[13,18,13,19],[14,11,14,12],[16,2,16,3],[16,11,16,12],[15,2,15,3],[15,4,15,5],[6,9,6,12],[16,4,16,5],[14,4,14,5],[15,11,15,12],[14,2,14,3],[6,7,6,8],[10,2,10,3],[13,11,13,12],[15,18,15,19],[14,18,14,19],[11,4,11,5],[18,4,18,5],[35,6,35,7],[36,6,36,7],[22,2,22,3],[22,4,22,5],[24,2,24,3],[24,4,24,5],[33,11,33,12],[27,6,27,7],[27,9,27,10],[27,11,27,12],[24,11,24,12],[29,6,29,7],[29,9,29,10],[29,11,29,12],[19,2,19,3],[19,4,19,5],[18,2,18,3],[25,2,25,3],[25,4,25,5],[48,6,48,7],[49,6,49,7],[50,6,50,7],[47,6,47,7],[21,4,21,5],[20,4,20,5],[40,6,40,7],[41,6,41,7],[42,6,42,7],[43,6,43,7],[44,6,44,7],[45,6,45,7],[46,6,46,7],[37,6,37,7],[38,6,38,7],[39,6,39,7],[69,6,69,7],[70,6,70,7],[67,6,67,7],[68,6,68,7],[53,6,53,7],[54,6,54,7],[56,6,56,7],[60,6,60,7],[61,6,61,7],[62,6,62,7],[65,6,65,7],[66,6,66,7],[55,6,55,7],[63,6,63,7]]}
["Objednávka – Sítě proti hmyzu"]
[]
["Objednatel:",null,null,null,null,null,null,"List č. 1  z  1",null,null,null,null,null,"Souhrn objednávky:"]
[null,{"$f":"'Okenní sítě'!A8","v":"INTERNET "},null,null,null,null,null,"(příklad: List č. 1   z.  5)",null,null,null,null,null,"Platnost od:",{"$f":"'Okenní sítě'!$B$45","v":"2018-10-16"}]
[null,null,null,null,null,null,null,"Datum objednání:",null,null,null,null,null,"Plocha m²:",{"$f":"SUM($G$12*$P$12)+($G$13*$P$13)+($G$14*$P$14)+($G$15*$P$15)+($G$16*$P$16)+($G$17*$P$17)+($G$18*$P$18)+($G$19*$P$19)+($G$20*$P$20)+($G$21*$P$21)+($G$22*$P$22)+($G$23*$P$23)+($G$24*$P$24)+($G$25*$P$25)+($G$26*$P$26)","v":0}]
[null,null,null,null,null,null,null,"Datum dodání:",null,null,null,null,null,"Kusů:",{"$f":"SUM($G$12:$G$26)","v":0},null,null,"Stará 205, 789 61, Bludov"]
["IČ:",null,null,null,null,null,null,"Adresa dodání:",null,null,null,null,null,"Rabat, marže:",0,null,null,"Provozovna:"]
[null,null,null,null,null,null,null,"Kontakt:",null,null,null,null,null,"Přibližná cena bez DPH:",{"$f":"SUM($R$12:$R$26)","v":0},null,null,"ul. Žerotínova 87, 787 01, Šumperk",null,null,null,null,null,null,null,null,null,null,null,null,null,null,"Příplatek šikmina"]
[null,null,null,null,null,null,null,"Zakázka:",null,null,null,null,null,null,null,null,null,"bývalý areál Moravolenu (Bělidlo)",null,null,null,null,null,null,null,null,null,null,null,null,null,null,0]
["Pozice","Typ","Rozměr (mm)",null,null,null,"ks","Barva","Barva síťoviny","Uchycení a doplňky okenní sítě",null,"Uchycení a doplňky sítě",null,"Typ kartáčku","Délka kartáčku(m)","Síť m2","Cena kus","Cena celkem","Poznámka"]
[null,null,"šířka",null,"výška",null,null,null,null,null,null,null,null,null,null,null,null,null,null,null,null,null,null,null,null,"Plocha index","Typ index","BarvaIndex","Cena za m2","Rozměr sitě","Cena site","Z držák","Šikmina","Šikmina + rabat","Cena kartáček","Cena celkem"]
[null,null,null,null,null,null,null,null,null,null,null,null,null,null,null,{"$f":"SUM(C12*E12)/1000000","v":0},{"$f":"IF(OR(AJ12=0,H12=\"\"),\"\",AJ12)","v":""},{"$f":"IF(Q12=\"\",\"\",Q12 * IF(G12=\"\",1,G12))","v":""},null,null,null,null,null,null,null,{"$f":"IF(P12 < 0.5,3,IF(P12<0.75,4,IF(P12<1,5,IF(P12<1.5,6,7))))","v":3},{"$f":"MATCH(B12,'Okenní sítě'!$A$14:$A$33,0)","v":{"$error":"#N/A"}},{"$f":"IF(OR(H12=$G$30,H12=$G$38),1,IF(H12=$G$31,2,0))","v":1},{"$f":"ROUND(INDEX('Okenní sítě'!$A$14:$G$33,AA12 + AB12,Z12),0)","v":{"$error":"#N/A"}},{"$f":"IF(P12 < 0.49,IF(P12>0,0.49,0),P12)","v":0},{"$f":"ROUND((AC12*AD12) + ((AC12*AD12)*$O$7),0)","v":{"$error":"#N/A"}},{"$f":"ROUND(IF(J12=\"\"\"Z\"\"\", 'Okenní sítě'!$F$38*2,0),0)","v":0},{"$f":"(IF(B12<>$B$29,IF(B12<>$B$31,IF(B12<>$B$34,0,$AG$9),$AG$9),$AG$9) * AD12)","v":0},{"$f":"AG12 +AG12*$O$7","v":0},{"$f":"ROUND(IF(O12=\"\",0,O12*'Okenní sítě'!$F$37),0)","v":0},{"$f":"SUM(IF(ISNA(AE12),0,AE12),IF(ISNA(AF12),0,AF12),AH12,AI12)","v":0}]
[null,null,null,null,null,null,null,null,null,null,null,null,null,null,null,{"$f":"SUM(C13*E13)/1000000","v":0},{"$f":"IF(OR(AJ13=0,H13=\"\"),\"\",AJ13)","v":""},{"$f":"IF(Q13=\"\",\"\",Q13 * IF(G13=\"\",1,G13))","v":""},null,null,null,null,null,null,null,{"$f":"IF(P13 < 0.5,3,IF(P13<0.75,4,IF(P13<1,5,IF(P13<1.5,6,7))))","v":3},{"$f":"MATCH(B13,'Okenní sítě'!$A$14:$A$33,0)","v":{"$error":"#N/A"}},{"$f":"IF(OR(H13=$G$30,H13=$G$38),1,IF(H13=$G$31,2,0))","v":1},{"$f":"ROUND(INDEX('Okenní sítě'!$A$14:$G$33,AA13 + AB13,Z13),0)","v":{"$error":"#N/A"}},{"$f":"IF(P13 < 0.49,IF(P13>0,0.49,0),P13)","v":0},{"$f":"ROUND((AC13*AD13) + ((AC13*AD13)*$O$7),0)","v":{"$error":"#N/A"}},{"$f":"ROUND(IF(J13=\"\"\"Z\"\"\", 'Okenní sítě'!$F$38*2,0),0)","v":0},{"$f":"(IF(B13<>$B$29,IF(B13<>$B$31,IF(B13<>$B$34,0,$AG$9),$AG$9),$AG$9) * AD13)","v":0},{"$f":"AG13 +AG13*$O$7","v":0},{"$f":"ROUND(IF(O13=\"\",0,O13*'Okenní sítě'!$F$37),0)","v":0},{"$f":"SUM(IF(ISNA(AE13),0,AE13),IF(ISNA(AF13),0,AF13),AH13,AI13)","v":0}]
[null,null,null,null,null,null,null,null,null,null,null,null,null,null,null,0,"","",null,null,null,null,null,null,null,3,{"$f":"MATCH(B14,'Okenní sítě'!$A$14:$A$33,0)","v":{"$error":"#N/A"}},1,{"$f":"ROUND(INDEX('Okenní sítě'!$A$14:$G$33,AA14 + AB14,Z14),0)","v":{"$error":"#N/A"}},0,{"$error":"#N/A"},{"$f":"ROUND(IF(J14=\"\"\"Z\"\"\", 'Okenní sítě'!$F$38*2,0),0)","v":0},0,0,{"$f":"ROUND(IF(O14=\"\",0,O14*'Okenní sítě'!$F$37),0)","v":0},0]
[null,null,null,null,null,null,null,null,null,null,null,null,null,null,null,0,"","",null,null,null,null,null,null,null,3,{"$f":"MATCH(B15,'Okenní sítě'!$A$14:$A$33,0)","v":{"$error":"#N/A"}},1,{"$f":"ROUND(INDEX('Okenní sítě'!$A$14:$G$33,AA15 + AB15,Z15),0)","v":{"$error":"#N/A"}},0,{"$error":"#N/A"},{"$f":"ROUND(IF(J15=\"\"\"Z\"\"\", 'Okenní sítě'!$F$38*2,0),0)","v":0},0,0,{"$f":"ROUND(IF(O15=\"\",0,O15*'Okenní sítě'!$F$37),0)","v":0},0]
[null,null,null,null,null,null,null,null,null,null,null,null,null,null,null,0,"","",null,null,null,null,null,null,null,3,{"$f":"MATCH(B16,'Okenní sítě'!$A$14:$A$33,0)","v":{"$error":"#N/A"}},1,{"$f":"ROUND(INDEX('Okenní sítě'!$A$14:$G$33,AA16 + AB16,Z16),0)","v":{"$error":"#N/A"}},0,{"$error":"#N/A"},{"$f":"ROUND(IF(J16=\"\"\"Z\"\"\", 'Okenní sítě'!$F$38*2,0),0)","v":0},0,0,{"$f":"ROUND(IF(O16=\"\",0,O16*'Okenní sítě'!$F$37),0)","v":0},0]
[null,null,null,null,null,null,null,null,null,null,null,null,null,null,null,0,"","",null,null,null,null,null,null,null,3,{"$f":"MATCH(B17,'Okenní sítě'!$A$14:$A$33,0)","v":{"$error":"#N/A"}},1,{"$f":"ROUND(INDEX('Okenní sítě'!$A$14:$G$33,AA17 + AB17,Z17),0)","v":{"$error":"#N/A"}},0,{"$error":"#N/A"},{"$f":"ROUND(IF(J17=\"\"\"Z\"\"\", 'Okenní sítě'!$F$38*2,0),0)","v":0},0,0,{"$f":"ROUND(IF(O17=\"\",0,O17*'Okenní sítě'!$F$37),0)","v":0},0]
[null,null,null,null,null,null,null,null,null,null,null,null,null,null,null,0,"","",null,null,null,null,null,null,null,3,{"$f":"MATCH(B18,'Okenní sítě'!$A$14:$A$33,0)","v":{"$error":"#N/A"}},1,{"$f":"ROUND(INDEX('Okenní sítě'!$A$14:$G$33,AA18 + AB18,Z18),0)","v":{"$error":"#N/A"}},0,{"$error":"#N/A"},{"$f":"ROUND(IF(J18=\"\"\"Z\"\"\", 'Okenní sítě'!$F$38*2,0),0)","v":0},0,0,{"$f":"ROUND(IF(O18=\"\",0,O18*'Okenní sítě'!$F$37),0)","v":0},0]
[null,null,null,null,null,null,null,null,null,null,null,null,null,null,null,0,"","",null,null,null,null,null,null,null,3,{"$f":"MATCH(B19,'Okenní sítě'!$A$14:$A$33,0)","v":{"$error":"#N/A"}},1,{"$f":"ROUND(INDEX('Okenní sítě'!$A$14:$G$33,AA19 + AB19,Z19),0)","v":{"$error":"#N/A"}},0,{"$error":"#N/A"},{"$f":"ROUND(IF(J19=\"\"\"Z\"\"\", 'Okenní sítě'!$F$38*2,0),0)","v":0},0,0,{"$f":"ROUND(IF(O19=\"\",0,O19*'Okenní sítě'!$F$37),0)","v":0},0]
[null,null,null,null,null,null,null,null,null,null,null,null,null,null,null,0,"","",null,null,null,null,null,null,null,3,{"$f":"MATCH(B20,'Okenní sítě'!$A$14:$A$33,0)","v":{"$error":"#N/A"}},1,{"$f":"ROUND(INDEX('Okenní sítě'!$A$14:$G$33,AA20 + AB20,Z20),0)","v":{"$error":"#N/A"}},0,{"$error":"#N/A"},{"$f":"ROUND(IF(J20=\"\"\"Z\"\"\", 'Okenní sítě'!$F$38*2,0),0)","v":0},0,0,{"$f":"ROUND(IF(O20=\"\",0,O20*'Okenní sítě'!$F$37),0)","v":0},0]
[null,null,null,null,null,null,null,null,null,null,null,null,null,null,null,0,"","",null,null,null,null,null,null,null,3,{"$f":"MATCH(B21,'Okenní sítě'!$A$14:$A$33,0)","v":{"$error":"#N/A"}},1,{"$f":"ROUND(INDEX('Okenní sítě'!$A$14:$G$33,AA21 + AB21,Z21),0)","v":{"$error":"#N/A"}},0,{"$error":"#N/A"},{"$f":"ROUND(IF(J21=\"\"\"Z\"\"\", 'Okenní sítě'!$F$38*2,0),0)","v":0},0,0,{"$f":"ROUND(IF(O21=\"\",0,O21*'Okenní sítě'!$F$37),0)","v":0},0]
[null,null,null,null,null,null,null,null,null,null,null,null,null,null,null,0,"","",null,null,null,null,null,null,null,3,{"$f":"MATCH(B22,'Okenní sítě'!$A$14:$A$33,0)","v":{"$error":"#N/A"}},1,{"$f":"ROUND(INDEX('Okenní sítě'!$A$14:$G$33,AA22 + AB22,Z22),0)","v":{"$error":"#N/A"}},0,{"$error":"#N/A"},{"$f":"ROUND(IF(J22=\"\"\"Z\"\"\", 'Okenní sítě'!$F$38*2,0),0)","v":0},0,0,{"$f":"ROUND(IF(O22=\"\",0,O22*'Okenní sítě'!$F$37),0)","v":0},0]
[null,null,null,null,null,null,null,null,null,null,null,null,null,null,null,0,"","",null,null,null,null,null,null,null,3,{"$f":"MATCH(B23,'Okenní sítě'!$A$14:$A$33,0)","v":{"$error":"#N/A"}},1,{"$f":"ROUND(INDEX('Okenní sítě'!$A$14:$G$33,AA23 + AB23,Z23),0)","v":{"$error":"#N/A"}},0,{"$error":"#N/A"},{"$f":"ROUND(IF(J23=\"\"\"Z\"\"\", 'Okenní sítě'!$F$38*2,0),0)","v":0},0,0,{"$f":"ROUND(IF(O23=\"\",0,O23*'Okenní sítě'!$F$37),0)","v":0},0]
[null,null,null,null,null,null,null,null,null,null,null,null,null,null,null,0,"","",null,null,null,null,null,null,null,3,{"$f":"MATCH(B24,'Okenní sítě'!$A$14:$A$33,0)","v":{"$error":"#N/A"}},1,{"$f":"ROUND(INDEX('Okenní sítě'!$A$14:$G$33,AA24 + AB24,Z24),0)","v":{"$error":"#N/A"}},0,{"$error":"#N/A"},{"$f":"ROUND(IF(J24=\"\"\"Z\"\"\", 'Okenní sítě'!$F$38*2,0),0)","v":0},0,0,{"$f":"ROUND(IF(O24=\"\",0,O24*'Okenní sítě'!$F$37),0)","v":0},0]
[null,null,null,null,null,null,null,null,null,null,null,null,null,null,null,0,"","",null,null,null,null,null,null,null,3,{"$f":"MATCH(B25,'Okenní sítě'!$A$14:$A$33,0)","v":{"$error":"#N/A"}},1,{"$f":"ROUND(INDEX('Okenní sítě'!$A$14:$G$33,AA25 + AB25,Z25),0)","v":{"$error":"#N/A"}},0,{"$error":"#N/A"},{"$f":"ROUND(IF(J25=\"\"\"Z\"\"\", 'Okenní sítě'!$F$38*2,0),0)","v":0},0,0,{"$f":"ROUND(IF(O25=\"\",0,O25*'Okenní sítě'!$F$37),0)","v":0},0]
[null,null,null,null,null,null,null,null,null,null,null,null,null,null,null,0,"","",null,null,null,null,null,null,null,3,{"$f":"MATCH(B26,'Okenní sítě'!$A$14:$A$33,0)","v":{"$error":"#N/A"}},1,{"$f":"ROUND(INDEX('Okenní sítě'!$A$14:$G$33,AA26 + AB26,Z26),0)","v":{"$error":"#N/A"}},0,{"$error":"#N/A"},{"$f":"ROUND(IF(J26=\"\"\"Z\"\"\", 'Okenní sítě'!$F$38*2,0),0)","v":0},0,0,{"$f":"ROUND(IF(O26=\"\",0,O26*'Okenní sítě'!$F$37),0)","v":0},0]
[null,"Typ:",null,null,null,null,"Barva:",null,"Barva","Uchycení a doplňky",null,"Uchycení a doplňky",null,"Typ kartáčku:","Tento formulář slouží pro objednávání zboží a výpočet ceny je",null,null,null,"Poznámka:"]
[null,"ISSO OE 33x6",null,null,null,null,"Bílá",null,"síťoviny:","okenní sítě:",null,"sítě:",null,"Malý","pouze orientační. Výslednou cenu si prosím zkontrolujte podle ",null,null,null,"V poznámce uvádíme"]
[null,"ISSO OE 25x10",null,null,null,null,"Hnědá",null,"Š – šedá","O-Obrtlík-1,8,10",null,"2mm PP",null,"Střední","platných ceníků. Za chyby ve výpočtu neneseme žádnou",null,null,null,"všechny nestandardní"]
[null,"ISSO OV 25x10",null,null,null,null,"Ral lakování",null,"Č - černá","O.D.-Otočný držák",null,"4mm PP",null,"Velký","zodpovědnost.",null,null,null,"požadavky a úpravy"]
[null,"OV 25x10",null,null,null,null,"Renolit",null,null,"0,4,6,7,9,11,13,15,17,32",null,null,null,null,"Zde objednávejte pouze standardní zboží. ",null,null,null,"Upřesnění Renolitu nebo RAL"]
[null,"OE 24x24",null,null,null,null,"Imitace dřeva",null,null,"Z - „Z“ držák-10,15,17"]
[null,"ISSO OE 37x10",null,null,null,null,"RAL 8003",null,null,"Druhý sloupec:"]
[null,null,null,null,null,null,null,null,null,"Jejich velikost"]
[]
[]
[]
[]
[]
[]
[]
[]
[]
[]
[]
[]
[]
[]
[]
[]
[]
[]
[]
["Klíč:","ISSO OV 25x10",null,null,null,null,"Bílá",null,null,"Obrtlík"]
[null,"OV 25x10",null,null,null,null,"Hnědá",null,null,"O.D."]
[null,null,null,null,null,null,"Imitace dřeva",null,null,"\"Z\""]
[null,null,null,null,null,null,"Ral lakování"]
[]
[]
[]
[null,"ISSO OE 37x10",null,null,null,null,"Bílá"]
[null,"OE 24x24",null,null,null,null,"Hnědá"]
[null,null,null,null,null,null,"Ral lakování"]
[null,null,null,null,null,null,"Renolit"]
[]
[null,"ISSO OE 33x6",null,null,null,null,"Bílá"]
[null,"ISSO OE 25x10",null,null,null,null,"Hnědá"]
[null,null,null,null,null,null,"RAL8003"]
[null,null,null,null,null,null,"RAL7016"]
[null,null,null,null,null,null,"Ral lakování"]
[null,null,null,null,null,null,"Renolit"]