{"text_format":"1","workbook":"xlsx","n_sheets":7,"sheets":["ISOLINE","OBJ ISOLINE","PRIM","OBJ PRIM","LOCO","OBJ LOCO","Tabulky"],"not_rendered":{"charts":0,"images":1,"macros":1,"external_links":1,"defined_names":3,"comments":3,"pivot_tables":0},"unopened":[],"bounds":{"document_bytes":16777216,"sheet_cells":100000,"rows_first":2000,"rows_last":500,"rows_between":2000,"halvings":0,"cell_chars":16384,"cell_head_chars":4096},"cells_cut":0,"cells_raw":0,"read":"whole","date_system":"1900"}

{"sheet":"ISOLINE","index":0,"n_rows":60,"n_cols":21,"rows_kept":60,"cut":false,"hidden":true,"merged":[[43,0,43,17],[44,0,44,17],[46,18,46,19],[47,18,47,19],[3,15,3,16],[4,15,4,16],[6,0,6,20],[7,0,7,20],[15,0,16,0],[48,18,48,19],[43,18,43,19],[54,3,54,6],[42,18,42,19],[38,19,38,20],[49,18,49,19],[41,0,41,17],[42,0,42,17],[45,0,45,17],[46,0,46,17],[47,0,47,17],[48,0,48,17],[49,0,49,17],[41,18,41,19],[45,18,45,19],[44,18,44,19]]}
[null,null,null,null,null,null,null,null,null,null,null,null,null,null,"PROVOZOVNA:","Žerotínova 87"]
[null,null,null,null,null,null,null,null,null,null,null,null,null,null,null,"areál Na Bělidle"]
[null,null,null,null,null,null,null,null,null,null,null,null,null,null,null,"787 01 Šumperk"]
[null,null,null,null,null,null,null,null,null,null,null,null,null,null,"Region:",{"$f":"[1]Úvod!$G$7","v":"Šumperk"}]
["Stará 205 , 789 61, Bludov",null,null,null,null,null,"www.parapetyrs.cz",null,null,null,null,null,null,null,"Vyhotovil:",{"$f":"[1]Úvod!$G$8","v":"Baženov"}]
[]
["Ceník ISOLINE žaluzií pro firmu"]
[{"$f":"'[1]Žaluzie KASKO'!$N$4","v":"INTERNET "}]
[]
["Typ:",null,"Sdružené ovládání pomocí řetízku - barva bílá, stříbrná, béžová, hnědá, světle hnědá"]
[null,null,"Vytahovací páska 0,14 x 5 mm - barva bílá, stříbrná, béžová, hnědá, světle hnědá "]
[null,null,"Horní a spodní profil plechový - bílá RAL 9010 (Al, Fe), stříbrná (RAL 9006 - pouze Fe), hnědá RAL 8017 (Al, Fe)"]
[null,null,"Zlatá (714), Bronzová (700), RAL 1013 (slonová kost), sv. hnědá (RAL 8003 - standard Al, Fe)"]
[null,null,"Antracit RAL 7016,  sv. hnědá (RAL 8004 - pouze Fe, do vyprodání zásob)"]
[]
["Výška",null,null,null,null,null,null,null,null,null,"Šířka"]
[null,30,40,50,60,70,80,90,100,110,120,130,140,150,160,170,180,190,200,210,220]
[30,{"$f":"IF($D$55=\"NE\",\"NE\",'[1]Žaluzie KASKO'!B10)","v":173},{"$f":"IF($D$55=\"NE\",\"NE\",'[1]Žaluzie KASKO'!C10)","v":186},{"$f":"IF($D$55=\"NE\",\"NE\",'[1]Žaluzie KASKO'!D10)","v":199},{"$f":"IF($D$55=\"NE\",\"NE\",'[1]Žaluzie KASKO'!E10)","v":210},{"$f":"IF($D$55=\"NE\",\"NE\",'[1]Žaluzie KASKO'!F10)","v":236},{"$f":"IF($D$55=\"NE\",\"NE\",'[1]Žaluzie KASKO'!G10)","v":248},{"$f":"IF($D$55=\"NE\",\"NE\",'[1]Žaluzie KASKO'!H10)","v":259},{"$f":"IF($D$55=\"NE\",\"NE\",'[1]Žaluzie KASKO'!I10)","v":276},{"$f":"IF($D$55=\"NE\",\"NE\",'[1]Žaluzie KASKO'!J10)","v":288},{"$f":"IF($D$55=\"NE\",\"NE\",'[1]Žaluzie KASKO'!K10)","v":300},{"$f":"IF($D$55=\"NE\",\"NE\",'[1]Žaluzie KASKO'!L10)","v":313},{"$f":"IF($D$55=\"NE\",\"NE\",'[1]Žaluzie KASKO'!M10)","v":343},{"$f":"IF($D$55=\"NE\",\"NE\",'[1]Žaluzie KASKO'!N10)","v":354},{"$f":"IF($D$55=\"NE\",\"NE\",'[1]Žaluzie KASKO'!O10)","v":366},{"$f":"IF($D$55=\"NE\",\"NE\",'[1]Žaluzie KASKO'!P10)","v":379},{"$f":"IF($D$55=\"NE\",\"NE\",'[1]Žaluzie KASKO'!Q10)","v":389},{"$f":"IF($D$55=\"NE\",\"NE\",'[1]Žaluzie KASKO'!R10)","v":403},{"$f":"IF($D$55=\"NE\",\"NE\",'[1]Žaluzie KASKO'!S10)","v":431},{"$f":"IF($D$55=\"NE\",\"NE\",'[1]Žaluzie KASKO'!T10)","v":446},{"$f":"IF($D$55=\"NE\",\"NE\",'[1]Žaluzie KASKO'!U10)","v":456}]
[40,{"$f":"IF($D$55=\"NE\",\"NE\",'[1]Žaluzie KASKO'!B11)","v":182},{"$f":"IF($D$55=\"NE\",\"NE\",'[1]Žaluzie KASKO'!C11)","v":194},{"$f":"IF($D$55=\"NE\",\"NE\",'[1]Žaluzie KASKO'!D11)","v":207},{"$f":"IF($D$55=\"NE\",\"NE\",'[1]Žaluzie KASKO'!E11)","v":221},{"$f":"IF($D$55=\"NE\",\"NE\",'[1]Žaluzie KASKO'!F11)","v":250},{"$f":"IF($D$55=\"NE\",\"NE\",'[1]Žaluzie KASKO'!G11)","v":261},{"$f":"IF($D$55=\"NE\",\"NE\",'[1]Žaluzie KASKO'!H11)","v":276},{"$f":"IF($D$55=\"NE\",\"NE\",'[1]Žaluzie KASKO'!I11)","v":294},{"$f":"IF($D$55=\"NE\",\"NE\",'[1]Žaluzie KASKO'!J11)","v":307},{"$f":"IF($D$55=\"NE\",\"NE\",'[1]Žaluzie KASKO'!K11)","v":320},{"$f":"IF($D$55=\"NE\",\"NE\",'[1]Žaluzie KASKO'!L11)","v":340},{"$f":"IF($D$55=\"NE\",\"NE\",'[1]Žaluzie KASKO'!M11)","v":367},{"$f":"IF($D$55=\"NE\",\"NE\",'[1]Žaluzie KASKO'!N11)","v":382},{"$f":"IF($D$55=\"NE\",\"NE\",'[1]Žaluzie KASKO'!O11)","v":394},{"$f":"IF($D$55=\"NE\",\"NE\",'[1]Žaluzie KASKO'!P11)","v":407},{"$f":"IF($D$55=\"NE\",\"NE\",'[1]Žaluzie KASKO'!Q11)","v":420},{"$f":"IF($D$55=\"NE\",\"NE\",'[1]Žaluzie KASKO'!R11)","v":433},{"$f":"IF($D$55=\"NE\",\"NE\",'[1]Žaluzie KASKO'!S11)","v":467},{"$f":"IF($D$55=\"NE\",\"NE\",'[1]Žaluzie KASKO'!T11)","v":485},{"$f":"IF($D$55=\"NE\",\"NE\",'[1]Žaluzie KASKO'!U11)","v":497}]
[50,{"$f":"IF($D$55=\"NE\",\"NE\",'[1]Žaluzie KASKO'!B12)","v":187},{"$f":"IF($D$55=\"NE\",\"NE\",'[1]Žaluzie KASKO'!C12)","v":200},{"$f":"IF($D$55=\"NE\",\"NE\",'[1]Žaluzie KASKO'!D12)","v":215},{"$f":"IF($D$55=\"NE\",\"NE\",'[1]Žaluzie KASKO'!E12)","v":230},{"$f":"IF($D$55=\"NE\",\"NE\",'[1]Žaluzie KASKO'!F12)","v":259},{"$f":"IF($D$55=\"NE\",\"NE\",'[1]Žaluzie KASKO'!G12)","v":273},{"$f":"IF($D$55=\"NE\",\"NE\",'[1]Žaluzie KASKO'!H12)","v":288},{"$f":"IF($D$55=\"NE\",\"NE\",'[1]Žaluzie KASKO'!I12)","v":309},{"$f":"IF($D$55=\"NE\",\"NE\",'[1]Žaluzie KASKO'!J12)","v":324},{"$f":"IF($D$55=\"NE\",\"NE\",'[1]Žaluzie KASKO'!K12)","v":337},{"$f":"IF($D$55=\"NE\",\"NE\",'[1]Žaluzie KASKO'!L12)","v":352},{"$f":"IF($D$55=\"NE\",\"NE\",'[1]Žaluzie KASKO'!M12)","v":387},{"$f":"IF($D$55=\"NE\",\"NE\",'[1]Žaluzie KASKO'!N12)","v":403},{"$f":"IF($D$55=\"NE\",\"NE\",'[1]Žaluzie KASKO'!O12)","v":418},{"$f":"IF($D$55=\"NE\",\"NE\",'[1]Žaluzie KASKO'!P12)","v":431},{"$f":"IF($D$55=\"NE\",\"NE\",'[1]Žaluzie KASKO'!Q12)","v":446},{"$f":"IF($D$55=\"NE\",\"NE\",'[1]Žaluzie KASKO'!R12)","v":461},{"$f":"IF($D$55=\"NE\",\"NE\",'[1]Žaluzie KASKO'!S12)","v":496},{"$f":"IF($D$55=\"NE\",\"NE\",'[1]Žaluzie KASKO'!T12)","v":511},{"$f":"IF($D$55=\"NE\",\"NE\",'[1]Žaluzie KASKO'!U12)","v":526}]
[60,{"$f":"IF($D$55=\"NE\",\"NE\",'[1]Žaluzie KASKO'!B13)","v":196},{"$f":"IF($D$55=\"NE\",\"NE\",'[1]Žaluzie KASKO'!C13)","v":210},{"$f":"IF($D$55=\"NE\",\"NE\",'[1]Žaluzie KASKO'!D13)","v":224},{"$f":"IF($D$55=\"NE\",\"NE\",'[1]Žaluzie KASKO'!E13)","v":242},{"$f":"IF($D$55=\"NE\",\"NE\",'[1]Žaluzie KASKO'!F13)","v":273},{"$f":"IF($D$55=\"NE\",\"NE\",'[1]Žaluzie KASKO'!G13)","v":288},{"$f":"IF($D$55=\"NE\",\"NE\",'[1]Žaluzie KASKO'!H13)","v":304},{"$f":"IF($D$55=\"NE\",\"NE\",'[1]Žaluzie KASKO'!I13)","v":328},{"$f":"IF($D$55=\"NE\",\"NE\",'[1]Žaluzie KASKO'!J13)","v":344},{"$f":"IF($D$55=\"NE\",\"NE\",'[1]Žaluzie KASKO'!K13)","v":359},{"$f":"IF($D$55=\"NE\",\"NE\",'[1]Žaluzie KASKO'!L13)","v":376},{"$f":"IF($D$55=\"NE\",\"NE\",'[1]Žaluzie KASKO'!M13)","v":415},{"$f":"IF($D$55=\"NE\",\"NE\",'[1]Žaluzie KASKO'!N13)","v":432},{"$f":"IF($D$55=\"NE\",\"NE\",'[1]Žaluzie KASKO'!O13)","v":433},{"$f":"IF($D$55=\"NE\",\"NE\",'[1]Žaluzie KASKO'!P13)","v":462},{"$f":"IF($D$55=\"NE\",\"NE\",'[1]Žaluzie KASKO'!Q13)","v":479},{"$f":"IF($D$55=\"NE\",\"NE\",'[1]Žaluzie KASKO'!R13)","v":493},{"$f":"IF($D$55=\"NE\",\"NE\",'[1]Žaluzie KASKO'!S13)","v":534},{"$f":"IF($D$55=\"NE\",\"NE\",'[1]Žaluzie KASKO'!T13)","v":563},{"$f":"IF($D$55=\"NE\",\"NE\",'[1]Žaluzie KASKO'!U13)","v":573}]
[70,{"$f":"IF($D$55=\"NE\",\"NE\",'[1]Žaluzie KASKO'!B14)","v":204},{"$f":"IF($D$55=\"NE\",\"NE\",'[1]Žaluzie KASKO'!C14)","v":219},{"$f":"IF($D$55=\"NE\",\"NE\",'[1]Žaluzie KASKO'!D14)","v":237},{"$f":"IF($D$55=\"NE\",\"NE\",'[1]Žaluzie KASKO'!E14)","v":256},{"$f":"IF($D$55=\"NE\",\"NE\",'[1]Žaluzie KASKO'!F14)","v":288},{"$f":"IF($D$55=\"NE\",\"NE\",'[1]Žaluzie KASKO'!G14)","v":305},{"$f":"IF($D$55=\"NE\",\"NE\",'[1]Žaluzie KASKO'!H14)","v":321},{"$f":"IF($D$55=\"NE\",\"NE\",'[1]Žaluzie KASKO'!I14)","v":350},{"$f":"IF($D$55=\"NE\",\"NE\",'[1]Žaluzie KASKO'!J14)","v":365},{"$f":"IF($D$55=\"NE\",\"NE\",'[1]Žaluzie KASKO'!K14)","v":377},{"$f":"IF($D$55=\"NE\",\"NE\",'[1]Žaluzie KASKO'!L14)","v":401},{"$f":"IF($D$55=\"NE\",\"NE\",'[1]Žaluzie KASKO'!M14)","v":443},{"$f":"IF($D$55=\"NE\",\"NE\",'[1]Žaluzie KASKO'!N14)","v":460},{"$f":"IF($D$55=\"NE\",\"NE\",'[1]Žaluzie KASKO'!O14)","v":475},{"$f":"IF($D$55=\"NE\",\"NE\",'[1]Žaluzie KASKO'!P14)","v":492},{"$f":"IF($D$55=\"NE\",\"NE\",'[1]Žaluzie KASKO'!Q14)","v":511},{"$f":"IF($D$55=\"NE\",\"NE\",'[1]Žaluzie KASKO'!R14)","v":528},{"$f":"IF($D$55=\"NE\",\"NE\",'[1]Žaluzie KASKO'!S14)","v":569},{"$f":"IF($D$55=\"NE\",\"NE\",'[1]Žaluzie KASKO'!T14)","v":597},{"$f":"IF($D$55=\"NE\",\"NE\",'[1]Žaluzie KASKO'!U14)","v":619}]
[80,{"$f":"IF($D$55=\"NE\",\"NE\",'[1]Žaluzie KASKO'!B15)","v":211},{"$f":"IF($D$55=\"NE\",\"NE\",'[1]Žaluzie KASKO'!C15)","v":236},{"$f":"IF($D$55=\"NE\",\"NE\",'[1]Žaluzie KASKO'!D15)","v":247},{"$f":"IF($D$55=\"NE\",\"NE\",'[1]Žaluzie KASKO'!E15)","v":266},{"$f":"IF($D$55=\"NE\",\"NE\",'[1]Žaluzie KASKO'!F15)","v":299},{"$f":"IF($D$55=\"NE\",\"NE\",'[1]Žaluzie KASKO'!G15)","v":319},{"$f":"IF($D$55=\"NE\",\"NE\",'[1]Žaluzie KASKO'!H15)","v":337},{"$f":"IF($D$55=\"NE\",\"NE\",'[1]Žaluzie KASKO'!I15)","v":365},{"$f":"IF($D$55=\"NE\",\"NE\",'[1]Žaluzie KASKO'!J15)","v":383},{"$f":"IF($D$55=\"NE\",\"NE\",'[1]Žaluzie KASKO'!K15)","v":397},{"$f":"IF($D$55=\"NE\",\"NE\",'[1]Žaluzie KASKO'!L15)","v":418},{"$f":"IF($D$55=\"NE\",\"NE\",'[1]Žaluzie KASKO'!M15)","v":463},{"$f":"IF($D$55=\"NE\",\"NE\",'[1]Žaluzie KASKO'!N15)","v":482},{"$f":"IF($D$55=\"NE\",\"NE\",'[1]Žaluzie KASKO'!O15)","v":500},{"$f":"IF($D$55=\"NE\",\"NE\",'[1]Žaluzie KASKO'!P15)","v":520},{"$f":"IF($D$55=\"NE\",\"NE\",'[1]Žaluzie KASKO'!Q15)","v":537},{"$f":"IF($D$55=\"NE\",\"NE\",'[1]Žaluzie KASKO'!R15)","v":555},{"$f":"IF($D$55=\"NE\",\"NE\",'[1]Žaluzie KASKO'!S15)","v":600},{"$f":"IF($D$55=\"NE\",\"NE\",'[1]Žaluzie KASKO'!T15)","v":631},{"$f":"IF($D$55=\"NE\",\"NE\",'[1]Žaluzie KASKO'!U15)","v":665}]
[90,{"$f":"IF($D$55=\"NE\",\"NE\",'[1]Žaluzie KASKO'!B16)","v":219},{"$f":"IF($D$55=\"NE\",\"NE\",'[1]Žaluzie KASKO'!C16)","v":238},{"$f":"IF($D$55=\"NE\",\"NE\",'[1]Žaluzie KASKO'!D16)","v":259},{"$f":"IF($D$55=\"NE\",\"NE\",'[1]Žaluzie KASKO'!E16)","v":276},{"$f":"IF($D$55=\"NE\",\"NE\",'[1]Žaluzie KASKO'!F16)","v":313},{"$f":"IF($D$55=\"NE\",\"NE\",'[1]Žaluzie KASKO'!G16)","v":334},{"$f":"IF($D$55=\"NE\",\"NE\",'[1]Žaluzie KASKO'!H16)","v":353},{"$f":"IF($D$55=\"NE\",\"NE\",'[1]Žaluzie KASKO'!I16)","v":384},{"$f":"IF($D$55=\"NE\",\"NE\",'[1]Žaluzie KASKO'!J16)","v":405},{"$f":"IF($D$55=\"NE\",\"NE\",'[1]Žaluzie KASKO'!K16)","v":424},{"$f":"IF($D$55=\"NE\",\"NE\",'[1]Žaluzie KASKO'!L16)","v":444},{"$f":"IF($D$55=\"NE\",\"NE\",'[1]Žaluzie KASKO'!M16)","v":489},{"$f":"IF($D$55=\"NE\",\"NE\",'[1]Žaluzie KASKO'!N16)","v":510},{"$f":"IF($D$55=\"NE\",\"NE\",'[1]Žaluzie KASKO'!O16)","v":531},{"$f":"IF($D$55=\"NE\",\"NE\",'[1]Žaluzie KASKO'!P16)","v":550},{"$f":"IF($D$55=\"NE\",\"NE\",'[1]Žaluzie KASKO'!Q16)","v":571},{"$f":"IF($D$55=\"NE\",\"NE\",'[1]Žaluzie KASKO'!R16)","v":588},{"$f":"IF($D$55=\"NE\",\"NE\",'[1]Žaluzie KASKO'!S16)","v":636},{"$f":"IF($D$55=\"NE\",\"NE\",'[1]Žaluzie KASKO'!T16)","v":657},{"$f":"IF($D$55=\"NE\",\"NE\",'[1]Žaluzie KASKO'!U16)","v":710}]
[100,{"$f":"IF($D$55=\"NE\",\"NE\",'[1]Žaluzie KASKO'!B17)","v":227},{"$f":"IF($D$55=\"NE\",\"NE\",'[1]Žaluzie KASKO'!C17)","v":248},{"$f":"IF($D$55=\"NE\",\"NE\",'[1]Žaluzie KASKO'!D17)","v":270},{"$f":"IF($D$55=\"NE\",\"NE\",'[1]Žaluzie KASKO'!E17)","v":291},{"$f":"IF($D$55=\"NE\",\"NE\",'[1]Žaluzie KASKO'!F17)","v":328},{"$f":"IF($D$55=\"NE\",\"NE\",'[1]Žaluzie KASKO'!G17)","v":348},{"$f":"IF($D$55=\"NE\",\"NE\",'[1]Žaluzie KASKO'!H17)","v":370},{"$f":"IF($D$55=\"NE\",\"NE\",'[1]Žaluzie KASKO'!I17)","v":405},{"$f":"IF($D$55=\"NE\",\"NE\",'[1]Žaluzie KASKO'!J17)","v":424},{"$f":"IF($D$55=\"NE\",\"NE\",'[1]Žaluzie KASKO'!K17)","v":446},{"$f":"IF($D$55=\"NE\",\"NE\",'[1]Žaluzie KASKO'!L17)","v":468},{"$f":"IF($D$55=\"NE\",\"NE\",'[1]Žaluzie KASKO'!M17)","v":517},{"$f":"IF($D$55=\"NE\",\"NE\",'[1]Žaluzie KASKO'!N17)","v":539},{"$f":"IF($D$55=\"NE\",\"NE\",'[1]Žaluzie KASKO'!O17)","v":559},{"$f":"IF($D$55=\"NE\",\"NE\",'[1]Žaluzie KASKO'!P17)","v":581},{"$f":"IF($D$55=\"NE\",\"NE\",'[1]Žaluzie KASKO'!Q17)","v":600},{"$f":"IF($D$55=\"NE\",\"NE\",'[1]Žaluzie KASKO'!R17)","v":623},{"$f":"IF($D$55=\"NE\",\"NE\",'[1]Žaluzie KASKO'!S17)","v":672},{"$f":"IF($D$55=\"NE\",\"NE\",'[1]Žaluzie KASKO'!T17)","v":697},{"$f":"IF($D$55=\"NE\",\"NE\",'[1]Žaluzie KASKO'!U17)","v":732}]
[110,{"$f":"IF($D$55=\"NE\",\"NE\",'[1]Žaluzie KASKO'!B18)","v":235},{"$f":"IF($D$55=\"NE\",\"NE\",'[1]Žaluzie KASKO'!C18)","v":256},{"$f":"IF($D$55=\"NE\",\"NE\",'[1]Žaluzie KASKO'!D18)","v":279},{"$f":"IF($D$55=\"NE\",\"NE\",'[1]Žaluzie KASKO'!E18)","v":302},{"$f":"IF($D$55=\"NE\",\"NE\",'[1]Žaluzie KASKO'!F18)","v":340},{"$f":"IF($D$55=\"NE\",\"NE\",'[1]Žaluzie KASKO'!G18)","v":362},{"$f":"IF($D$55=\"NE\",\"NE\",'[1]Žaluzie KASKO'!H18)","v":384},{"$f":"IF($D$55=\"NE\",\"NE\",'[1]Žaluzie KASKO'!I18)","v":420},{"$f":"IF($D$55=\"NE\",\"NE\",'[1]Žaluzie KASKO'!J18)","v":442},{"$f":"IF($D$55=\"NE\",\"NE\",'[1]Žaluzie KASKO'!K18)","v":466},{"$f":"IF($D$55=\"NE\",\"NE\",'[1]Žaluzie KASKO'!L18)","v":488},{"$f":"IF($D$55=\"NE\",\"NE\",'[1]Žaluzie KASKO'!M18)","v":540},{"$f":"IF($D$55=\"NE\",\"NE\",'[1]Žaluzie KASKO'!N18)","v":562},{"$f":"IF($D$55=\"NE\",\"NE\",'[1]Žaluzie KASKO'!O18)","v":584},{"$f":"IF($D$55=\"NE\",\"NE\",'[1]Žaluzie KASKO'!P18)","v":607},{"$f":"IF($D$55=\"NE\",\"NE\",'[1]Žaluzie KASKO'!Q18)","v":629},{"$f":"IF($D$55=\"NE\",\"NE\",'[1]Žaluzie KASKO'!R18)","v":651},{"$f":"IF($D$55=\"NE\",\"NE\",'[1]Žaluzie KASKO'!S18)","v":703},{"$f":"IF($D$55=\"NE\",\"NE\",'[1]Žaluzie KASKO'!T18)","v":734},{"$f":"IF($D$55=\"NE\",\"NE\",'[1]Žaluzie KASKO'!U18)","v":768}]
[120,{"$f":"IF($D$55=\"NE\",\"NE\",'[1]Žaluzie KASKO'!B19)","v":244},{"$f":"IF($D$55=\"NE\",\"NE\",'[1]Žaluzie KASKO'!C19)","v":266},{"$f":"IF($D$55=\"NE\",\"NE\",'[1]Žaluzie KASKO'!D19)","v":289},{"$f":"IF($D$55=\"NE\",\"NE\",'[1]Žaluzie KASKO'!E19)","v":313},{"$f":"IF($D$55=\"NE\",\"NE\",'[1]Žaluzie KASKO'!F19)","v":355},{"$f":"IF($D$55=\"NE\",\"NE\",'[1]Žaluzie KASKO'!G19)","v":379},{"$f":"IF($D$55=\"NE\",\"NE\",'[1]Žaluzie KASKO'!H19)","v":401},{"$f":"IF($D$55=\"NE\",\"NE\",'[1]Žaluzie KASKO'!I19)","v":443},{"$f":"IF($D$55=\"NE\",\"NE\",'[1]Žaluzie KASKO'!J19)","v":465},{"$f":"IF($D$55=\"NE\",\"NE\",'[1]Žaluzie KASKO'!K19)","v":487},{"$f":"IF($D$55=\"NE\",\"NE\",'[1]Žaluzie KASKO'!L19)","v":530},{"$f":"IF($D$55=\"NE\",\"NE\",'[1]Žaluzie KASKO'!M19)","v":567},{"$f":"IF($D$55=\"NE\",\"NE\",'[1]Žaluzie KASKO'!N19)","v":590},{"$f":"IF($D$55=\"NE\",\"NE\",'[1]Žaluzie KASKO'!O19)","v":614},{"$f":"IF($D$55=\"NE\",\"NE\",'[1]Žaluzie KASKO'!P19)","v":639},{"$f":"IF($D$55=\"NE\",\"NE\",'[1]Žaluzie KASKO'!Q19)","v":662},{"$f":"IF($D$55=\"NE\",\"NE\",'[1]Žaluzie KASKO'!R19)","v":685},{"$f":"IF($D$55=\"NE\",\"NE\",'[1]Žaluzie KASKO'!S19)","v":739},{"$f":"IF($D$55=\"NE\",\"NE\",'[1]Žaluzie KASKO'!T19)","v":768},{"$f":"IF($D$55=\"NE\",\"NE\",'[1]Žaluzie KASKO'!U19)","v":792}]
[130,{"$f":"IF($D$55=\"NE\",\"NE\",'[1]Žaluzie KASKO'!B20)","v":249},{"$f":"IF($D$55=\"NE\",\"NE\",'[1]Žaluzie KASKO'!C20)","v":276},{"$f":"IF($D$55=\"NE\",\"NE\",'[1]Žaluzie KASKO'!D20)","v":303},{"$f":"IF($D$55=\"NE\",\"NE\",'[1]Žaluzie KASKO'!E20)","v":325},{"$f":"IF($D$55=\"NE\",\"NE\",'[1]Žaluzie KASKO'!F20)","v":369},{"$f":"IF($D$55=\"NE\",\"NE\",'[1]Žaluzie KASKO'!G20)","v":391},{"$f":"IF($D$55=\"NE\",\"NE\",'[1]Žaluzie KASKO'!H20)","v":418},{"$f":"IF($D$55=\"NE\",\"NE\",'[1]Žaluzie KASKO'!I20)","v":457},{"$f":"IF($D$55=\"NE\",\"NE\",'[1]Žaluzie KASKO'!J20)","v":483},{"$f":"IF($D$55=\"NE\",\"NE\",'[1]Žaluzie KASKO'!K20)","v":509},{"$f":"IF($D$55=\"NE\",\"NE\",'[1]Žaluzie KASKO'!L20)","v":535},{"$f":"IF($D$55=\"NE\",\"NE\",'[1]Žaluzie KASKO'!M20)","v":591},{"$f":"IF($D$55=\"NE\",\"NE\",'[1]Žaluzie KASKO'!N20)","v":616},{"$f":"IF($D$55=\"NE\",\"NE\",'[1]Žaluzie KASKO'!O20)","v":643},{"$f":"IF($D$55=\"NE\",\"NE\",'[1]Žaluzie KASKO'!P20)","v":668},{"$f":"IF($D$55=\"NE\",\"NE\",'[1]Žaluzie KASKO'!Q20)","v":692},{"$f":"IF($D$55=\"NE\",\"NE\",'[1]Žaluzie KASKO'!R20)","v":718},{"$f":"IF($D$55=\"NE\",\"NE\",'[1]Žaluzie KASKO'!S20)","v":776},{"$f":"IF($D$55=\"NE\",\"NE\",'[1]Žaluzie KASKO'!T20)","v":805},{"$f":"IF($D$55=\"NE\",\"NE\",'[1]Žaluzie KASKO'!U20)","v":867}]
[140,{"$f":"IF($D$55=\"NE\",\"NE\",'[1]Žaluzie KASKO'!B21)","v":258},{"$f":"IF($D$55=\"NE\",\"NE\",'[1]Žaluzie KASKO'!C21)","v":284},{"$f":"IF($D$55=\"NE\",\"NE\",'[1]Žaluzie KASKO'!D21)","v":309},{"$f":"IF($D$55=\"NE\",\"NE\",'[1]Žaluzie KASKO'!E21)","v":336},{"$f":"IF($D$55=\"NE\",\"NE\",'[1]Žaluzie KASKO'!F21)","v":379},{"$f":"IF($D$55=\"NE\",\"NE\",'[1]Žaluzie KASKO'!G21)","v":407},{"$f":"IF($D$55=\"NE\",\"NE\",'[1]Žaluzie KASKO'!H21)","v":432},{"$f":"IF($D$55=\"NE\",\"NE\",'[1]Žaluzie KASKO'!I21)","v":472},{"$f":"IF($D$55=\"NE\",\"NE\",'[1]Žaluzie KASKO'!J21)","v":501},{"$f":"IF($D$55=\"NE\",\"NE\",'[1]Žaluzie KASKO'!K21)","v":528},{"$f":"IF($D$55=\"NE\",\"NE\",'[1]Žaluzie KASKO'!L21)","v":554},{"$f":"IF($D$55=\"NE\",\"NE\",'[1]Žaluzie KASKO'!M21)","v":614},{"$f":"IF($D$55=\"NE\",\"NE\",'[1]Žaluzie KASKO'!N21)","v":641},{"$f":"IF($D$55=\"NE\",\"NE\",'[1]Žaluzie KASKO'!O21)","v":667},{"$f":"IF($D$55=\"NE\",\"NE\",'[1]Žaluzie KASKO'!P21)","v":694},{"$f":"IF($D$55=\"NE\",\"NE\",'[1]Žaluzie KASKO'!Q21)","v":718},{"$f":"IF($D$55=\"NE\",\"NE\",'[1]Žaluzie KASKO'!R21)","v":746},{"$f":"IF($D$55=\"NE\",\"NE\",'[1]Žaluzie KASKO'!S21)","v":806},{"$f":"IF($D$55=\"NE\",\"NE\",'[1]Žaluzie KASKO'!T21)","v":842},{"$f":"IF($D$55=\"NE\",\"NE\",'[1]Žaluzie KASKO'!U21)","v":911}]
[150,{"$f":"IF($D$55=\"NE\",\"NE\",'[1]Žaluzie KASKO'!B22)","v":264},{"$f":"IF($D$55=\"NE\",\"NE\",'[1]Žaluzie KASKO'!C22)","v":292},{"$f":"IF($D$55=\"NE\",\"NE\",'[1]Žaluzie KASKO'!D22)","v":320},{"$f":"IF($D$55=\"NE\",\"NE\",'[1]Žaluzie KASKO'!E22)","v":348},{"$f":"IF($D$55=\"NE\",\"NE\",'[1]Žaluzie KASKO'!F22)","v":394},{"$f":"IF($D$55=\"NE\",\"NE\",'[1]Žaluzie KASKO'!G22)","v":420},{"$f":"IF($D$55=\"NE\",\"NE\",'[1]Žaluzie KASKO'!H22)","v":449},{"$f":"IF($D$55=\"NE\",\"NE\",'[1]Žaluzie KASKO'!I22)","v":492},{"$f":"IF($D$55=\"NE\",\"NE\",'[1]Žaluzie KASKO'!J22)","v":522},{"$f":"IF($D$55=\"NE\",\"NE\",'[1]Žaluzie KASKO'!K22)","v":549},{"$f":"IF($D$55=\"NE\",\"NE\",'[1]Žaluzie KASKO'!L22)","v":578},{"$f":"IF($D$55=\"NE\",\"NE\",'[1]Žaluzie KASKO'!M22)","v":641},{"$f":"IF($D$55=\"NE\",\"NE\",'[1]Žaluzie KASKO'!N22)","v":669},{"$f":"IF($D$55=\"NE\",\"NE\",'[1]Žaluzie KASKO'!O22)","v":697},{"$f":"IF($D$55=\"NE\",\"NE\",'[1]Žaluzie KASKO'!P22)","v":723},{"$f":"IF($D$55=\"NE\",\"NE\",'[1]Žaluzie KASKO'!Q22)","v":759},{"$f":"IF($D$55=\"NE\",\"NE\",'[1]Žaluzie KASKO'!R22)","v":780},{"$f":"IF($D$55=\"NE\",\"NE\",'[1]Žaluzie KASKO'!S22)","v":841},{"$f":"IF($D$55=\"NE\",\"NE\",'[1]Žaluzie KASKO'!T22)","v":870},{"$f":"IF($D$55=\"NE\",\"NE\",'[1]Žaluzie KASKO'!U22)","v":947}]
[160,{"$f":"IF($D$55=\"NE\",\"NE\",'[1]Žaluzie KASKO'!B23)","v":274},{"$f":"IF($D$55=\"NE\",\"NE\",'[1]Žaluzie KASKO'!C23)","v":303},{"$f":"IF($D$55=\"NE\",\"NE\",'[1]Žaluzie KASKO'!D23)","v":333},{"$f":"IF($D$55=\"NE\",\"NE\",'[1]Žaluzie KASKO'!E23)","v":362},{"$f":"IF($D$55=\"NE\",\"NE\",'[1]Žaluzie KASKO'!F23)","v":407},{"$f":"IF($D$55=\"NE\",\"NE\",'[1]Žaluzie KASKO'!G23)","v":436},{"$f":"IF($D$55=\"NE\",\"NE\",'[1]Žaluzie KASKO'!H23)","v":466},{"$f":"IF($D$55=\"NE\",\"NE\",'[1]Žaluzie KASKO'!I23)","v":510},{"$f":"IF($D$55=\"NE\",\"NE\",'[1]Žaluzie KASKO'!J23)","v":542},{"$f":"IF($D$55=\"NE\",\"NE\",'[1]Žaluzie KASKO'!K23)","v":570},{"$f":"IF($D$55=\"NE\",\"NE\",'[1]Žaluzie KASKO'!L23)","v":602},{"$f":"IF($D$55=\"NE\",\"NE\",'[1]Žaluzie KASKO'!M23)","v":666},{"$f":"IF($D$55=\"NE\",\"NE\",'[1]Žaluzie KASKO'!N23)","v":696},{"$f":"IF($D$55=\"NE\",\"NE\",'[1]Žaluzie KASKO'!O23)","v":725},{"$f":"IF($D$55=\"NE\",\"NE\",'[1]Žaluzie KASKO'!P23)","v":755},{"$f":"IF($D$55=\"NE\",\"NE\",'[1]Žaluzie KASKO'!Q23)","v":783},{"$f":"IF($D$55=\"NE\",\"NE\",'[1]Žaluzie KASKO'!R23)","v":812},{"$f":"IF($D$55=\"NE\",\"NE\",'[1]Žaluzie KASKO'!S23)","v":865},{"$f":"IF($D$55=\"NE\",\"NE\",'[1]Žaluzie KASKO'!T23)","v":916},{"$f":"IF($D$55=\"NE\",\"NE\",'[1]Žaluzie KASKO'!U23)","v":976}]
[170,{"$f":"IF($D$55=\"NE\",\"NE\",'[1]Žaluzie KASKO'!B24)","v":280},{"$f":"IF($D$55=\"NE\",\"NE\",'[1]Žaluzie KASKO'!C24)","v":309},{"$f":"IF($D$55=\"NE\",\"NE\",'[1]Žaluzie KASKO'!D24)","v":341},{"$f":"IF($D$55=\"NE\",\"NE\",'[1]Žaluzie KASKO'!E24)","v":372},{"$f":"IF($D$55=\"NE\",\"NE\",'[1]Žaluzie KASKO'!F24)","v":419},{"$f":"IF($D$55=\"NE\",\"NE\",'[1]Žaluzie KASKO'!G24)","v":449},{"$f":"IF($D$55=\"NE\",\"NE\",'[1]Žaluzie KASKO'!H24)","v":480},{"$f":"IF($D$55=\"NE\",\"NE\",'[1]Žaluzie KASKO'!I24)","v":530},{"$f":"IF($D$55=\"NE\",\"NE\",'[1]Žaluzie KASKO'!J24)","v":559},{"$f":"IF($D$55=\"NE\",\"NE\",'[1]Žaluzie KASKO'!K24)","v":590},{"$f":"IF($D$55=\"NE\",\"NE\",'[1]Žaluzie KASKO'!L24)","v":623},{"$f":"IF($D$55=\"NE\",\"NE\",'[1]Žaluzie KASKO'!M24)","v":688},{"$f":"IF($D$55=\"NE\",\"NE\",'[1]Žaluzie KASKO'!N24)","v":718},{"$f":"IF($D$55=\"NE\",\"NE\",'[1]Žaluzie KASKO'!O24)","v":748},{"$f":"IF($D$55=\"NE\",\"NE\",'[1]Žaluzie KASKO'!P24)","v":780},{"$f":"IF($D$55=\"NE\",\"NE\",'[1]Žaluzie KASKO'!Q24)","v":810},{"$f":"IF($D$55=\"NE\",\"NE\",'[1]Žaluzie KASKO'!R24)","v":841},{"$f":"IF($D$55=\"NE\",\"NE\",'[1]Žaluzie KASKO'!S24)","v":909},{"$f":"IF($D$55=\"NE\",\"NE\",'[1]Žaluzie KASKO'!T24)","v":949},{"$f":"IF($D$55=\"NE\",\"NE\",'[1]Žaluzie KASKO'!U24)","v":1008}]
[180,{"$f":"IF($D$55=\"NE\",\"NE\",'[1]Žaluzie KASKO'!B25)","v":288},{"$f":"IF($D$55=\"NE\",\"NE\",'[1]Žaluzie KASKO'!C25)","v":319},{"$f":"IF($D$55=\"NE\",\"NE\",'[1]Žaluzie KASKO'!D25)","v":352},{"$f":"IF($D$55=\"NE\",\"NE\",'[1]Žaluzie KASKO'!E25)","v":383},{"$f":"IF($D$55=\"NE\",\"NE\",'[1]Žaluzie KASKO'!F25)","v":433},{"$f":"IF($D$55=\"NE\",\"NE\",'[1]Žaluzie KASKO'!G25)","v":471},{"$f":"IF($D$55=\"NE\",\"NE\",'[1]Žaluzie KASKO'!H25)","v":497},{"$f":"IF($D$55=\"NE\",\"NE\",'[1]Žaluzie KASKO'!I25)","v":548},{"$f":"IF($D$55=\"NE\",\"NE\",'[1]Žaluzie KASKO'!J25)","v":580},{"$f":"IF($D$55=\"NE\",\"NE\",'[1]Žaluzie KASKO'!K25)","v":613},{"$f":"IF($D$55=\"NE\",\"NE\",'[1]Žaluzie KASKO'!L25)","v":645},{"$f":"IF($D$55=\"NE\",\"NE\",'[1]Žaluzie KASKO'!M25)","v":715},{"$f":"IF($D$55=\"NE\",\"NE\",'[1]Žaluzie KASKO'!N25)","v":747},{"$f":"IF($D$55=\"NE\",\"NE\",'[1]Žaluzie KASKO'!O25)","v":778},{"$f":"IF($D$55=\"NE\",\"NE\",'[1]Žaluzie KASKO'!P25)","v":810},{"$f":"IF($D$55=\"NE\",\"NE\",'[1]Žaluzie KASKO'!Q25)","v":844},{"$f":"IF($D$55=\"NE\",\"NE\",'[1]Žaluzie KASKO'!R25)","v":874},{"$f":"IF($D$55=\"NE\",\"NE\",'[1]Žaluzie KASKO'!S25)","v":944},{"$f":"IF($D$55=\"NE\",\"NE\",'[1]Žaluzie KASKO'!T25)","v":990},{"$f":"IF($D$55=\"NE\",\"NE\",'[1]Žaluzie KASKO'!U25)","v":1044}]
[190,{"$f":"IF($D$55=\"NE\",\"NE\",'[1]Žaluzie KASKO'!B26)","v":294},{"$f":"IF($D$55=\"NE\",\"NE\",'[1]Žaluzie KASKO'!C26)","v":328},{"$f":"IF($D$55=\"NE\",\"NE\",'[1]Žaluzie KASKO'!D26)","v":362},{"$f":"IF($D$55=\"NE\",\"NE\",'[1]Žaluzie KASKO'!E26)","v":394},{"$f":"IF($D$55=\"NE\",\"NE\",'[1]Žaluzie KASKO'!F26)","v":444},{"$f":"IF($D$55=\"NE\",\"NE\",'[1]Žaluzie KASKO'!G26)","v":478},{"$f":"IF($D$55=\"NE\",\"NE\",'[1]Žaluzie KASKO'!H26)","v":511},{"$f":"IF($D$55=\"NE\",\"NE\",'[1]Žaluzie KASKO'!I26)","v":563},{"$f":"IF($D$55=\"NE\",\"NE\",'[1]Žaluzie KASKO'!J26)","v":596},{"$f":"IF($D$55=\"NE\",\"NE\",'[1]Žaluzie KASKO'!K26)","v":631},{"$f":"IF($D$55=\"NE\",\"NE\",'[1]Žaluzie KASKO'!L26)","v":664},{"$f":"IF($D$55=\"NE\",\"NE\",'[1]Žaluzie KASKO'!M26)","v":735},{"$f":"IF($D$55=\"NE\",\"NE\",'[1]Žaluzie KASKO'!N26)","v":771},{"$f":"IF($D$55=\"NE\",\"NE\",'[1]Žaluzie KASKO'!O26)","v":802},{"$f":"IF($D$55=\"NE\",\"NE\",'[1]Žaluzie KASKO'!P26)","v":824},{"$f":"IF($D$55=\"NE\",\"NE\",'[1]Žaluzie KASKO'!Q26)","v":869},{"$f":"IF($D$55=\"NE\",\"NE\",'[1]Žaluzie KASKO'!R26)","v":902},{"$f":"IF($D$55=\"NE\",\"NE\",'[1]Žaluzie KASKO'!S26)","v":974},{"$f":"IF($D$55=\"NE\",\"NE\",'[1]Žaluzie KASKO'!T26)","v":1026},{"$f":"IF($D$55=\"NE\",\"NE\",'[1]Žaluzie KASKO'!U26)","v":1089}]
[200,{"$f":"IF($D$55=\"NE\",\"NE\",'[1]Žaluzie KASKO'!B27)","v":303},{"$f":"IF($D$55=\"NE\",\"NE\",'[1]Žaluzie KASKO'!C27)","v":337},{"$f":"IF($D$55=\"NE\",\"NE\",'[1]Žaluzie KASKO'!D27)","v":371},{"$f":"IF($D$55=\"NE\",\"NE\",'[1]Žaluzie KASKO'!E27)","v":407},{"$f":"IF($D$55=\"NE\",\"NE\",'[1]Žaluzie KASKO'!F27)","v":459},{"$f":"IF($D$55=\"NE\",\"NE\",'[1]Žaluzie KASKO'!G27)","v":493},{"$f":"IF($D$55=\"NE\",\"NE\",'[1]Žaluzie KASKO'!H27)","v":528},{"$f":"IF($D$55=\"NE\",\"NE\",'[1]Žaluzie KASKO'!I27)","v":579},{"$f":"IF($D$55=\"NE\",\"NE\",'[1]Žaluzie KASKO'!J27)","v":619},{"$f":"IF($D$55=\"NE\",\"NE\",'[1]Žaluzie KASKO'!K27)","v":653},{"$f":"IF($D$55=\"NE\",\"NE\",'[1]Žaluzie KASKO'!L27)","v":685},{"$f":"IF($D$55=\"NE\",\"NE\",'[1]Žaluzie KASKO'!M27)","v":762},{"$f":"IF($D$55=\"NE\",\"NE\",'[1]Žaluzie KASKO'!N27)","v":798},{"$f":"IF($D$55=\"NE\",\"NE\",'[1]Žaluzie KASKO'!O27)","v":831},{"$f":"IF($D$55=\"NE\",\"NE\",'[1]Žaluzie KASKO'!P27)","v":863},{"$f":"IF($D$55=\"NE\",\"NE\",'[1]Žaluzie KASKO'!Q27)","v":901},{"$f":"IF($D$55=\"NE\",\"NE\",'[1]Žaluzie KASKO'!R27)","v":935},{"$f":"IF($D$55=\"NE\",\"NE\",'[1]Žaluzie KASKO'!S27)","v":1008},{"$f":"IF($D$55=\"NE\",\"NE\",'[1]Žaluzie KASKO'!T27)","v":1064},{"$f":"IF($D$55=\"NE\",\"NE\",'[1]Žaluzie KASKO'!U27)","v":1133}]
[210,{"$f":"IF($D$55=\"NE\",\"NE\",'[1]Žaluzie KASKO'!B28)","v":309},{"$f":"IF($D$55=\"NE\",\"NE\",'[1]Žaluzie KASKO'!C28)","v":346},{"$f":"IF($D$55=\"NE\",\"NE\",'[1]Žaluzie KASKO'!D28)","v":381},{"$f":"IF($D$55=\"NE\",\"NE\",'[1]Žaluzie KASKO'!E28)","v":418},{"$f":"IF($D$55=\"NE\",\"NE\",'[1]Žaluzie KASKO'!F28)","v":473},{"$f":"IF($D$55=\"NE\",\"NE\",'[1]Žaluzie KASKO'!G28)","v":509},{"$f":"IF($D$55=\"NE\",\"NE\",'[1]Žaluzie KASKO'!H28)","v":545},{"$f":"IF($D$55=\"NE\",\"NE\",'[1]Žaluzie KASKO'!I28)","v":597},{"$f":"IF($D$55=\"NE\",\"NE\",'[1]Žaluzie KASKO'!J28)","v":641},{"$f":"IF($D$55=\"NE\",\"NE\",'[1]Žaluzie KASKO'!K28)","v":675},{"$f":"IF($D$55=\"NE\",\"NE\",'[1]Žaluzie KASKO'!L28)","v":706},{"$f":"IF($D$55=\"NE\",\"NE\",'[1]Žaluzie KASKO'!M28)","v":789},{"$f":"IF($D$55=\"NE\",\"NE\",'[1]Žaluzie KASKO'!N28)","v":824},{"$f":"IF($D$55=\"NE\",\"NE\",'[1]Žaluzie KASKO'!O28)","v":859},{"$f":"IF($D$55=\"NE\",\"NE\",'[1]Žaluzie KASKO'!P28)","v":896},{"$f":"IF($D$55=\"NE\",\"NE\",'[1]Žaluzie KASKO'!Q28)","v":931},{"$f":"IF($D$55=\"NE\",\"NE\",'[1]Žaluzie KASKO'!R28)","v":973},{"$f":"IF($D$55=\"NE\",\"NE\",'[1]Žaluzie KASKO'!S28)","v":1045},{"$f":"IF($D$55=\"NE\",\"NE\",'[1]Žaluzie KASKO'!T28)","v":1089},{"$f":"IF($D$55=\"NE\",\"NE\",'[1]Žaluzie KASKO'!U28)","v":1177}]
[220,{"$f":"IF($D$55=\"NE\",\"NE\",'[1]Žaluzie KASKO'!B29)","v":317},{"$f":"IF($D$55=\"NE\",\"NE\",'[1]Žaluzie KASKO'!C29)","v":353},{"$f":"IF($D$55=\"NE\",\"NE\",'[1]Žaluzie KASKO'!D29)","v":392},{"$f":"IF($D$55=\"NE\",\"NE\",'[1]Žaluzie KASKO'!E29)","v":428},{"$f":"IF($D$55=\"NE\",\"NE\",'[1]Žaluzie KASKO'!F29)","v":484},{"$f":"IF($D$55=\"NE\",\"NE\",'[1]Žaluzie KASKO'!G29)","v":521},{"$f":"IF($D$55=\"NE\",\"NE\",'[1]Žaluzie KASKO'!H29)","v":559},{"$f":"IF($D$55=\"NE\",\"NE\",'[1]Žaluzie KASKO'!I29)","v":619},{"$f":"IF($D$55=\"NE\",\"NE\",'[1]Žaluzie KASKO'!J29)","v":657},{"$f":"IF($D$55=\"NE\",\"NE\",'[1]Žaluzie KASKO'!K29)","v":694},{"$f":"IF($D$55=\"NE\",\"NE\",'[1]Žaluzie KASKO'!L29)","v":732},{"$f":"IF($D$55=\"NE\",\"NE\",'[1]Žaluzie KASKO'!M29)","v":811},{"$f":"IF($D$55=\"NE\",\"NE\",'[1]Žaluzie KASKO'!N29)","v":848},{"$f":"IF($D$55=\"NE\",\"NE\",'[1]Žaluzie KASKO'!O29)","v":885},{"$f":"IF($D$55=\"NE\",\"NE\",'[1]Žaluzie KASKO'!P29)","v":928},{"$f":"IF($D$55=\"NE\",\"NE\",'[1]Žaluzie KASKO'!Q29)","v":959},{"$f":"IF($D$55=\"NE\",\"NE\",'[1]Žaluzie KASKO'!R29)","v":994},{"$f":"IF($D$55=\"NE\",\"NE\",'[1]Žaluzie KASKO'!S29)","v":1075},{"$f":"IF($D$55=\"NE\",\"NE\",'[1]Žaluzie KASKO'!T29)","v":1138},{"$f":"IF($D$55=\"NE\",\"NE\",'[1]Žaluzie KASKO'!U29)","v":1221}]
[]
["Pro stanovení ceny se počítá nejbližší vyšší rozměr."]
[]
["Příplatky:"]
["Lamely z proužkem 780,783,1940, matné 8xxx a perforované PR",null,null,null,null,null,null,null,null,null,null,null,null,null,null,null,null,null,{"$f":"IF($D$55=\"NE\",\"NE\",'[1]Žaluzie KASKO'!$I$33)","v":80},null,"/m²"]
["Lamela 25x0,21 a 16x0,21",null,null,null,null,null,null,null,null,null,null,null,null,null,null,null,null,null,{"$f":"IF($D$55=\"NE\",\"NE\",'[1]Žaluzie KASKO'!$I$34)","v":80},null,"/m²"]
["Lamela 25x0,21 - Dekory SD, SL",null,null,null,null,null,null,null,null,null,null,null,null,null,null,null,null,null,{"$f":"IF($D$55=\"NE\",\"NE\",'[1]Žaluzie KASKO'!$I$38)","v":90},null,"/m²"]
["Lamela 25x0,21 - Dekory SR, SM",null,null,null,null,null,null,null,null,null,null,null,null,null,null,null,null,null,{"$f":"IF($D$55=\"NE\",\"NE\",'[1]Žaluzie KASKO'!$I$39)","v":135},null,"/m²"]
["Imitace dřeva - lamely",null,null,null,null,null,null,null,null,null,null,null,null,null,null,null,null,null,{"$f":"IF($D$55=\"NE\",\"NE\",'[1]Žaluzie KASKO'!$I$35)","v":240},null,"/m²"]
["Al (horní a spodní profil)",null,null,null,null,null,null,null,null,null,null,null,null,null,null,null,null,null,{"$f":"IF($D$55=\"NE\",\"NE\",'[1]Žaluzie KASKO'!$I$37)","v":60},null,"/m²"]
["Provedení v renolitu (horní a dolní profil)",null,null,null,null,null,null,null,null,null,null,null,null,null,null,null,null,null,{"$f":"IF($D$55=\"NE\",\"NE\",'[1]Žaluzie KASKO'!$I$40)","v":150},null,"/bm"]
["Distanční podložka",null,null,null,null,null,null,null,null,null,null,null,null,null,null,null,null,null,{"$f":"IF($D$55=\"NE\",\"NE\",'[1]Žaluzie KASKO'!$I$45)","v":4},null,"/pár"]
["Bezpečnostní prvky",null,null,null,null,null,null,null,null,null,null,null,null,null,null,null,null,null,{"$f":"IF($D$55=\"NE\",\"NE\",'[1]Žaluzie KASKO'!$I$46)","v":10},null,"/ks"]
["Uvedené ceny jsou bez DPH."]
["U nestandardních věcí, jako je lakování atd., je termín dodání 4 týdny, popř. dle dohody !!!"]
["Na žaluzie o šířce 170-200mm a 2000-2500mm, o výšce 2000-2600mm a nebo o ploše větší než 2,4m² neposkytujeme záruku!!!"]
[]
["Platnost od:",null,null,{"$f":"'[1]Žaluzie KASKO'!$C$4","v":"2018-10-16"},null,null,null,null,null,null,null,null,null,null,null,null,null,{"$f":"[1]Úvod!$K$3","v":2},{"$f":"[1]Úvod!$L$3","v":"ŽALUZIE"}]
[]
[]
["Bankovní spojení:",null,null,null,null,null,null,null,null,"IČ: 69204705",null,null,null,null,null,null,null,"TEL: 583/284070"]
["KB Šumperk",null,null,null,null,null,null,null,null,"DIČ: CZ7204215799",null,null,null,null,null,null,null,"FAX: 583/238875"]
["č.ú. 43-5137000207/0100",null,null,null,null,null,null,null,null,"mail: objednavky@parapetyrs.cz",null,null,null,null,null,null,null,"MOBIL: 777/238872"]

{"sheet":"OBJ ISOLINE","index":1,"n_rows":33,"n_cols":38,"rows_kept":33,"cut":false,"hidden":false,"merged":[[31,0,31,17],[32,0,32,17],[1,14,1,17],[2,14,2,17],[3,14,3,17],[4,14,4,17],[5,14,5,17],[6,14,6,17],[7,14,7,17],[6,7,6,10],[7,7,7,10],[3,5,3,6],[4,5,4,6],[5,5,5,6],[6,5,6,6],[7,5,7,6],[6,13,7,13],[1,11,1,13],[0,0,0,17],[8,0,9,0],[8,1,9,1],[8,2,9,2],[8,3,9,3],[8,4,8,5],[1,5,1,10],[2,5,2,10],[2,11,2,12],[4,11,4,12],[5,11,5,12],[3,7,3,10],[4,7,4,10],[5,7,5,10],[8,10,9,10],[8,11,9,11],[8,12,9,12],[6,11,7,12],[3,11,3,12],[6,0,6,4],[7,0,7,4],[8,6,9,6],[8,7,8,8],[8,9,9,9],[1,0,1,4],[2,0,2,4],[3,0,3,4],[4,0,4,4],[5,0,5,4],[8,14,9,14],[8,15,9,15],[8,16,9,16],[8,17,9,17],[8,13,9,13]]}
["Objednávka žaluzií - ISOLINE"]
["Objednatel:",null,null,null,null,"List č. 1  z  1",null,null,null,null,null,"Souhrn objednávky:"]
[{"$f":"ISOLINE!A8","v":"INTERNET "},null,null,null,null,"(příklad: List č. 1   z.  5)",null,null,null,null,null,"Platnost od:",null,{"$f":"ISOLINE!$D$55","v":"2018-10-16"}]
[null,null,null,null,null,"Datum objednání:",null,null,null,null,null,"Plocha m²:",null,{"$f":"SUM(V11:V31)","v":0}]
[null,null,null,null,null,"Datum dodání:",null,null,null,null,null,"Kusů:",null,{"$f":"SUM(G11:G31)","v":0},"Stará 205, 789 61, Bludov"]
["IČ:",null,null,null,null,"Adresa dodání:",null,null,null,null,null,"Rabat, marže:",null,0,"Provozovna:"]
[null,null,null,null,null,"Kontakt:",null,null,null,null,null,"Přibližná cena bez DPH:",null,{"$f":"SUM(Q11:Q31)","v":0},"ul. Žerotínova 87, 787 01, Šumperk"]
[null,null,null,null,null,"Zakázka:",null,null,null,null,null,null,null,null,"bývalý areál Moravolenu (Bělidlo)"]
["Pozice","Lamela","Ovl.","Profil","Rozměr (v mm)",null,"ks","Barva",null,"Celostín","Rám okna","Podl. (pár)","Bezpeč. prvky","Délka ovl.         ( v mm)","m²","Cena kus","Cena celkem","Poznámka"]
[null,null,null,null,"Šířka","Výška",null,"Lamely","Profilů",null,null,null,null,null,null,null,null,null,null,null,null,"m2 řádek","šířka zaok","výška zaok","m2","příp barva lamela","příp profil","příp barva profilu","příp síla lamely","Š index","V index","Cena index","Cena jednotka","Cena vše","Dist. Podložka","Bezpečnostní prvky","Marže ks","Marže vše"]
[null,null,null,null,null,null,null,null,null,null,null,null,null,null,{"$f":"SUM(E11*F11)/1000000","v":0},{"$f":"IF(ISNA(AK11),\"\",AK11)","v":""},{"$f":"IF(ISNA(AL11),\"\",AL11)","v":""},null,null,null,null,{"$f":"SUM(G11*O11)","v":0},{"$f":"CEILING(E11,100)/10","v":0},{"$f":"CEILING(F11,100)/10","v":0},{"$f":"IF(O11>0.5,PRODUCT(W11,X11)/10000,0.5)","v":0.5},{"$f":"VLOOKUP(H11,Tabulky!$A$4:$B$169,2,FALSE) * Y11","v":{"$error":"#N/A"}},{"$f":"VLOOKUP(D11,Tabulky!$K$4:$L$6,2,FALSE) * Y11","v":{"$error":"#N/A"}},{"$f":"IF(ISNA(IF(I11 = \"\",0,VLOOKUP(I11,Tabulky!$K$16:$L$29,2,FALSE)) *  (W11/100)), 0,IF(I11 = \"\",0,VLOOKUP(I11,Tabulky!$K$16:$L$29,2,FALSE)) *  (W11/100))","v":0},{"$f":"VLOOKUP(B11,Tabulky!$K$31:$L$34,2,FALSE) * Y11","v":{"$error":"#N/A"}},{"$f":"MATCH(W11,ISOLINE!$B$17:$U$17,0)","v":{"$error":"#N/A"}},{"$f":"MATCH(X11,ISOLINE!$A$18:$A$37,0)","v":{"$error":"#N/A"}},{"$f":"ROUND(INDEX(ISOLINE!$B$18:$U$37,AE11,AD11),0)","v":{"$error":"#N/A"}},{"$f":"SUM(Z11,AA11,AB11,AC11,AJ11,AF11,AI11)","v":{"$error":"#N/A"}},{"$f":"AG11*IF(G11 = \"\",1,G11)","v":{"$error":"#N/A"}},{"$f":"SUM(L11*ISOLINE!$S$49)","v":0},{"$f":"IF(M11=\"ANO\",ISOLINE!$S$50,0)","v":0},{"$f":"SUM(AG11+AG11*$N$6)","v":{"$error":"#N/A"}},{"$f":"SUM(AH11+AH11*$N$6)","v":{"$error":"#N/A"}}]
[null,null,null,null,null,null,null,null,null,null,null,null,null,null,{"$f":"SUM(E12*F12)/1000000","v":0},{"$f":"IF(ISNA(AK12),\"\",AK12)","v":""},{"$f":"IF(ISNA(AL12),\"\",AL12)","v":""},null,null,null,null,{"$f":"SUM(G12*O12)","v":0},{"$f":"CEILING(E12,100)/10","v":0},{"$f":"CEILING(F12,100)/10","v":0},{"$f":"IF(O12>0.5,PRODUCT(W12,X12)/10000,0.5)","v":0.5},{"$f":"VLOOKUP(H12,Tabulky!$A$4:$B$169,2,FALSE) * Y12","v":{"$error":"#N/A"}},{"$f":"VLOOKUP(D12,Tabulky!$K$4:$L$6,2,FALSE) * Y12","v":{"$error":"#N/A"}},{"$f":"IF(ISNA(IF(I12 = \"\",0,VLOOKUP(I12,Tabulky!$K$16:$L$29,2,FALSE)) *  (W12/100)), 0,IF(I12 = \"\",0,VLOOKUP(I12,Tabulky!$K$16:$L$29,2,FALSE)) *  (W12/100))","v":0},{"$f":"VLOOKUP(B12,Tabulky!$K$31:$L$34,2,FALSE) * Y12","v":{"$error":"#N/A"}},{"$f":"MATCH(W12,ISOLINE!$B$17:$U$17,0)","v":{"$error":"#N/A"}},{"$f":"MATCH(X12,ISOLINE!$A$18:$A$37,0)","v":{"$error":"#N/A"}},{"$f":"ROUND(INDEX(ISOLINE!$B$18:$U$37,AE12,AD12),0)","v":{"$error":"#N/A"}},{"$f":"SUM(Z12,AA12,AB12,AC12,AJ12,AF12,AI12)","v":{"$error":"#N/A"}},{"$f":"AG12*IF(G12 = \"\",1,G12)","v":{"$error":"#N/A"}},{"$f":"SUM(L12*ISOLINE!$S$49)","v":0},{"$f":"IF(M12=\"ANO\",ISOLINE!$S$50,0)","v":0},{"$f":"SUM(AG12+AG12*$N$6)","v":{"$error":"#N/A"}},{"$f":"SUM(AH12+AH12*$N$6)","v":{"$error":"#N/A"}}]
[null,null,null,null,null,null,null,null,null,null,null,null,null,null,0,"","",null,null,null,null,0,0,0,0.5,{"$f":"VLOOKUP(H13,Tabulky!$A$4:$B$169,2,FALSE) * Y13","v":{"$error":"#N/A"}},{"$f":"VLOOKUP(D13,Tabulky!$K$4:$L$6,2,FALSE) * Y13","v":{"$error":"#N/A"}},{"$f":"IF(ISNA(IF(I13 = \"\",0,VLOOKUP(I13,Tabulky!$K$16:$L$29,2,FALSE)) *  (W13/100)), 0,IF(I13 = \"\",0,VLOOKUP(I13,Tabulky!$K$16:$L$29,2,FALSE)) *  (W13/100))","v":0},{"$f":"VLOOKUP(B13,Tabulky!$K$31:$L$34,2,FALSE) * Y13","v":{"$error":"#N/A"}},{"$f":"MATCH(W13,ISOLINE!$B$17:$U$17,0)","v":{"$error":"#N/A"}},{"$f":"MATCH(X13,ISOLINE!$A$18:$A$37,0)","v":{"$error":"#N/A"}},{"$f":"ROUND(INDEX(ISOLINE!$B$18:$U$37,AE13,AD13),0)","v":{"$error":"#N/A"}},{"$error":"#N/A"},{"$error":"#N/A"},{"$f":"SUM(L13*ISOLINE!$S$49)","v":0},{"$f":"IF(M13=\"ANO\",ISOLINE!$S$50,0)","v":0},{"$error":"#N/A"},{"$error":"#N/A"}]
[null,null,null,null,null,null,null,null,null,null,null,null,null,null,0,"","",null,null,null,null,0,0,0,0.5,{"$f":"VLOOKUP(H14,Tabulky!$A$4:$B$169,2,FALSE) * Y14","v":{"$error":"#N/A"}},{"$f":"VLOOKUP(D14,Tabulky!$K$4:$L$6,2,FALSE) * Y14","v":{"$error":"#N/A"}},{"$f":"IF(ISNA(IF(I14 = \"\",0,VLOOKUP(I14,Tabulky!$K$16:$L$29,2,FALSE)) *  (W14/100)), 0,IF(I14 = \"\",0,VLOOKUP(I14,Tabulky!$K$16:$L$29,2,FALSE)) *  (W14/100))","v":0},{"$f":"VLOOKUP(B14,Tabulky!$K$31:$L$34,2,FALSE) * Y14","v":{"$error":"#N/A"}},{"$f":"MATCH(W14,ISOLINE!$B$17:$U$17,0)","v":{"$error":"#N/A"}},{"$f":"MATCH(X14,ISOLINE!$A$18:$A$37,0)","v":{"$error":"#N/A"}},{"$f":"ROUND(INDEX(ISOLINE!$B$18:$U$37,AE14,AD14),0)","v":{"$error":"#N/A"}},{"$error":"#N/A"},{"$error":"#N/A"},{"$f":"SUM(L14*ISOLINE!$S$49)","v":0},{"$f":"IF(M14=\"ANO\",ISOLINE!$S$50,0)","v":0},{"$error":"#N/A"},{"$error":"#N/A"}]
[null,null,null,null,null,null,null,null,null,null,null,null,null,null,0,"","",null,null,null,null,0,0,0,0.5,{"$f":"VLOOKUP(H15,Tabulky!$A$4:$B$169,2,FALSE) * Y15","v":{"$error":"#N/A"}},{"$f":"VLOOKUP(D15,Tabulky!$K$4:$L$6,2,FALSE) * Y15","v":{"$error":"#N/A"}},{"$f":"IF(ISNA(IF(I15 = \"\",0,VLOOKUP(I15,Tabulky!$K$16:$L$29,2,FALSE)) *  (W15/100)), 0,IF(I15 = \"\",0,VLOOKUP(I15,Tabulky!$K$16:$L$29,2,FALSE)) *  (W15/100))","v":0},{"$f":"VLOOKUP(B15,Tabulky!$K$31:$L$34,2,FALSE) * Y15","v":{"$error":"#N/A"}},{"$f":"MATCH(W15,ISOLINE!$B$17:$U$17,0)","v":{"$error":"#N/A"}},{"$f":"MATCH(X15,ISOLINE!$A$18:$A$37,0)","v":{"$error":"#N/A"}},{"$f":"ROUND(INDEX(ISOLINE!$B$18:$U$37,AE15,AD15),0)","v":{"$error":"#N/A"}},{"$error":"#N/A"},{"$error":"#N/A"},{"$f":"SUM(L15*ISOLINE!$S$49)","v":0},{"$f":"IF(M15=\"ANO\",ISOLINE!$S$50,0)","v":0},{"$error":"#N/A"},{"$error":"#N/A"}]
[null,null,null,null,null,null,null,null,null,null,null,null,null,null,0,"","",null,null,null,null,0,0,0,0.5,{"$f":"VLOOKUP(H16,Tabulky!$A$4:$B$169,2,FALSE) * Y16","v":{"$error":"#N/A"}},{"$f":"VLOOKUP(D16,Tabulky!$K$4:$L$6,2,FALSE) * Y16","v":{"$error":"#N/A"}},{"$f":"IF(ISNA(IF(I16 = \"\",0,VLOOKUP(I16,Tabulky!$K$16:$L$29,2,FALSE)) *  (W16/100)), 0,IF(I16 = \"\",0,VLOOKUP(I16,Tabulky!$K$16:$L$29,2,FALSE)) *  (W16/100))","v":0},{"$f":"VLOOKUP(B16,Tabulky!$K$31:$L$34,2,FALSE) * Y16","v":{"$error":"#N/A"}},{"$f":"MATCH(W16,ISOLINE!$B$17:$U$17,0)","v":{"$error":"#N/A"}},{"$f":"MATCH(X16,ISOLINE!$A$18:$A$37,0)","v":{"$error":"#N/A"}},{"$f":"ROUND(INDEX(ISOLINE!$B$18:$U$37,AE16,AD16),0)","v":{"$error":"#N/A"}},{"$error":"#N/A"},{"$error":"#N/A"},{"$f":"SUM(L16*ISOLINE!$S$49)","v":0},{"$f":"IF(M16=\"ANO\",ISOLINE!$S$50,0)","v":0},{"$error":"#N/A"},{"$error":"#N/A"}]
[null,null,null,null,null,null,null,null,null,null,null,null,null,null,0,"","",null,null,null,null,0,0,0,0.5,{"$f":"VLOOKUP(H17,Tabulky!$A$4:$B$169,2,FALSE) * Y17","v":{"$error":"#N/A"}},{"$f":"VLOOKUP(D17,Tabulky!$K$4:$L$6,2,FALSE) * Y17","v":{"$error":"#N/A"}},{"$f":"IF(ISNA(IF(I17 = \"\",0,VLOOKUP(I17,Tabulky!$K$16:$L$29,2,FALSE)) *  (W17/100)), 0,IF(I17 = \"\",0,VLOOKUP(I17,Tabulky!$K$16:$L$29,2,FALSE)) *  (W17/100))","v":0},{"$f":"VLOOKUP(B17,Tabulky!$K$31:$L$34,2,FALSE) * Y17","v":{"$error":"#N/A"}},{"$f":"MATCH(W17,ISOLINE!$B$17:$U$17,0)","v":{"$error":"#N/A"}},{"$f":"MATCH(X17,ISOLINE!$A$18:$A$37,0)","v":{"$error":"#N/A"}},{"$f":"ROUND(INDEX(ISOLINE!$B$18:$U$37,AE17,AD17),0)","v":{"$error":"#N/A"}},{"$error":"#N/A"},{"$error":"#N/A"},{"$f":"SUM(L17*ISOLINE!$S$49)","v":0},{"$f":"IF(M17=\"ANO\",ISOLINE!$S$50,0)","v":0},{"$error":"#N/A"},{"$error":"#N/A"}]
[null,null,null,null,null,null,null,null,null,null,null,null,null,null,0,"","",null,null,null,null,0,0,0,0.5,{"$f":"VLOOKUP(H18,Tabulky!$A$4:$B$169,2,FALSE) * Y18","v":{"$error":"#N/A"}},{"$f":"VLOOKUP(D18,Tabulky!$K$4:$L$6,2,FALSE) * Y18","v":{"$error":"#N/A"}},{"$f":"IF(ISNA(IF(I18 = \"\",0,VLOOKUP(I18,Tabulky!$K$16:$L$29,2,FALSE)) *  (W18/100)), 0,IF(I18 = \"\",0,VLOOKUP(I18,Tabulky!$K$16:$L$29,2,FALSE)) *  (W18/100))","v":0},{"$f":"VLOOKUP(B18,Tabulky!$K$31:$L$34,2,FALSE) * Y18","v":{"$error":"#N/A"}},{"$f":"MATCH(W18,ISOLINE!$B$17:$U$17,0)","v":{"$error":"#N/A"}},{"$f":"MATCH(X18,ISOLINE!$A$18:$A$37,0)","v":{"$error":"#N/A"}},{"$f":"ROUND(INDEX(ISOLINE!$B$18:$U$37,AE18,AD18),0)","v":{"$error":"#N/A"}},{"$error":"#N/A"},{"$error":"#N/A"},{"$f":"SUM(L18*ISOLINE!$S$49)","v":0},{"$f":"IF(M18=\"ANO\",ISOLINE!$S$50,0)","v":0},{"$error":"#N/A"},{"$error":"#N/A"}]
[null,null,null,null,null,null,null,null,null,null,null,null,null,null,0,"","",null,null,null,null,0,0,0,0.5,{"$f":"VLOOKUP(H19,Tabulky!$A$4:$B$169,2,FALSE) * Y19","v":{"$error":"#N/A"}},{"$f":"VLOOKUP(D19,Tabulky!$K$4:$L$6,2,FALSE) * Y19","v":{"$error":"#N/A"}},{"$f":"IF(ISNA(IF(I19 = \"\",0,VLOOKUP(I19,Tabulky!$K$16:$L$29,2,FALSE)) *  (W19/100)), 0,IF(I19 = \"\",0,VLOOKUP(I19,Tabulky!$K$16:$L$29,2,FALSE)) *  (W19/100))","v":0},{"$f":"VLOOKUP(B19,Tabulky!$K$31:$L$34,2,FALSE) * Y19","v":{"$error":"#N/A"}},{"$f":"MATCH(W19,ISOLINE!$B$17:$U$17,0)","v":{"$error":"#N/A"}},{"$f":"MATCH(X19,ISOLINE!$A$18:$A$37,0)","v":{"$error":"#N/A"}},{"$f":"ROUND(INDEX(ISOLINE!$B$18:$U$37,AE19,AD19),0)","v":{"$error":"#N/A"}},{"$error":"#N/A"},{"$error":"#N/A"},{"$f":"SUM(L19*ISOLINE!$S$49)","v":0},{"$f":"IF(M19=\"ANO\",ISOLINE!$S$50,0)","v":0},{"$error":"#N/A"},{"$error":"#N/A"}]
[null,null,null,null,null,null,null,null,null,null,null,null,null,null,0,"","",null,null,null,null,0,0,0,0.5,{"$f":"VLOOKUP(H20,Tabulky!$A$4:$B$169,2,FALSE) * Y20","v":{"$error":"#N/A"}},{"$f":"VLOOKUP(D20,Tabulky!$K$4:$L$6,2,FALSE) * Y20","v":{"$error":"#N/A"}},{"$f":"IF(ISNA(IF(I20 = \"\",0,VLOOKUP(I20,Tabulky!$K$16:$L$29,2,FALSE)) *  (W20/100)), 0,IF(I20 = \"\",0,VLOOKUP(I20,Tabulky!$K$16:$L$29,2,FALSE)) *  (W20/100))","v":0},{"$f":"VLOOKUP(B20,Tabulky!$K$31:$L$34,2,FALSE) * Y20","v":{"$error":"#N/A"}},{"$f":"MATCH(W20,ISOLINE!$B$17:$U$17,0)","v":{"$error":"#N/A"}},{"$f":"MATCH(X20,ISOLINE!$A$18:$A$37,0)","v":{"$error":"#N/A"}},{"$f":"ROUND(INDEX(ISOLINE!$B$18:$U$37,AE20,AD20),0)","v":{"$error":"#N/A"}},{"$error":"#N/A"},{"$error":"#N/A"},{"$f":"SUM(L20*ISOLINE!$S$49)","v":0},{"$f":"IF(M20=\"ANO\",ISOLINE!$S$50,0)","v":0},{"$error":"#N/A"},{"$error":"#N/A"}]
[null,null,null,null,null,null,null,null,null,null,null,null,null,null,0,"","",null,null,null,null,0,0,0,0.5,{"$f":"VLOOKUP(H21,Tabulky!$A$4:$B$169,2,FALSE) * Y21","v":{"$error":"#N/A"}},{"$f":"VLOOKUP(D21,Tabulky!$K$4:$L$6,2,FALSE) * Y21","v":{"$error":"#N/A"}},{"$f":"IF(ISNA(IF(I21 = \"\",0,VLOOKUP(I21,Tabulky!$K$16:$L$29,2,FALSE)) *  (W21/100)), 0,IF(I21 = \"\",0,VLOOKUP(I21,Tabulky!$K$16:$L$29,2,FALSE)) *  (W21/100))","v":0},{"$f":"VLOOKUP(B21,Tabulky!$K$31:$L$34,2,FALSE) * Y21","v":{"$error":"#N/A"}},{"$f":"MATCH(W21,ISOLINE!$B$17:$U$17,0)","v":{"$error":"#N/A"}},{"$f":"MATCH(X21,ISOLINE!$A$18:$A$37,0)","v":{"$error":"#N/A"}},{"$f":"ROUND(INDEX(ISOLINE!$B$18:$U$37,AE21,AD21),0)","v":{"$error":"#N/A"}},{"$error":"#N/A"},{"$error":"#N/A"},{"$f":"SUM(L21*ISOLINE!$S$49)","v":0},{"$f":"IF(M21=\"ANO\",ISOLINE!$S$50,0)","v":0},{"$error":"#N/A"},{"$error":"#N/A"}]
[null,null,null,null,null,null,null,null,null,null,null,null,null,null,0,"","",null,null,null,null,0,0,0,0.5,{"$f":"VLOOKUP(H22,Tabulky!$A$4:$B$169,2,FALSE) * Y22","v":{"$error":"#N/A"}},{"$f":"VLOOKUP(D22,Tabulky!$K$4:$L$6,2,FALSE) * Y22","v":{"$error":"#N/A"}},{"$f":"IF(ISNA(IF(I22 = \"\",0,VLOOKUP(I22,Tabulky!$K$16:$L$29,2,FALSE)) *  (W22/100)), 0,IF(I22 = \"\",0,VLOOKUP(I22,Tabulky!$K$16:$L$29,2,FALSE)) *  (W22/100))","v":0},{"$f":"VLOOKUP(B22,Tabulky!$K$31:$L$34,2,FALSE) * Y22","v":{"$error":"#N/A"}},{"$f":"MATCH(W22,ISOLINE!$B$17:$U$17,0)","v":{"$error":"#N/A"}},{"$f":"MATCH(X22,ISOLINE!$A$18:$A$37,0)","v":{"$error":"#N/A"}},{"$f":"ROUND(INDEX(ISOLINE!$B$18:$U$37,AE22,AD22),0)","v":{"$error":"#N/A"}},{"$error":"#N/A"},{"$error":"#N/A"},{"$f":"SUM(L22*ISOLINE!$S$49)","v":0},{"$f":"IF(M22=\"ANO\",ISOLINE!$S$50,0)","v":0},{"$error":"#N/A"},{"$error":"#N/A"}]
[null,null,null,null,null,null,null,null,null,null,null,null,null,null,0,"","",null,null,null,null,0,0,0,0.5,{"$f":"VLOOKUP(H23,Tabulky!$A$4:$B$169,2,FALSE) * Y23","v":{"$error":"#N/A"}},{"$f":"VLOOKUP(D23,Tabulky!$K$4:$L$6,2,FALSE) * Y23","v":{"$error":"#N/A"}},{"$f":"IF(ISNA(IF(I23 = \"\",0,VLOOKUP(I23,Tabulky!$K$16:$L$29,2,FALSE)) *  (W23/100)), 0,IF(I23 = \"\",0,VLOOKUP(I23,Tabulky!$K$16:$L$29,2,FALSE)) *  (W23/100))","v":0},{"$f":"VLOOKUP(B23,Tabulky!$K$31:$L$34,2,FALSE) * Y23","v":{"$error":"#N/A"}},{"$f":"MATCH(W23,ISOLINE!$B$17:$U$17,0)","v":{"$error":"#N/A"}},{"$f":"MATCH(X23,ISOLINE!$A$18:$A$37,0)","v":{"$error":"#N/A"}},{"$f":"ROUND(INDEX(ISOLINE!$B$18:$U$37,AE23,AD23),0)","v":{"$error":"#N/A"}},{"$error":"#N/A"},{"$error":"#N/A"},{"$f":"SUM(L23*ISOLINE!$S$49)","v":0},{"$f":"IF(M23=\"ANO\",ISOLINE!$S$50,0)","v":0},{"$error":"#N/A"},{"$error":"#N/A"}]
[null,null,null,null,null,null,null,null,null,null,null,null,null,null,0,"","",null,null,null,null,0,0,0,0.5,{"$f":"VLOOKUP(H24,Tabulky!$A$4:$B$169,2,FALSE) * Y24","v":{"$error":"#N/A"}},{"$f":"VLOOKUP(D24,Tabulky!$K$4:$L$6,2,FALSE) * Y24","v":{"$error":"#N/A"}},{"$f":"IF(ISNA(IF(I24 = \"\",0,VLOOKUP(I24,Tabulky!$K$16:$L$29,2,FALSE)) *  (W24/100)), 0,IF(I24 = \"\",0,VLOOKUP(I24,Tabulky!$K$16:$L$29,2,FALSE)) *  (W24/100))","v":0},{"$f":"VLOOKUP(B24,Tabulky!$K$31:$L$34,2,FALSE) * Y24","v":{"$error":"#N/A"}},{"$f":"MATCH(W24,ISOLINE!$B$17:$U$17,0)","v":{"$error":"#N/A"}},{"$f":"MATCH(X24,ISOLINE!$A$18:$A$37,0)","v":{"$error":"#N/A"}},{"$f":"ROUND(INDEX(ISOLINE!$B$18:$U$37,AE24,AD24),0)","v":{"$error":"#N/A"}},{"$error":"#N/A"},{"$error":"#N/A"},{"$f":"SUM(L24*ISOLINE!$S$49)","v":0},{"$f":"IF(M24=\"ANO\",ISOLINE!$S$50,0)","v":0},{"$error":"#N/A"},{"$error":"#N/A"}]
[null,null,null,null,null,null,null,null,null,null,null,null,null,null,0,"","",null,null,null,null,0,0,0,0.5,{"$f":"VLOOKUP(H25,Tabulky!$A$4:$B$169,2,FALSE) * Y25","v":{"$error":"#N/A"}},{"$f":"VLOOKUP(D25,Tabulky!$K$4:$L$6,2,FALSE) * Y25","v":{"$error":"#N/A"}},{"$f":"IF(ISNA(IF(I25 = \"\",0,VLOOKUP(I25,Tabulky!$K$16:$L$29,2,FALSE)) *  (W25/100)), 0,IF(I25 = \"\",0,VLOOKUP(I25,Tabulky!$K$16:$L$29,2,FALSE)) *  (W25/100))","v":0},{"$f":"VLOOKUP(B25,Tabulky!$K$31:$L$34,2,FALSE) * Y25","v":{"$error":"#N/A"}},{"$f":"MATCH(W25,ISOLINE!$B$17:$U$17,0)","v":{"$error":"#N/A"}},{"$f":"MATCH(X25,ISOLINE!$A$18:$A$37,0)","v":{"$error":"#N/A"}},{"$f":"ROUND(INDEX(ISOLINE!$B$18:$U$37,AE25,AD25),0)","v":{"$error":"#N/A"}},{"$error":"#N/A"},{"$error":"#N/A"},{"$f":"SUM(L25*ISOLINE!$S$49)","v":0},{"$f":"IF(M25=\"ANO\",ISOLINE!$S$50,0)","v":0},{"$error":"#N/A"},{"$error":"#N/A"}]
[null,null,null,null,null,null,null,null,null,null,null,null,null,null,0,"","",null,null,null,null,0,0,0,0.5,{"$f":"VLOOKUP(H26,Tabulky!$A$4:$B$169,2,FALSE) * Y26","v":{"$error":"#N/A"}},{"$f":"VLOOKUP(D26,Tabulky!$K$4:$L$6,2,FALSE) * Y26","v":{"$error":"#N/A"}},{"$f":"IF(ISNA(IF(I26 = \"\",0,VLOOKUP(I26,Tabulky!$K$16:$L$29,2,FALSE)) *  (W26/100)), 0,IF(I26 = \"\",0,VLOOKUP(I26,Tabulky!$K$16:$L$29,2,FALSE)) *  (W26/100))","v":0},{"$f":"VLOOKUP(B26,Tabulky!$K$31:$L$34,2,FALSE) * Y26","v":{"$error":"#N/A"}},{"$f":"MATCH(W26,ISOLINE!$B$17:$U$17,0)","v":{"$error":"#N/A"}},{"$f":"MATCH(X26,ISOLINE!$A$18:$A$37,0)","v":{"$error":"#N/A"}},{"$f":"ROUND(INDEX(ISOLINE!$B$18:$U$37,AE26,AD26),0)","v":{"$error":"#N/A"}},{"$error":"#N/A"},{"$error":"#N/A"},{"$f":"SUM(L26*ISOLINE!$S$49)","v":0},{"$f":"IF(M26=\"ANO\",ISOLINE!$S$50,0)","v":0},{"$error":"#N/A"},{"$error":"#N/A"}]
[null,null,null,null,null,null,null,null,null,null,null,null,null,null,0,"","",null,null,null,null,0,0,0,0.5,{"$f":"VLOOKUP(H27,Tabulky!$A$4:$B$169,2,FALSE) * Y27","v":{"$error":"#N/A"}},{"$f":"VLOOKUP(D27,Tabulky!$K$4:$L$6,2,FALSE) * Y27","v":{"$error":"#N/A"}},{"$f":"IF(ISNA(IF(I27 = \"\",0,VLOOKUP(I27,Tabulky!$K$16:$L$29,2,FALSE)) *  (W27/100)), 0,IF(I27 = \"\",0,VLOOKUP(I27,Tabulky!$K$16:$L$29,2,FALSE)) *  (W27/100))","v":0},{"$f":"VLOOKUP(B27,Tabulky!$K$31:$L$34,2,FALSE) * Y27","v":{"$error":"#N/A"}},{"$f":"MATCH(W27,ISOLINE!$B$17:$U$17,0)","v":{"$error":"#N/A"}},{"$f":"MATCH(X27,ISOLINE!$A$18:$A$37,0)","v":{"$error":"#N/A"}},{"$f":"ROUND(INDEX(ISOLINE!$B$18:$U$37,AE27,AD27),0)","v":{"$error":"#N/A"}},{"$error":"#N/A"},{"$error":"#N/A"},{"$f":"SUM(L27*ISOLINE!$S$49)","v":0},{"$f":"IF(M27=\"ANO\",ISOLINE!$S$50,0)","v":0},{"$error":"#N/A"},{"$error":"#N/A"}]
[null,null,null,null,null,null,null,null,null,null,null,null,null,null,0,"","",null,null,null,null,0,0,0,0.5,{"$f":"VLOOKUP(H28,Tabulky!$A$4:$B$169,2,FALSE) * Y28","v":{"$error":"#N/A"}},{"$f":"VLOOKUP(D28,Tabulky!$K$4:$L$6,2,FALSE) * Y28","v":{"$error":"#N/A"}},{"$f":"IF(ISNA(IF(I28 = \"\",0,VLOOKUP(I28,Tabulky!$K$16:$L$29,2,FALSE)) *  (W28/100)), 0,IF(I28 = \"\",0,VLOOKUP(I28,Tabulky!$K$16:$L$29,2,FALSE)) *  (W28/100))","v":0},{"$f":"VLOOKUP(B28,Tabulky!$K$31:$L$34,2,FALSE) * Y28","v":{"$error":"#N/A"}},{"$f":"MATCH(W28,ISOLINE!$B$17:$U$17,0)","v":{"$error":"#N/A"}},{"$f":"MATCH(X28,ISOLINE!$A$18:$A$37,0)","v":{"$error":"#N/A"}},{"$f":"ROUND(INDEX(ISOLINE!$B$18:$U$37,AE28,AD28),0)","v":{"$error":"#N/A"}},{"$error":"#N/A"},{"$error":"#N/A"},{"$f":"SUM(L28*ISOLINE!$S$49)","v":0},{"$f":"IF(M28=\"ANO\",ISOLINE!$S$50,0)","v":0},{"$error":"#N/A"},{"$error":"#N/A"}]
[null,null,null,null,null,null,null,null,null,null,null,null,null,null,0,"","",null,null,null,null,0,0,0,0.5,{"$f":"VLOOKUP(H29,Tabulky!$A$4:$B$169,2,FALSE) * Y29","v":{"$error":"#N/A"}},{"$f":"VLOOKUP(D29,Tabulky!$K$4:$L$6,2,FALSE) * Y29","v":{"$error":"#N/A"}},{"$f":"IF(ISNA(IF(I29 = \"\",0,VLOOKUP(I29,Tabulky!$K$16:$L$29,2,FALSE)) *  (W29/100)), 0,IF(I29 = \"\",0,VLOOKUP(I29,Tabulky!$K$16:$L$29,2,FALSE)) *  (W29/100))","v":0},{"$f":"VLOOKUP(B29,Tabulky!$K$31:$L$34,2,FALSE) * Y29","v":{"$error":"#N/A"}},{"$f":"MATCH(W29,ISOLINE!$B$17:$U$17,0)","v":{"$error":"#N/A"}},{"$f":"MATCH(X29,ISOLINE!$A$18:$A$37,0)","v":{"$error":"#N/A"}},{"$f":"ROUND(INDEX(ISOLINE!$B$18:$U$37,AE29,AD29),0)","v":{"$error":"#N/A"}},{"$error":"#N/A"},{"$error":"#N/A"},{"$f":"SUM(L29*ISOLINE!$S$49)","v":0},{"$f":"IF(M29=\"ANO\",ISOLINE!$S$50,0)","v":0},{"$error":"#N/A"},{"$error":"#N/A"}]
[null,null,null,null,null,null,null,null,null,null,null,null,null,null,0,"","",null,null,null,null,0,0,0,0.5,{"$f":"VLOOKUP(H30,Tabulky!$A$4:$B$169,2,FALSE) * Y30","v":{"$error":"#N/A"}},{"$f":"VLOOKUP(D30,Tabulky!$K$4:$L$6,2,FALSE) * Y30","v":{"$error":"#N/A"}},{"$f":"IF(ISNA(IF(I30 = \"\",0,VLOOKUP(I30,Tabulky!$K$16:$L$29,2,FALSE)) *  (W30/100)), 0,IF(I30 = \"\",0,VLOOKUP(I30,Tabulky!$K$16:$L$29,2,FALSE)) *  (W30/100))","v":0},{"$f":"VLOOKUP(B30,Tabulky!$K$31:$L$34,2,FALSE) * Y30","v":{"$error":"#N/A"}},{"$f":"MATCH(W30,ISOLINE!$B$17:$U$17,0)","v":{"$error":"#N/A"}},{"$f":"MATCH(X30,ISOLINE!$A$18:$A$37,0)","v":{"$error":"#N/A"}},{"$f":"ROUND(INDEX(ISOLINE!$B$18:$U$37,AE30,AD30),0)","v":{"$error":"#N/A"}},{"$error":"#N/A"},{"$error":"#N/A"},{"$f":"SUM(L30*ISOLINE!$S$49)","v":0},{"$f":"IF(M30=\"ANO\",ISOLINE!$S$50,0)","v":0},{"$error":"#N/A"},{"$error":"#N/A"}]
[null,null,null,null,null,null,null,null,null,null,null,null,null,null,0,"","",null,null,null,null,0,0,0,0.5,{"$f":"VLOOKUP(H31,Tabulky!$A$4:$B$169,2,FALSE) * Y31","v":{"$error":"#N/A"}},{"$f":"VLOOKUP(D31,Tabulky!$K$4:$L$6,2,FALSE) * Y31","v":{"$error":"#N/A"}},{"$f":"IF(ISNA(IF(I31 = \"\",0,VLOOKUP(I31,Tabulky!$K$16:$L$29,2,FALSE)) *  (W31/100)), 0,IF(I31 = \"\",0,VLOOKUP(I31,Tabulky!$K$16:$L$29,2,FALSE)) *  (W31/100))","v":0},{"$f":"VLOOKUP(B31,Tabulky!$K$31:$L$34,2,FALSE) * Y31","v":{"$error":"#N/A"}},{"$f":"MATCH(W31,ISOLINE!$B$17:$U$17,0)","v":{"$error":"#N/A"}},{"$f":"MATCH(X31,ISOLINE!$A$18:$A$37,0)","v":{"$error":"#N/A"}},{"$f":"ROUND(INDEX(ISOLINE!$B$18:$U$37,AE31,AD31),0)","v":{"$error":"#N/A"}},{"$error":"#N/A"},{"$error":"#N/A"},{"$f":"SUM(L31*ISOLINE!$S$49)","v":0},{"$f":"IF(M31=\"ANO\",ISOLINE!$S$50,0)","v":0},{"$error":"#N/A"},{"$error":"#N/A"}]
["Žaluzie o rozměru na šířku 170-200mm a 2000-2500mm a na výšku 2000-2600mm vyrobíme BEZ záruky. Žaluzie lze vyrobit max do 2,4m²."]
["Cena je pouze orientační  a nemusí odpovídat skutečnosti."]

{"sheet":"PRIM","index":2,"n_rows":61,"n_cols":21,"rows_kept":61,"cut":false,"hidden":true,"merged":[[43,0,43,17],[43,18,43,19],[37,19,37,20],[3,15,3,16],[4,15,4,16],[6,0,6,20],[7,0,7,20],[14,0,15,0],[40,0,40,17],[40,18,40,19],[41,0,41,17],[41,18,41,19],[42,0,42,17],[42,18,42,19],[44,0,44,17],[44,18,44,19],[45,0,45,17],[45,18,45,19],[48,0,48,17],[48,18,48,19],[49,0,49,17],[49,18,49,19],[55,3,55,6],[46,0,46,17],[46,18,46,19],[47,0,47,17],[47,18,47,19]]}
[null,null,null,null,null,null,null,null,null,null,null,null,null,null,"PROVOZOVNA:","Žerotínova 87"]
[null,null,null,null,null,null,null,null,null,null,null,null,null,null,null,"areál Na Bělidle"]
[null,null,null,null,null,null,null,null,null,null,null,null,null,null,null,"787 01 Šumperk"]
[null,null,null,null,null,null,null,null,null,null,null,null,null,null,"Region:",{"$f":"[1]Úvod!$G$7","v":"Šumperk"}]
["Stará 205 , 789 61, Bludov",null,null,null,null,null,"www.parapetyrs.cz",null,null,null,null,null,null,null,"Vyhotovil:",{"$f":"[1]Úvod!$G$8","v":"Baženov"}]
[]
["Ceník ISOLINE - PRIM žaluzií pro firmu"]
[{"$f":"'[1]Žaluzie KASKO'!$N$4","v":"INTERNET "}]
[]
["Typ:",null,"Sdružené ovládání pomocí řetízku - barva bílá, stříbrná, béžová, hnědá, světle hnědá"]
[null,null,"Vytahovací páska 0,14 x 5 mm - barva bílá, stříbrná, béžová, hnědá, světle hnědá "]
[null,null,"Horní a spodní profil plechový - bílá RAL 9010, stříbrná RAL 9006, hnědá RAL 8017, Zlatá (714), Bronzová (700)"]
[null,null,"slonová kost RAL 1013, sv. hnědá RAL 8003, sv. hnědá RAL 8004, Antracit RAL 7016"]
[]
["Výška",null,null,null,null,null,null,null,null,null,"Šířka"]
[null,30,40,50,60,70,80,90,100,110,120,130,140,150,160,170,180,190,200,210,220]
[30,{"$f":"IF($D$56=\"NE\",\"NE\",'[1]Žaluzie KASKO'!AE10)","v":179},{"$f":"IF($D$56=\"NE\",\"NE\",'[1]Žaluzie KASKO'!AF10)","v":192},{"$f":"IF($D$56=\"NE\",\"NE\",'[1]Žaluzie KASKO'!AG10)","v":205},{"$f":"IF($D$56=\"NE\",\"NE\",'[1]Žaluzie KASKO'!AH10)","v":217},{"$f":"IF($D$56=\"NE\",\"NE\",'[1]Žaluzie KASKO'!AI10)","v":244},{"$f":"IF($D$56=\"NE\",\"NE\",'[1]Žaluzie KASKO'!AJ10)","v":256},{"$f":"IF($D$56=\"NE\",\"NE\",'[1]Žaluzie KASKO'!AK10)","v":268},{"$f":"IF($D$56=\"NE\",\"NE\",'[1]Žaluzie KASKO'!AL10)","v":285},{"$f":"IF($D$56=\"NE\",\"NE\",'[1]Žaluzie KASKO'!AM10)","v":298},{"$f":"IF($D$56=\"NE\",\"NE\",'[1]Žaluzie KASKO'!AN10)","v":310},{"$f":"IF($D$56=\"NE\",\"NE\",'[1]Žaluzie KASKO'!AO10)","v":324},{"$f":"IF($D$56=\"NE\",\"NE\",'[1]Žaluzie KASKO'!AP10)","v":354},{"$f":"IF($D$56=\"NE\",\"NE\",'[1]Žaluzie KASKO'!AQ10)","v":365},{"$f":"IF($D$56=\"NE\",\"NE\",'[1]Žaluzie KASKO'!AR10)","v":378},{"$f":"IF($D$56=\"NE\",\"NE\",'[1]Žaluzie KASKO'!AS10)","v":391},{"$f":"IF($D$56=\"NE\",\"NE\",'[1]Žaluzie KASKO'!AT10)","v":402},{"$f":"IF($D$56=\"NE\",\"NE\",'[1]Žaluzie KASKO'!AU10)","v":416},{"$f":"IF($D$56=\"NE\",\"NE\",'[1]Žaluzie KASKO'!AV10)","v":445},{"$f":"IF($D$56=\"NE\",\"NE\",'[1]Žaluzie KASKO'!AW10)","v":460},{"$f":"IF($D$56=\"NE\",\"NE\",'[1]Žaluzie KASKO'!AX10)","v":471}]
[40,{"$f":"IF($D$56=\"NE\",\"NE\",'[1]Žaluzie KASKO'!AE11)","v":188},{"$f":"IF($D$56=\"NE\",\"NE\",'[1]Žaluzie KASKO'!AF11)","v":200},{"$f":"IF($D$56=\"NE\",\"NE\",'[1]Žaluzie KASKO'!AG11)","v":214},{"$f":"IF($D$56=\"NE\",\"NE\",'[1]Žaluzie KASKO'!AH11)","v":229},{"$f":"IF($D$56=\"NE\",\"NE\",'[1]Žaluzie KASKO'!AI11)","v":258},{"$f":"IF($D$56=\"NE\",\"NE\",'[1]Žaluzie KASKO'!AJ11)","v":270},{"$f":"IF($D$56=\"NE\",\"NE\",'[1]Žaluzie KASKO'!AK11)","v":285},{"$f":"IF($D$56=\"NE\",\"NE\",'[1]Žaluzie KASKO'!AL11)","v":303},{"$f":"IF($D$56=\"NE\",\"NE\",'[1]Žaluzie KASKO'!AM11)","v":317},{"$f":"IF($D$56=\"NE\",\"NE\",'[1]Žaluzie KASKO'!AN11)","v":331},{"$f":"IF($D$56=\"NE\",\"NE\",'[1]Žaluzie KASKO'!AO11)","v":351},{"$f":"IF($D$56=\"NE\",\"NE\",'[1]Žaluzie KASKO'!AP11)","v":379},{"$f":"IF($D$56=\"NE\",\"NE\",'[1]Žaluzie KASKO'!AQ11)","v":394},{"$f":"IF($D$56=\"NE\",\"NE\",'[1]Žaluzie KASKO'!AR11)","v":406},{"$f":"IF($D$56=\"NE\",\"NE\",'[1]Žaluzie KASKO'!AS11)","v":420},{"$f":"IF($D$56=\"NE\",\"NE\",'[1]Žaluzie KASKO'!AT11)","v":434},{"$f":"IF($D$56=\"NE\",\"NE\",'[1]Žaluzie KASKO'!AU11)","v":447},{"$f":"IF($D$56=\"NE\",\"NE\",'[1]Žaluzie KASKO'!AV11)","v":482},{"$f":"IF($D$56=\"NE\",\"NE\",'[1]Žaluzie KASKO'!AW11)","v":501},{"$f":"IF($D$56=\"NE\",\"NE\",'[1]Žaluzie KASKO'!AX11)","v":513}]
[50,{"$f":"IF($D$56=\"NE\",\"NE\",'[1]Žaluzie KASKO'!AE12)","v":193},{"$f":"IF($D$56=\"NE\",\"NE\",'[1]Žaluzie KASKO'!AF12)","v":207},{"$f":"IF($D$56=\"NE\",\"NE\",'[1]Žaluzie KASKO'!AG12)","v":222},{"$f":"IF($D$56=\"NE\",\"NE\",'[1]Žaluzie KASKO'!AH12)","v":237},{"$f":"IF($D$56=\"NE\",\"NE\",'[1]Žaluzie KASKO'!AI12)","v":267},{"$f":"IF($D$56=\"NE\",\"NE\",'[1]Žaluzie KASKO'!AJ12)","v":282},{"$f":"IF($D$56=\"NE\",\"NE\",'[1]Žaluzie KASKO'!AK12)","v":298},{"$f":"IF($D$56=\"NE\",\"NE\",'[1]Žaluzie KASKO'!AL12)","v":320},{"$f":"IF($D$56=\"NE\",\"NE\",'[1]Žaluzie KASKO'!AM12)","v":335},{"$f":"IF($D$56=\"NE\",\"NE\",'[1]Žaluzie KASKO'!AN12)","v":348},{"$f":"IF($D$56=\"NE\",\"NE\",'[1]Žaluzie KASKO'!AO12)","v":364},{"$f":"IF($D$56=\"NE\",\"NE\",'[1]Žaluzie KASKO'!AP12)","v":400},{"$f":"IF($D$56=\"NE\",\"NE\",'[1]Žaluzie KASKO'!AQ12)","v":416},{"$f":"IF($D$56=\"NE\",\"NE\",'[1]Žaluzie KASKO'!AR12)","v":431},{"$f":"IF($D$56=\"NE\",\"NE\",'[1]Žaluzie KASKO'!AS12)","v":445},{"$f":"IF($D$56=\"NE\",\"NE\",'[1]Žaluzie KASKO'!AT12)","v":460},{"$f":"IF($D$56=\"NE\",\"NE\",'[1]Žaluzie KASKO'!AU12)","v":476},{"$f":"IF($D$56=\"NE\",\"NE\",'[1]Žaluzie KASKO'!AV12)","v":513},{"$f":"IF($D$56=\"NE\",\"NE\",'[1]Žaluzie KASKO'!AW12)","v":528},{"$f":"IF($D$56=\"NE\",\"NE\",'[1]Žaluzie KASKO'!AX12)","v":543}]
[60,{"$f":"IF($D$56=\"NE\",\"NE\",'[1]Žaluzie KASKO'!AE13)","v":202},{"$f":"IF($D$56=\"NE\",\"NE\",'[1]Žaluzie KASKO'!AF13)","v":217},{"$f":"IF($D$56=\"NE\",\"NE\",'[1]Žaluzie KASKO'!AG13)","v":231},{"$f":"IF($D$56=\"NE\",\"NE\",'[1]Žaluzie KASKO'!AH13)","v":249},{"$f":"IF($D$56=\"NE\",\"NE\",'[1]Žaluzie KASKO'!AI13)","v":282},{"$f":"IF($D$56=\"NE\",\"NE\",'[1]Žaluzie KASKO'!AJ13)","v":297},{"$f":"IF($D$56=\"NE\",\"NE\",'[1]Žaluzie KASKO'!AK13)","v":314},{"$f":"IF($D$56=\"NE\",\"NE\",'[1]Žaluzie KASKO'!AL13)","v":339},{"$f":"IF($D$56=\"NE\",\"NE\",'[1]Žaluzie KASKO'!AM13)","v":356},{"$f":"IF($D$56=\"NE\",\"NE\",'[1]Žaluzie KASKO'!AN13)","v":371},{"$f":"IF($D$56=\"NE\",\"NE\",'[1]Žaluzie KASKO'!AO13)","v":388},{"$f":"IF($D$56=\"NE\",\"NE\",'[1]Žaluzie KASKO'!AP13)","v":429},{"$f":"IF($D$56=\"NE\",\"NE\",'[1]Žaluzie KASKO'!AQ13)","v":446},{"$f":"IF($D$56=\"NE\",\"NE\",'[1]Žaluzie KASKO'!AR13)","v":447},{"$f":"IF($D$56=\"NE\",\"NE\",'[1]Žaluzie KASKO'!AS13)","v":477},{"$f":"IF($D$56=\"NE\",\"NE\",'[1]Žaluzie KASKO'!AT13)","v":495},{"$f":"IF($D$56=\"NE\",\"NE\",'[1]Žaluzie KASKO'!AU13)","v":509},{"$f":"IF($D$56=\"NE\",\"NE\",'[1]Žaluzie KASKO'!AV13)","v":551},{"$f":"IF($D$56=\"NE\",\"NE\",'[1]Žaluzie KASKO'!AW13)","v":581},{"$f":"IF($D$56=\"NE\",\"NE\",'[1]Žaluzie KASKO'!AX13)","v":592}]
[70,{"$f":"IF($D$56=\"NE\",\"NE\",'[1]Žaluzie KASKO'!AE14)","v":211},{"$f":"IF($D$56=\"NE\",\"NE\",'[1]Žaluzie KASKO'!AF14)","v":226},{"$f":"IF($D$56=\"NE\",\"NE\",'[1]Žaluzie KASKO'!AG14)","v":245},{"$f":"IF($D$56=\"NE\",\"NE\",'[1]Žaluzie KASKO'!AH14)","v":264},{"$f":"IF($D$56=\"NE\",\"NE\",'[1]Žaluzie KASKO'!AI14)","v":298},{"$f":"IF($D$56=\"NE\",\"NE\",'[1]Žaluzie KASKO'!AJ14)","v":315},{"$f":"IF($D$56=\"NE\",\"NE\",'[1]Žaluzie KASKO'!AK14)","v":332},{"$f":"IF($D$56=\"NE\",\"NE\",'[1]Žaluzie KASKO'!AL14)","v":361},{"$f":"IF($D$56=\"NE\",\"NE\",'[1]Žaluzie KASKO'!AM14)","v":377},{"$f":"IF($D$56=\"NE\",\"NE\",'[1]Žaluzie KASKO'!AN14)","v":390},{"$f":"IF($D$56=\"NE\",\"NE\",'[1]Žaluzie KASKO'!AO14)","v":414},{"$f":"IF($D$56=\"NE\",\"NE\",'[1]Žaluzie KASKO'!AP14)","v":457},{"$f":"IF($D$56=\"NE\",\"NE\",'[1]Žaluzie KASKO'!AQ14)","v":475},{"$f":"IF($D$56=\"NE\",\"NE\",'[1]Žaluzie KASKO'!AR14)","v":491},{"$f":"IF($D$56=\"NE\",\"NE\",'[1]Žaluzie KASKO'!AS14)","v":509},{"$f":"IF($D$56=\"NE\",\"NE\",'[1]Žaluzie KASKO'!AT14)","v":528},{"$f":"IF($D$56=\"NE\",\"NE\",'[1]Žaluzie KASKO'!AU14)","v":546},{"$f":"IF($D$56=\"NE\",\"NE\",'[1]Žaluzie KASKO'!AV14)","v":588},{"$f":"IF($D$56=\"NE\",\"NE\",'[1]Žaluzie KASKO'!AW14)","v":616},{"$f":"IF($D$56=\"NE\",\"NE\",'[1]Žaluzie KASKO'!AX14)","v":640}]
[80,{"$f":"IF($D$56=\"NE\",\"NE\",'[1]Žaluzie KASKO'!AE15)","v":218},{"$f":"IF($D$56=\"NE\",\"NE\",'[1]Žaluzie KASKO'!AF15)","v":244},{"$f":"IF($D$56=\"NE\",\"NE\",'[1]Žaluzie KASKO'!AG15)","v":255},{"$f":"IF($D$56=\"NE\",\"NE\",'[1]Žaluzie KASKO'!AH15)","v":274},{"$f":"IF($D$56=\"NE\",\"NE\",'[1]Žaluzie KASKO'!AI15)","v":309},{"$f":"IF($D$56=\"NE\",\"NE\",'[1]Žaluzie KASKO'!AJ15)","v":329},{"$f":"IF($D$56=\"NE\",\"NE\",'[1]Žaluzie KASKO'!AK15)","v":348},{"$f":"IF($D$56=\"NE\",\"NE\",'[1]Žaluzie KASKO'!AL15)","v":377},{"$f":"IF($D$56=\"NE\",\"NE\",'[1]Žaluzie KASKO'!AM15)","v":396},{"$f":"IF($D$56=\"NE\",\"NE\",'[1]Žaluzie KASKO'!AN15)","v":410},{"$f":"IF($D$56=\"NE\",\"NE\",'[1]Žaluzie KASKO'!AO15)","v":432},{"$f":"IF($D$56=\"NE\",\"NE\",'[1]Žaluzie KASKO'!AP15)","v":478},{"$f":"IF($D$56=\"NE\",\"NE\",'[1]Žaluzie KASKO'!AQ15)","v":498},{"$f":"IF($D$56=\"NE\",\"NE\",'[1]Žaluzie KASKO'!AR15)","v":517},{"$f":"IF($D$56=\"NE\",\"NE\",'[1]Žaluzie KASKO'!AS15)","v":537},{"$f":"IF($D$56=\"NE\",\"NE\",'[1]Žaluzie KASKO'!AT15)","v":555},{"$f":"IF($D$56=\"NE\",\"NE\",'[1]Žaluzie KASKO'!AU15)","v":573},{"$f":"IF($D$56=\"NE\",\"NE\",'[1]Žaluzie KASKO'!AV15)","v":620},{"$f":"IF($D$56=\"NE\",\"NE\",'[1]Žaluzie KASKO'!AW15)","v":652},{"$f":"IF($D$56=\"NE\",\"NE\",'[1]Žaluzie KASKO'!AX15)","v":687}]
[90,{"$f":"IF($D$56=\"NE\",\"NE\",'[1]Žaluzie KASKO'!AE16)","v":226},{"$f":"IF($D$56=\"NE\",\"NE\",'[1]Žaluzie KASKO'!AF16)","v":246},{"$f":"IF($D$56=\"NE\",\"NE\",'[1]Žaluzie KASKO'!AG16)","v":267},{"$f":"IF($D$56=\"NE\",\"NE\",'[1]Žaluzie KASKO'!AH16)","v":285},{"$f":"IF($D$56=\"NE\",\"NE\",'[1]Žaluzie KASKO'!AI16)","v":324},{"$f":"IF($D$56=\"NE\",\"NE\",'[1]Žaluzie KASKO'!AJ16)","v":344},{"$f":"IF($D$56=\"NE\",\"NE\",'[1]Žaluzie KASKO'!AK16)","v":365},{"$f":"IF($D$56=\"NE\",\"NE\",'[1]Žaluzie KASKO'!AL16)","v":397},{"$f":"IF($D$56=\"NE\",\"NE\",'[1]Žaluzie KASKO'!AM16)","v":419},{"$f":"IF($D$56=\"NE\",\"NE\",'[1]Žaluzie KASKO'!AN16)","v":438},{"$f":"IF($D$56=\"NE\",\"NE\",'[1]Žaluzie KASKO'!AO16)","v":459},{"$f":"IF($D$56=\"NE\",\"NE\",'[1]Žaluzie KASKO'!AP16)","v":505},{"$f":"IF($D$56=\"NE\",\"NE\",'[1]Žaluzie KASKO'!AQ16)","v":526},{"$f":"IF($D$56=\"NE\",\"NE\",'[1]Žaluzie KASKO'!AR16)","v":548},{"$f":"IF($D$56=\"NE\",\"NE\",'[1]Žaluzie KASKO'!AS16)","v":568},{"$f":"IF($D$56=\"NE\",\"NE\",'[1]Žaluzie KASKO'!AT16)","v":590},{"$f":"IF($D$56=\"NE\",\"NE\",'[1]Žaluzie KASKO'!AU16)","v":608},{"$f":"IF($D$56=\"NE\",\"NE\",'[1]Žaluzie KASKO'!AV16)","v":657},{"$f":"IF($D$56=\"NE\",\"NE\",'[1]Žaluzie KASKO'!AW16)","v":678},{"$f":"IF($D$56=\"NE\",\"NE\",'[1]Žaluzie KASKO'!AX16)","v":733}]
[100,{"$f":"IF($D$56=\"NE\",\"NE\",'[1]Žaluzie KASKO'!AE17)","v":234},{"$f":"IF($D$56=\"NE\",\"NE\",'[1]Žaluzie KASKO'!AF17)","v":256},{"$f":"IF($D$56=\"NE\",\"NE\",'[1]Žaluzie KASKO'!AG17)","v":278},{"$f":"IF($D$56=\"NE\",\"NE\",'[1]Žaluzie KASKO'!AH17)","v":301},{"$f":"IF($D$56=\"NE\",\"NE\",'[1]Žaluzie KASKO'!AI17)","v":339},{"$f":"IF($D$56=\"NE\",\"NE\",'[1]Žaluzie KASKO'!AJ17)","v":359},{"$f":"IF($D$56=\"NE\",\"NE\",'[1]Žaluzie KASKO'!AK17)","v":382},{"$f":"IF($D$56=\"NE\",\"NE\",'[1]Žaluzie KASKO'!AL17)","v":419},{"$f":"IF($D$56=\"NE\",\"NE\",'[1]Žaluzie KASKO'!AM17)","v":438},{"$f":"IF($D$56=\"NE\",\"NE\",'[1]Žaluzie KASKO'!AN17)","v":460},{"$f":"IF($D$56=\"NE\",\"NE\",'[1]Žaluzie KASKO'!AO17)","v":483},{"$f":"IF($D$56=\"NE\",\"NE\",'[1]Žaluzie KASKO'!AP17)","v":534},{"$f":"IF($D$56=\"NE\",\"NE\",'[1]Žaluzie KASKO'!AQ17)","v":557},{"$f":"IF($D$56=\"NE\",\"NE\",'[1]Žaluzie KASKO'!AR17)","v":578},{"$f":"IF($D$56=\"NE\",\"NE\",'[1]Žaluzie KASKO'!AS17)","v":600},{"$f":"IF($D$56=\"NE\",\"NE\",'[1]Žaluzie KASKO'!AT17)","v":620},{"$f":"IF($D$56=\"NE\",\"NE\",'[1]Žaluzie KASKO'!AU17)","v":643},{"$f":"IF($D$56=\"NE\",\"NE\",'[1]Žaluzie KASKO'!AV17)","v":695},{"$f":"IF($D$56=\"NE\",\"NE\",'[1]Žaluzie KASKO'!AW17)","v":720},{"$f":"IF($D$56=\"NE\",\"NE\",'[1]Žaluzie KASKO'!AX17)","v":756}]
[110,{"$f":"IF($D$56=\"NE\",\"NE\",'[1]Žaluzie KASKO'!AE18)","v":242},{"$f":"IF($D$56=\"NE\",\"NE\",'[1]Žaluzie KASKO'!AF18)","v":264},{"$f":"IF($D$56=\"NE\",\"NE\",'[1]Žaluzie KASKO'!AG18)","v":288},{"$f":"IF($D$56=\"NE\",\"NE\",'[1]Žaluzie KASKO'!AH18)","v":311},{"$f":"IF($D$56=\"NE\",\"NE\",'[1]Žaluzie KASKO'!AI18)","v":351},{"$f":"IF($D$56=\"NE\",\"NE\",'[1]Žaluzie KASKO'!AJ18)","v":374},{"$f":"IF($D$56=\"NE\",\"NE\",'[1]Žaluzie KASKO'!AK18)","v":397},{"$f":"IF($D$56=\"NE\",\"NE\",'[1]Žaluzie KASKO'!AL18)","v":434},{"$f":"IF($D$56=\"NE\",\"NE\",'[1]Žaluzie KASKO'!AM18)","v":456},{"$f":"IF($D$56=\"NE\",\"NE\",'[1]Žaluzie KASKO'!AN18)","v":481},{"$f":"IF($D$56=\"NE\",\"NE\",'[1]Žaluzie KASKO'!AO18)","v":504},{"$f":"IF($D$56=\"NE\",\"NE\",'[1]Žaluzie KASKO'!AP18)","v":558},{"$f":"IF($D$56=\"NE\",\"NE\",'[1]Žaluzie KASKO'!AQ18)","v":580},{"$f":"IF($D$56=\"NE\",\"NE\",'[1]Žaluzie KASKO'!AR18)","v":603},{"$f":"IF($D$56=\"NE\",\"NE\",'[1]Žaluzie KASKO'!AS18)","v":627},{"$f":"IF($D$56=\"NE\",\"NE\",'[1]Žaluzie KASKO'!AT18)","v":649},{"$f":"IF($D$56=\"NE\",\"NE\",'[1]Žaluzie KASKO'!AU18)","v":672},{"$f":"IF($D$56=\"NE\",\"NE\",'[1]Žaluzie KASKO'!AV18)","v":726},{"$f":"IF($D$56=\"NE\",\"NE\",'[1]Žaluzie KASKO'!AW18)","v":758},{"$f":"IF($D$56=\"NE\",\"NE\",'[1]Žaluzie KASKO'!AX18)","v":793}]
[120,{"$f":"IF($D$56=\"NE\",\"NE\",'[1]Žaluzie KASKO'!AE19)","v":252},{"$f":"IF($D$56=\"NE\",\"NE\",'[1]Žaluzie KASKO'!AF19)","v":274},{"$f":"IF($D$56=\"NE\",\"NE\",'[1]Žaluzie KASKO'!AG19)","v":299},{"$f":"IF($D$56=\"NE\",\"NE\",'[1]Žaluzie KASKO'!AH19)","v":324},{"$f":"IF($D$56=\"NE\",\"NE\",'[1]Žaluzie KASKO'!AI19)","v":366},{"$f":"IF($D$56=\"NE\",\"NE\",'[1]Žaluzie KASKO'!AJ19)","v":391},{"$f":"IF($D$56=\"NE\",\"NE\",'[1]Žaluzie KASKO'!AK19)","v":414},{"$f":"IF($D$56=\"NE\",\"NE\",'[1]Žaluzie KASKO'!AL19)","v":458},{"$f":"IF($D$56=\"NE\",\"NE\",'[1]Žaluzie KASKO'!AM19)","v":480},{"$f":"IF($D$56=\"NE\",\"NE\",'[1]Žaluzie KASKO'!AN19)","v":503},{"$f":"IF($D$56=\"NE\",\"NE\",'[1]Žaluzie KASKO'!AO19)","v":547},{"$f":"IF($D$56=\"NE\",\"NE\",'[1]Žaluzie KASKO'!AP19)","v":585},{"$f":"IF($D$56=\"NE\",\"NE\",'[1]Žaluzie KASKO'!AQ19)","v":609},{"$f":"IF($D$56=\"NE\",\"NE\",'[1]Žaluzie KASKO'!AR19)","v":634},{"$f":"IF($D$56=\"NE\",\"NE\",'[1]Žaluzie KASKO'!AS19)","v":660},{"$f":"IF($D$56=\"NE\",\"NE\",'[1]Žaluzie KASKO'!AT19)","v":684},{"$f":"IF($D$56=\"NE\",\"NE\",'[1]Žaluzie KASKO'!AU19)","v":707},{"$f":"IF($D$56=\"NE\",\"NE\",'[1]Žaluzie KASKO'!AV19)","v":764},{"$f":"IF($D$56=\"NE\",\"NE\",'[1]Žaluzie KASKO'!AW19)","v":793},{"$f":"IF($D$56=\"NE\",\"NE\",'[1]Žaluzie KASKO'!AX19)","v":818}]
[130,{"$f":"IF($D$56=\"NE\",\"NE\",'[1]Žaluzie KASKO'!AE20)","v":258},{"$f":"IF($D$56=\"NE\",\"NE\",'[1]Žaluzie KASKO'!AF20)","v":285},{"$f":"IF($D$56=\"NE\",\"NE\",'[1]Žaluzie KASKO'!AG20)","v":313},{"$f":"IF($D$56=\"NE\",\"NE\",'[1]Žaluzie KASKO'!AH20)","v":336},{"$f":"IF($D$56=\"NE\",\"NE\",'[1]Žaluzie KASKO'!AI20)","v":381},{"$f":"IF($D$56=\"NE\",\"NE\",'[1]Žaluzie KASKO'!AJ20)","v":404},{"$f":"IF($D$56=\"NE\",\"NE\",'[1]Žaluzie KASKO'!AK20)","v":431},{"$f":"IF($D$56=\"NE\",\"NE\",'[1]Žaluzie KASKO'!AL20)","v":472},{"$f":"IF($D$56=\"NE\",\"NE\",'[1]Žaluzie KASKO'!AM20)","v":499},{"$f":"IF($D$56=\"NE\",\"NE\",'[1]Žaluzie KASKO'!AN20)","v":526},{"$f":"IF($D$56=\"NE\",\"NE\",'[1]Žaluzie KASKO'!AO20)","v":553},{"$f":"IF($D$56=\"NE\",\"NE\",'[1]Žaluzie KASKO'!AP20)","v":611},{"$f":"IF($D$56=\"NE\",\"NE\",'[1]Žaluzie KASKO'!AQ20)","v":637},{"$f":"IF($D$56=\"NE\",\"NE\",'[1]Žaluzie KASKO'!AR20)","v":664},{"$f":"IF($D$56=\"NE\",\"NE\",'[1]Žaluzie KASKO'!AS20)","v":690},{"$f":"IF($D$56=\"NE\",\"NE\",'[1]Žaluzie KASKO'!AT20)","v":715},{"$f":"IF($D$56=\"NE\",\"NE\",'[1]Žaluzie KASKO'!AU20)","v":741},{"$f":"IF($D$56=\"NE\",\"NE\",'[1]Žaluzie KASKO'!AV20)","v":802},{"$f":"IF($D$56=\"NE\",\"NE\",'[1]Žaluzie KASKO'!AW20)","v":831},{"$f":"IF($D$56=\"NE\",\"NE\",'[1]Žaluzie KASKO'!AX20)","v":895}]
[140,{"$f":"IF($D$56=\"NE\",\"NE\",'[1]Žaluzie KASKO'!AE21)","v":266},{"$f":"IF($D$56=\"NE\",\"NE\",'[1]Žaluzie KASKO'!AF21)","v":293},{"$f":"IF($D$56=\"NE\",\"NE\",'[1]Žaluzie KASKO'!AG21)","v":319},{"$f":"IF($D$56=\"NE\",\"NE\",'[1]Žaluzie KASKO'!AH21)","v":347},{"$f":"IF($D$56=\"NE\",\"NE\",'[1]Žaluzie KASKO'!AI21)","v":391},{"$f":"IF($D$56=\"NE\",\"NE\",'[1]Žaluzie KASKO'!AJ21)","v":420},{"$f":"IF($D$56=\"NE\",\"NE\",'[1]Žaluzie KASKO'!AK21)","v":447},{"$f":"IF($D$56=\"NE\",\"NE\",'[1]Žaluzie KASKO'!AL21)","v":488},{"$f":"IF($D$56=\"NE\",\"NE\",'[1]Žaluzie KASKO'!AM21)","v":517},{"$f":"IF($D$56=\"NE\",\"NE\",'[1]Žaluzie KASKO'!AN21)","v":545},{"$f":"IF($D$56=\"NE\",\"NE\",'[1]Žaluzie KASKO'!AO21)","v":572},{"$f":"IF($D$56=\"NE\",\"NE\",'[1]Žaluzie KASKO'!AP21)","v":634},{"$f":"IF($D$56=\"NE\",\"NE\",'[1]Žaluzie KASKO'!AQ21)","v":662},{"$f":"IF($D$56=\"NE\",\"NE\",'[1]Žaluzie KASKO'!AR21)","v":689},{"$f":"IF($D$56=\"NE\",\"NE\",'[1]Žaluzie KASKO'!AS21)","v":717},{"$f":"IF($D$56=\"NE\",\"NE\",'[1]Žaluzie KASKO'!AT21)","v":742},{"$f":"IF($D$56=\"NE\",\"NE\",'[1]Žaluzie KASKO'!AU21)","v":770},{"$f":"IF($D$56=\"NE\",\"NE\",'[1]Žaluzie KASKO'!AV21)","v":832},{"$f":"IF($D$56=\"NE\",\"NE\",'[1]Žaluzie KASKO'!AW21)","v":869},{"$f":"IF($D$56=\"NE\",\"NE\",'[1]Žaluzie KASKO'!AX21)","v":941}]
[150,{"$f":"IF($D$56=\"NE\",\"NE\",'[1]Žaluzie KASKO'!AE22)","v":273},{"$f":"IF($D$56=\"NE\",\"NE\",'[1]Žaluzie KASKO'!AF22)","v":302},{"$f":"IF($D$56=\"NE\",\"NE\",'[1]Žaluzie KASKO'!AG22)","v":331},{"$f":"IF($D$56=\"NE\",\"NE\",'[1]Žaluzie KASKO'!AH22)","v":359},{"$f":"IF($D$56=\"NE\",\"NE\",'[1]Žaluzie KASKO'!AI22)","v":406},{"$f":"IF($D$56=\"NE\",\"NE\",'[1]Žaluzie KASKO'!AJ22)","v":434},{"$f":"IF($D$56=\"NE\",\"NE\",'[1]Žaluzie KASKO'!AK22)","v":464},{"$f":"IF($D$56=\"NE\",\"NE\",'[1]Žaluzie KASKO'!AL22)","v":508},{"$f":"IF($D$56=\"NE\",\"NE\",'[1]Žaluzie KASKO'!AM22)","v":539},{"$f":"IF($D$56=\"NE\",\"NE\",'[1]Žaluzie KASKO'!AN22)","v":567},{"$f":"IF($D$56=\"NE\",\"NE\",'[1]Žaluzie KASKO'!AO22)","v":597},{"$f":"IF($D$56=\"NE\",\"NE\",'[1]Žaluzie KASKO'!AP22)","v":662},{"$f":"IF($D$56=\"NE\",\"NE\",'[1]Žaluzie KASKO'!AQ22)","v":691},{"$f":"IF($D$56=\"NE\",\"NE\",'[1]Žaluzie KASKO'!AR22)","v":720},{"$f":"IF($D$56=\"NE\",\"NE\",'[1]Žaluzie KASKO'!AS22)","v":747},{"$f":"IF($D$56=\"NE\",\"NE\",'[1]Žaluzie KASKO'!AT22)","v":784},{"$f":"IF($D$56=\"NE\",\"NE\",'[1]Žaluzie KASKO'!AU22)","v":806},{"$f":"IF($D$56=\"NE\",\"NE\",'[1]Žaluzie KASKO'!AV22)","v":868},{"$f":"IF($D$56=\"NE\",\"NE\",'[1]Žaluzie KASKO'!AW22)","v":899},{"$f":"IF($D$56=\"NE\",\"NE\",'[1]Žaluzie KASKO'!AX22)","v":978}]
[160,{"$f":"IF($D$56=\"NE\",\"NE\",'[1]Žaluzie KASKO'!AE23)","v":282},{"$f":"IF($D$56=\"NE\",\"NE\",'[1]Žaluzie KASKO'!AF23)","v":313},{"$f":"IF($D$56=\"NE\",\"NE\",'[1]Žaluzie KASKO'!AG23)","v":344},{"$f":"IF($D$56=\"NE\",\"NE\",'[1]Žaluzie KASKO'!AH23)","v":373},{"$f":"IF($D$56=\"NE\",\"NE\",'[1]Žaluzie KASKO'!AI23)","v":420},{"$f":"IF($D$56=\"NE\",\"NE\",'[1]Žaluzie KASKO'!AJ23)","v":450},{"$f":"IF($D$56=\"NE\",\"NE\",'[1]Žaluzie KASKO'!AK23)","v":481},{"$f":"IF($D$56=\"NE\",\"NE\",'[1]Žaluzie KASKO'!AL23)","v":526},{"$f":"IF($D$56=\"NE\",\"NE\",'[1]Žaluzie KASKO'!AM23)","v":560},{"$f":"IF($D$56=\"NE\",\"NE\",'[1]Žaluzie KASKO'!AN23)","v":589},{"$f":"IF($D$56=\"NE\",\"NE\",'[1]Žaluzie KASKO'!AO23)","v":621},{"$f":"IF($D$56=\"NE\",\"NE\",'[1]Žaluzie KASKO'!AP23)","v":688},{"$f":"IF($D$56=\"NE\",\"NE\",'[1]Žaluzie KASKO'!AQ23)","v":719},{"$f":"IF($D$56=\"NE\",\"NE\",'[1]Žaluzie KASKO'!AR23)","v":748},{"$f":"IF($D$56=\"NE\",\"NE\",'[1]Žaluzie KASKO'!AS23)","v":780},{"$f":"IF($D$56=\"NE\",\"NE\",'[1]Žaluzie KASKO'!AT23)","v":809},{"$f":"IF($D$56=\"NE\",\"NE\",'[1]Žaluzie KASKO'!AU23)","v":839},{"$f":"IF($D$56=\"NE\",\"NE\",'[1]Žaluzie KASKO'!AV23)","v":893},{"$f":"IF($D$56=\"NE\",\"NE\",'[1]Žaluzie KASKO'!AW23)","v":946},{"$f":"IF($D$56=\"NE\",\"NE\",'[1]Žaluzie KASKO'!AX23)","v":1008}]
[170,{"$f":"IF($D$56=\"NE\",\"NE\",'[1]Žaluzie KASKO'!AE24)","v":289},{"$f":"IF($D$56=\"NE\",\"NE\",'[1]Žaluzie KASKO'!AF24)","v":319},{"$f":"IF($D$56=\"NE\",\"NE\",'[1]Žaluzie KASKO'!AG24)","v":353},{"$f":"IF($D$56=\"NE\",\"NE\",'[1]Žaluzie KASKO'!AH24)","v":384},{"$f":"IF($D$56=\"NE\",\"NE\",'[1]Žaluzie KASKO'!AI24)","v":433},{"$f":"IF($D$56=\"NE\",\"NE\",'[1]Žaluzie KASKO'!AJ24)","v":464},{"$f":"IF($D$56=\"NE\",\"NE\",'[1]Žaluzie KASKO'!AK24)","v":496},{"$f":"IF($D$56=\"NE\",\"NE\",'[1]Žaluzie KASKO'!AL24)","v":547},{"$f":"IF($D$56=\"NE\",\"NE\",'[1]Žaluzie KASKO'!AM24)","v":578},{"$f":"IF($D$56=\"NE\",\"NE\",'[1]Žaluzie KASKO'!AN24)","v":609},{"$f":"IF($D$56=\"NE\",\"NE\",'[1]Žaluzie KASKO'!AO24)","v":643},{"$f":"IF($D$56=\"NE\",\"NE\",'[1]Žaluzie KASKO'!AP24)","v":711},{"$f":"IF($D$56=\"NE\",\"NE\",'[1]Žaluzie KASKO'!AQ24)","v":742},{"$f":"IF($D$56=\"NE\",\"NE\",'[1]Žaluzie KASKO'!AR24)","v":773},{"$f":"IF($D$56=\"NE\",\"NE\",'[1]Žaluzie KASKO'!AS24)","v":806},{"$f":"IF($D$56=\"NE\",\"NE\",'[1]Žaluzie KASKO'!AT24)","v":837},{"$f":"IF($D$56=\"NE\",\"NE\",'[1]Žaluzie KASKO'!AU24)","v":868},{"$f":"IF($D$56=\"NE\",\"NE\",'[1]Žaluzie KASKO'!AV24)","v":938},{"$f":"IF($D$56=\"NE\",\"NE\",'[1]Žaluzie KASKO'!AW24)","v":980},{"$f":"IF($D$56=\"NE\",\"NE\",'[1]Žaluzie KASKO'!AX24)","v":1041}]
[180,{"$f":"IF($D$56=\"NE\",\"NE\",'[1]Žaluzie KASKO'!AE25)","v":298},{"$f":"IF($D$56=\"NE\",\"NE\",'[1]Žaluzie KASKO'!AF25)","v":329},{"$f":"IF($D$56=\"NE\",\"NE\",'[1]Žaluzie KASKO'!AG25)","v":364},{"$f":"IF($D$56=\"NE\",\"NE\",'[1]Žaluzie KASKO'!AH25)","v":395},{"$f":"IF($D$56=\"NE\",\"NE\",'[1]Žaluzie KASKO'!AI25)","v":447},{"$f":"IF($D$56=\"NE\",\"NE\",'[1]Žaluzie KASKO'!AJ25)","v":486},{"$f":"IF($D$56=\"NE\",\"NE\",'[1]Žaluzie KASKO'!AK25)","v":513},{"$f":"IF($D$56=\"NE\",\"NE\",'[1]Žaluzie KASKO'!AL25)","v":566},{"$f":"IF($D$56=\"NE\",\"NE\",'[1]Žaluzie KASKO'!AM25)","v":599},{"$f":"IF($D$56=\"NE\",\"NE\",'[1]Žaluzie KASKO'!AN25)","v":633},{"$f":"IF($D$56=\"NE\",\"NE\",'[1]Žaluzie KASKO'!AO25)","v":666},{"$f":"IF($D$56=\"NE\",\"NE\",'[1]Žaluzie KASKO'!AP25)","v":738},{"$f":"IF($D$56=\"NE\",\"NE\",'[1]Žaluzie KASKO'!AQ25)","v":771},{"$f":"IF($D$56=\"NE\",\"NE\",'[1]Žaluzie KASKO'!AR25)","v":803},{"$f":"IF($D$56=\"NE\",\"NE\",'[1]Žaluzie KASKO'!AS25)","v":836},{"$f":"IF($D$56=\"NE\",\"NE\",'[1]Žaluzie KASKO'!AT25)","v":872},{"$f":"IF($D$56=\"NE\",\"NE\",'[1]Žaluzie KASKO'!AU25)","v":903},{"$f":"IF($D$56=\"NE\",\"NE\",'[1]Žaluzie KASKO'!AV25)","v":975},{"$f":"IF($D$56=\"NE\",\"NE\",'[1]Žaluzie KASKO'!AW25)","v":1022},{"$f":"IF($D$56=\"NE\",\"NE\",'[1]Žaluzie KASKO'!AX25)","v":1078}]
[190,{"$f":"IF($D$56=\"NE\",\"NE\",'[1]Žaluzie KASKO'!AE26)","v":303},{"$f":"IF($D$56=\"NE\",\"NE\",'[1]Žaluzie KASKO'!AF26)","v":339},{"$f":"IF($D$56=\"NE\",\"NE\",'[1]Žaluzie KASKO'!AG26)","v":373},{"$f":"IF($D$56=\"NE\",\"NE\",'[1]Žaluzie KASKO'!AH26)","v":406},{"$f":"IF($D$56=\"NE\",\"NE\",'[1]Žaluzie KASKO'!AI26)","v":459},{"$f":"IF($D$56=\"NE\",\"NE\",'[1]Žaluzie KASKO'!AJ26)","v":494},{"$f":"IF($D$56=\"NE\",\"NE\",'[1]Žaluzie KASKO'!AK26)","v":528},{"$f":"IF($D$56=\"NE\",\"NE\",'[1]Žaluzie KASKO'!AL26)","v":581},{"$f":"IF($D$56=\"NE\",\"NE\",'[1]Žaluzie KASKO'!AM26)","v":616},{"$f":"IF($D$56=\"NE\",\"NE\",'[1]Žaluzie KASKO'!AN26)","v":652},{"$f":"IF($D$56=\"NE\",\"NE\",'[1]Žaluzie KASKO'!AO26)","v":686},{"$f":"IF($D$56=\"NE\",\"NE\",'[1]Žaluzie KASKO'!AP26)","v":759},{"$f":"IF($D$56=\"NE\",\"NE\",'[1]Žaluzie KASKO'!AQ26)","v":797},{"$f":"IF($D$56=\"NE\",\"NE\",'[1]Žaluzie KASKO'!AR26)","v":828},{"$f":"IF($D$56=\"NE\",\"NE\",'[1]Žaluzie KASKO'!AS26)","v":851},{"$f":"IF($D$56=\"NE\",\"NE\",'[1]Žaluzie KASKO'!AT26)","v":897},{"$f":"IF($D$56=\"NE\",\"NE\",'[1]Žaluzie KASKO'!AU26)","v":932},{"$f":"IF($D$56=\"NE\",\"NE\",'[1]Žaluzie KASKO'!AV26)","v":1006},{"$f":"IF($D$56=\"NE\",\"NE\",'[1]Žaluzie KASKO'!AW26)","v":1060},{"$f":"IF($D$56=\"NE\",\"NE\",'[1]Žaluzie KASKO'!AX26)","v":1124}]
[200,{"$f":"IF($D$56=\"NE\",\"NE\",'[1]Žaluzie KASKO'!AE27)","v":313},{"$f":"IF($D$56=\"NE\",\"NE\",'[1]Žaluzie KASKO'!AF27)","v":348},{"$f":"IF($D$56=\"NE\",\"NE\",'[1]Žaluzie KASKO'!AG27)","v":383},{"$f":"IF($D$56=\"NE\",\"NE\",'[1]Žaluzie KASKO'!AH27)","v":420},{"$f":"IF($D$56=\"NE\",\"NE\",'[1]Žaluzie KASKO'!AI27)","v":474},{"$f":"IF($D$56=\"NE\",\"NE\",'[1]Žaluzie KASKO'!AJ27)","v":509},{"$f":"IF($D$56=\"NE\",\"NE\",'[1]Žaluzie KASKO'!AK27)","v":545},{"$f":"IF($D$56=\"NE\",\"NE\",'[1]Žaluzie KASKO'!AL27)","v":598},{"$f":"IF($D$56=\"NE\",\"NE\",'[1]Žaluzie KASKO'!AM27)","v":640},{"$f":"IF($D$56=\"NE\",\"NE\",'[1]Žaluzie KASKO'!AN27)","v":674},{"$f":"IF($D$56=\"NE\",\"NE\",'[1]Žaluzie KASKO'!AO27)","v":707},{"$f":"IF($D$56=\"NE\",\"NE\",'[1]Žaluzie KASKO'!AP27)","v":787},{"$f":"IF($D$56=\"NE\",\"NE\",'[1]Žaluzie KASKO'!AQ27)","v":824},{"$f":"IF($D$56=\"NE\",\"NE\",'[1]Žaluzie KASKO'!AR27)","v":858},{"$f":"IF($D$56=\"NE\",\"NE\",'[1]Žaluzie KASKO'!AS27)","v":892},{"$f":"IF($D$56=\"NE\",\"NE\",'[1]Žaluzie KASKO'!AT27)","v":930},{"$f":"IF($D$56=\"NE\",\"NE\",'[1]Žaluzie KASKO'!AU27)","v":966},{"$f":"IF($D$56=\"NE\",\"NE\",'[1]Žaluzie KASKO'!AV27)","v":1041},{"$f":"IF($D$56=\"NE\",\"NE\",'[1]Žaluzie KASKO'!AW27)","v":1099},{"$f":"IF($D$56=\"NE\",\"NE\",'[1]Žaluzie KASKO'!AX27)","v":1170}]
[210,{"$f":"IF($D$56=\"NE\",\"NE\",'[1]Žaluzie KASKO'!AE28)","v":320},{"$f":"IF($D$56=\"NE\",\"NE\",'[1]Žaluzie KASKO'!AF28)","v":357},{"$f":"IF($D$56=\"NE\",\"NE\",'[1]Žaluzie KASKO'!AG28)","v":394},{"$f":"IF($D$56=\"NE\",\"NE\",'[1]Žaluzie KASKO'!AH28)","v":432},{"$f":"IF($D$56=\"NE\",\"NE\",'[1]Žaluzie KASKO'!AI28)","v":489},{"$f":"IF($D$56=\"NE\",\"NE\",'[1]Žaluzie KASKO'!AJ28)","v":526},{"$f":"IF($D$56=\"NE\",\"NE\",'[1]Žaluzie KASKO'!AK28)","v":563},{"$f":"IF($D$56=\"NE\",\"NE\",'[1]Žaluzie KASKO'!AL28)","v":616},{"$f":"IF($D$56=\"NE\",\"NE\",'[1]Žaluzie KASKO'!AM28)","v":662},{"$f":"IF($D$56=\"NE\",\"NE\",'[1]Žaluzie KASKO'!AN28)","v":697},{"$f":"IF($D$56=\"NE\",\"NE\",'[1]Žaluzie KASKO'!AO28)","v":729},{"$f":"IF($D$56=\"NE\",\"NE\",'[1]Žaluzie KASKO'!AP28)","v":814},{"$f":"IF($D$56=\"NE\",\"NE\",'[1]Žaluzie KASKO'!AQ28)","v":851},{"$f":"IF($D$56=\"NE\",\"NE\",'[1]Žaluzie KASKO'!AR28)","v":888},{"$f":"IF($D$56=\"NE\",\"NE\",'[1]Žaluzie KASKO'!AS28)","v":926},{"$f":"IF($D$56=\"NE\",\"NE\",'[1]Žaluzie KASKO'!AT28)","v":962},{"$f":"IF($D$56=\"NE\",\"NE\",'[1]Žaluzie KASKO'!AU28)","v":1005},{"$f":"IF($D$56=\"NE\",\"NE\",'[1]Žaluzie KASKO'!AV28)","v":1079},{"$f":"IF($D$56=\"NE\",\"NE\",'[1]Žaluzie KASKO'!AW28)","v":1124},{"$f":"IF($D$56=\"NE\",\"NE\",'[1]Žaluzie KASKO'!AX28)","v":1216}]
[220,{"$f":"IF($D$56=\"NE\",\"NE\",'[1]Žaluzie KASKO'!AE29)","v":328},{"$f":"IF($D$56=\"NE\",\"NE\",'[1]Žaluzie KASKO'!AF29)","v":365},{"$f":"IF($D$56=\"NE\",\"NE\",'[1]Žaluzie KASKO'!AG29)","v":405},{"$f":"IF($D$56=\"NE\",\"NE\",'[1]Žaluzie KASKO'!AH29)","v":442},{"$f":"IF($D$56=\"NE\",\"NE\",'[1]Žaluzie KASKO'!AI29)","v":500},{"$f":"IF($D$56=\"NE\",\"NE\",'[1]Žaluzie KASKO'!AJ29)","v":538},{"$f":"IF($D$56=\"NE\",\"NE\",'[1]Žaluzie KASKO'!AK29)","v":577},{"$f":"IF($D$56=\"NE\",\"NE\",'[1]Žaluzie KASKO'!AL29)","v":640},{"$f":"IF($D$56=\"NE\",\"NE\",'[1]Žaluzie KASKO'!AM29)","v":678},{"$f":"IF($D$56=\"NE\",\"NE\",'[1]Žaluzie KASKO'!AN29)","v":716},{"$f":"IF($D$56=\"NE\",\"NE\",'[1]Žaluzie KASKO'!AO29)","v":757},{"$f":"IF($D$56=\"NE\",\"NE\",'[1]Žaluzie KASKO'!AP29)","v":838},{"$f":"IF($D$56=\"NE\",\"NE\",'[1]Žaluzie KASKO'!AQ29)","v":876},{"$f":"IF($D$56=\"NE\",\"NE\",'[1]Žaluzie KASKO'!AR29)","v":914},{"$f":"IF($D$56=\"NE\",\"NE\",'[1]Žaluzie KASKO'!AS29)","v":959},{"$f":"IF($D$56=\"NE\",\"NE\",'[1]Žaluzie KASKO'!AT29)","v":991},{"$f":"IF($D$56=\"NE\",\"NE\",'[1]Žaluzie KASKO'!AU29)","v":1026},{"$f":"IF($D$56=\"NE\",\"NE\",'[1]Žaluzie KASKO'!AV29)","v":1110},{"$f":"IF($D$56=\"NE\",\"NE\",'[1]Žaluzie KASKO'!AW29)","v":1175},{"$f":"IF($D$56=\"NE\",\"NE\",'[1]Žaluzie KASKO'!AX29)","v":1261}]
[]
["Pro stanovení ceny se počítá nejbližší vyšší rozměr."]
[]
["Příplatky:"]
["Lamely z proužkem 780,783,1940, matné 8xxx a perforované PR",null,null,null,null,null,null,null,null,null,null,null,null,null,null,null,null,null,{"$f":"IF($D$56=\"NE\",\"NE\",'[1]Žaluzie KASKO'!$I$33)","v":80},null,"/m²"]
["Lamela 25x0,21 a 16x0,21",null,null,null,null,null,null,null,null,null,null,null,null,null,null,null,null,null,{"$f":"IF($D$56=\"NE\",\"NE\",'[1]Žaluzie KASKO'!$I$34)","v":80},null,"/m²"]
["Lamela 25x0,21 - Dekory SD, SL",null,null,null,null,null,null,null,null,null,null,null,null,null,null,null,null,null,{"$f":"IF($D$54=\"NE\",\"NE\",'[1]Žaluzie KASKO'!$I$38)","v":90},null,"/m²"]
["Lamela 25x0,21 - Dekory SR, SM",null,null,null,null,null,null,null,null,null,null,null,null,null,null,null,null,null,{"$f":"IF($D$54=\"NE\",\"NE\",'[1]Žaluzie KASKO'!$I$39)","v":135},null,"/m²"]
["Imitace dřeva - lamely",null,null,null,null,null,null,null,null,null,null,null,null,null,null,null,null,null,{"$f":"IF($D$56=\"NE\",\"NE\",'[1]Žaluzie KASKO'!$I$35)","v":240},null,"/m²"]
["Provedení v renolitu (horní a dolní profil)",null,null,null,null,null,null,null,null,null,null,null,null,null,null,null,null,null,{"$f":"IF($D$56=\"NE\",\"NE\",'[1]Žaluzie KASKO'!$I$40)","v":150},null,"/bm"]
["Brzda (poměr 1:1)",null,null,null,null,null,null,null,null,null,null,null,null,null,null,null,null,null,{"$f":"IF($D$56=\"NE\",\"NE\",'[1]Žaluzie KASKO'!$I$43)","v":35},null,"/ks"]
["Převodovka s brzdou (poměr 1:4)",null,null,null,null,null,null,null,null,null,null,null,null,null,null,null,null,null,{"$f":"IF($D$56=\"NE\",\"NE\",'[1]Žaluzie KASKO'!$I$44)","v":55},null,"/ks"]
["Distanční podložka",null,null,null,null,null,null,null,null,null,null,null,null,null,null,null,null,null,{"$f":"IF($D$56=\"NE\",\"NE\",'[1]Žaluzie KASKO'!$I$45)","v":4},null,"/pár"]
["Bezpečnostní prvky",null,null,null,null,null,null,null,null,null,null,null,null,null,null,null,null,null,{"$f":"IF($D$56=\"NE\",\"NE\",'[1]Žaluzie KASKO'!$I$46)","v":10},null,"/ks"]
["Uvedené ceny jsou bez DPH."]
["U nestandardních věcí, jako je lakování atd., je termín dodání 4 týdny, popř. dle dohody !!!"]
["Na žaluzie o šířce 2000-2500mm, o výšce 2000-2600mm a nebo o ploše větší než 2,4m² neposkytujeme záruku!!!"]
["Min. šířka žaluzie je 240mm."]
[]
["Platnost od:",null,null,{"$f":"'[1]Žaluzie KASKO'!$C$4","v":"2018-10-16"},null,null,null,null,null,null,null,null,null,null,null,null,null,{"$f":"[1]Úvod!$K$3","v":2},{"$f":"[1]Úvod!$L$3","v":"ŽALUZIE"}]
[]
[]
["Bankovní spojení:",null,null,null,null,null,null,null,null,"IČ: 69204705",null,null,null,null,null,null,null,"TEL: 583/284070"]
["KB Šumperk",null,null,null,null,null,null,null,null,"DIČ: CZ7204215799",null,null,null,null,null,null,null,"FAX: 583/238875"]
["č.ú. 43-5137000207/0100",null,null,null,null,null,null,null,null,"mail: objednavky@parapetyrs.cz",null,null,null,null,null,null,null,"MOBIL: 777/238872"]

{"sheet":"OBJ PRIM","index":3,"n_rows":33,"n_cols":39,"rows_kept":33,"cut":false,"hidden":false,"merged":[[0,0,0,18],[1,0,1,4],[1,12,1,14],[1,15,1,18],[2,0,2,4],[2,12,2,13],[2,15,2,18],[3,0,3,4],[3,5,3,6],[3,12,3,13],[3,15,3,18],[4,0,4,4],[4,5,4,6],[4,12,4,13],[4,15,4,18],[5,0,5,4],[5,5,5,6],[5,12,5,13],[5,15,5,18],[6,0,6,4],[6,5,6,6],[6,12,7,13],[6,14,7,14],[7,0,7,4],[7,5,7,6],[7,15,7,18],[8,0,9,0],[8,1,9,1],[8,2,9,2],[8,3,9,3],[8,4,8,5],[8,9,9,9],[8,10,9,10],[8,12,9,12],[8,13,9,13],[6,15,6,18],[32,0,32,18],[1,5,1,11],[2,5,2,11],[3,7,3,11],[4,7,4,11],[5,7,5,11],[6,7,6,11],[7,7,7,11],[8,14,9,14],[8,15,9,15],[8,16,9,16],[8,17,9,17],[8,18,9,18],[31,0,31,18],[8,6,9,6],[8,7,8,8]]}
["Objednávka žaluzií - ISOLINE PRIM"]
["Objednatel:",null,null,null,null,"List č. 1  z  1",null,null,null,null,null,null,"Souhrn objednávky:"]
[{"$f":"ISOLINE!A8","v":"INTERNET "},null,null,null,null,"(příklad: List č. 1   z.  5)",null,null,null,null,null,null,"Platnost od:",null,{"$f":"ISOLINE!$D$55","v":"2018-10-16"}]
[null,null,null,null,null,"Datum objednání:",null,null,null,null,null,null,"Plocha m²:",null,{"$f":"SUM(W11:W31)","v":0}]
[null,null,null,null,null,"Datum dodání:",null,null,null,null,null,null,"Kusů:",null,{"$f":"SUM(G11:G31)","v":0},"Stará 205, 789 61, Bludov"]
["IČ:",null,null,null,null,"Adresa dodání:",null,null,null,null,null,null,"Rabat, marže:",null,0,"Provozovna:"]
[null,null,null,null,null,"Kontakt:",null,null,null,null,null,null,"Přibližná cena bez DPH:",null,{"$f":"SUM(R11:R31)","v":0},"ul. Žerotínova 87, 787 01, Šumperk"]
[null,null,null,null,null,"Zakázka:",null,null,null,null,null,null,null,null,null,"bývalý areál Moravolenu (Bělidlo)"]
["Pozice","Lamela","Ovl.","Profil","Rozměr (v mm)",null,"ks","Barva",null,"Celostín","Rám okna","Brzda","Podl. (pár)","Bezpeč. prvky","Délka ovl.         ( v mm)","m²","Cena kus","Cena celkem","Poznámka"]
[null,null,null,null,"Šířka","Výška",null,"Lamely","Profilů",null,null,"Převodovka",null,null,null,null,null,null,null,null,null,null,"m2 řádek","šířka zaok","výška zaok","m2","příp barva lamela","příp barva profilu","příp síla lamely","Š index","V index","Cena index","Cena jednotka","Cena vše","Dist. Podložka","Bezpečnostní prvky","Brzda","Marže ks","Marže vše"]
[null,null,null,null,null,null,null,null,null,null,null,null,null,null,null,{"$f":"SUM(E11*F11)/1000000","v":0},{"$f":"IF(ISNA(AL11),\"\",AL11)","v":""},{"$f":"IF(ISNA(AM11),\"\",AM11)","v":""},null,null,null,null,{"$f":"SUM(G11*P11)","v":0},{"$f":"CEILING(E11,100)/10","v":0},{"$f":"CEILING(F11,100)/10","v":0},{"$f":"IF(P11>0.5,PRODUCT(X11,Y11)/10000,0.5)","v":0.5},{"$f":"VLOOKUP(H11,Tabulky!$A$4:$B$169,2,FALSE) * Z11","v":{"$error":"#N/A"}},{"$f":"IF(ISNA(IF(I11 = \"\",0,VLOOKUP(I11,Tabulky!$K$16:$L$29,2,FALSE)) *  (X11/100)), 0,IF(I11 = \"\",0,VLOOKUP(I11,Tabulky!$K$16:$L$29,2,FALSE)) *  (X11/100))","v":0},{"$f":"VLOOKUP(B11,Tabulky!$K$31:$L$34,2,FALSE) * Z11","v":{"$error":"#N/A"}},{"$f":"MATCH(X11,PRIM!$B$16:$U$16,0)","v":{"$error":"#N/A"}},{"$f":"MATCH(Y11,PRIM!$A$17:$A$36,0)","v":{"$error":"#N/A"}},{"$f":"ROUND(INDEX(PRIM!$B$17:$U$36,AE11,AD11),0)","v":{"$error":"#N/A"}},{"$f":"SUM(AA11,AB11,AC11,AI11,AJ11,AK11,AF11)","v":{"$error":"#N/A"}},{"$f":"AG11*IF(G11=\"\",1,G11)","v":{"$error":"#N/A"}},{"$f":"SUM(M11*PRIM!$S$49)","v":0},{"$f":"IF(N11=\"ANO\",PRIM!$S$50,0)","v":0},{"$f":"IF(L11 = \"\",0,VLOOKUP(L11,Tabulky!$K$36:$L$38,2,FALSE))","v":0},{"$f":"SUM(AG11+AG11*$O$6)","v":{"$error":"#N/A"}},{"$f":"SUM(AH11+AH11*$O$6)","v":{"$error":"#N/A"}}]
[null,null,null,null,null,null,null,null,null,null,null,null,null,null,null,{"$f":"SUM(E12*F12)/1000000","v":0},{"$f":"IF(ISNA(AL12),\"\",AL12)","v":""},{"$f":"IF(ISNA(AM12),\"\",AM12)","v":""},null,null,null,null,{"$f":"SUM(G12*P12)","v":0},{"$f":"CEILING(E12,100)/10","v":0},{"$f":"CEILING(F12,100)/10","v":0},{"$f":"IF(P12>0.5,PRODUCT(X12,Y12)/10000,0.5)","v":0.5},{"$f":"VLOOKUP(H12,Tabulky!$A$4:$B$169,2,FALSE) * Z12","v":{"$error":"#N/A"}},{"$f":"IF(ISNA(IF(I12 = \"\",0,VLOOKUP(I12,Tabulky!$K$16:$L$29,2,FALSE)) *  (X12/100)), 0,IF(I12 = \"\",0,VLOOKUP(I12,Tabulky!$K$16:$L$29,2,FALSE)) *  (X12/100))","v":0},{"$f":"VLOOKUP(B12,Tabulky!$K$31:$L$34,2,FALSE) * Z12","v":{"$error":"#N/A"}},{"$f":"MATCH(X12,PRIM!$B$16:$U$16,0)","v":{"$error":"#N/A"}},{"$f":"MATCH(Y12,PRIM!$A$17:$A$36,0)","v":{"$error":"#N/A"}},{"$f":"ROUND(INDEX(PRIM!$B$17:$U$36,AE12,AD12),0)","v":{"$error":"#N/A"}},{"$f":"SUM(AA12,AB12,AC12,AI12,AJ12,AK12,AF12)","v":{"$error":"#N/A"}},{"$f":"AG12*IF(G12=\"\",1,G12)","v":{"$error":"#N/A"}},{"$f":"SUM(M12*PRIM!$S$49)","v":0},{"$f":"IF(N12=\"ANO\",PRIM!$S$50,0)","v":0},{"$f":"IF(L12 = \"\",0,VLOOKUP(L12,Tabulky!$K$36:$L$38,2,FALSE))","v":0},{"$f":"SUM(AG12+AG12*$O$6)","v":{"$error":"#N/A"}},{"$f":"SUM(AH12+AH12*$O$6)","v":{"$error":"#N/A"}}]
[null,null,null,null,null,null,null,null,null,null,null,null,null,null,null,0,"","",null,null,null,null,0,0,0,0.5,{"$f":"VLOOKUP(H13,Tabulky!$A$4:$B$169,2,FALSE) * Z13","v":{"$error":"#N/A"}},{"$f":"IF(ISNA(IF(I13 = \"\",0,VLOOKUP(I13,Tabulky!$K$16:$L$29,2,FALSE)) *  (X13/100)), 0,IF(I13 = \"\",0,VLOOKUP(I13,Tabulky!$K$16:$L$29,2,FALSE)) *  (X13/100))","v":0},{"$f":"VLOOKUP(B13,Tabulky!$K$31:$L$34,2,FALSE) * Z13","v":{"$error":"#N/A"}},{"$f":"MATCH(X13,PRIM!$B$16:$U$16,0)","v":{"$error":"#N/A"}},{"$f":"MATCH(Y13,PRIM!$A$17:$A$36,0)","v":{"$error":"#N/A"}},{"$f":"ROUND(INDEX(PRIM!$B$17:$U$36,AE13,AD13),0)","v":{"$error":"#N/A"}},{"$error":"#N/A"},{"$error":"#N/A"},{"$f":"SUM(M13*PRIM!$S$49)","v":0},{"$f":"IF(N13=\"ANO\",PRIM!$S$50,0)","v":0},{"$f":"IF(L13 = \"\",0,VLOOKUP(L13,Tabulky!$K$36:$L$38,2,FALSE))","v":0},{"$error":"#N/A"},{"$error":"#N/A"}]
[null,null,null,null,null,null,null,null,null,null,null,null,null,null,null,0,"","",null,null,null,null,0,0,0,0.5,{"$f":"VLOOKUP(H14,Tabulky!$A$4:$B$169,2,FALSE) * Z14","v":{"$error":"#N/A"}},{"$f":"IF(ISNA(IF(I14 = \"\",0,VLOOKUP(I14,Tabulky!$K$16:$L$29,2,FALSE)) *  (X14/100)), 0,IF(I14 = \"\",0,VLOOKUP(I14,Tabulky!$K$16:$L$29,2,FALSE)) *  (X14/100))","v":0},{"$f":"VLOOKUP(B14,Tabulky!$K$31:$L$34,2,FALSE) * Z14","v":{"$error":"#N/A"}},{"$f":"MATCH(X14,PRIM!$B$16:$U$16,0)","v":{"$error":"#N/A"}},{"$f":"MATCH(Y14,PRIM!$A$17:$A$36,0)","v":{"$error":"#N/A"}},{"$f":"ROUND(INDEX(PRIM!$B$17:$U$36,AE14,AD14),0)","v":{"$error":"#N/A"}},{"$error":"#N/A"},{"$error":"#N/A"},{"$f":"SUM(M14*PRIM!$S$49)","v":0},{"$f":"IF(N14=\"ANO\",PRIM!$S$50,0)","v":0},{"$f":"IF(L14 = \"\",0,VLOOKUP(L14,Tabulky!$K$36:$L$38,2,FALSE))","v":0},{"$error":"#N/A"},{"$error":"#N/A"}]
[null,null,null,null,null,null,null,null,null,null,null,null,null,null,null,0,"","",null,null,null,null,0,0,0,0.5,{"$f":"VLOOKUP(H15,Tabulky!$A$4:$B$169,2,FALSE) * Z15","v":{"$error":"#N/A"}},{"$f":"IF(ISNA(IF(I15 = \"\",0,VLOOKUP(I15,Tabulky!$K$16:$L$29,2,FALSE)) *  (X15/100)), 0,IF(I15 = \"\",0,VLOOKUP(I15,Tabulky!$K$16:$L$29,2,FALSE)) *  (X15/100))","v":0},{"$f":"VLOOKUP(B15,Tabulky!$K$31:$L$34,2,FALSE) * Z15","v":{"$error":"#N/A"}},{"$f":"MATCH(X15,PRIM!$B$16:$U$16,0)","v":{"$error":"#N/A"}},{"$f":"MATCH(Y15,PRIM!$A$17:$A$36,0)","v":{"$error":"#N/A"}},{"$f":"ROUND(INDEX(PRIM!$B$17:$U$36,AE15,AD15),0)","v":{"$error":"#N/A"}},{"$error":"#N/A"},{"$error":"#N/A"},{"$f":"SUM(M15*PRIM!$S$49)","v":0},{"$f":"IF(N15=\"ANO\",PRIM!$S$50,0)","v":0},{"$f":"IF(L15 = \"\",0,VLOOKUP(L15,Tabulky!$K$36:$L$38,2,FALSE))","v":0},{"$error":"#N/A"},{"$error":"#N/A"}]
[null,null,null,null,null,null,null,null,null,null,null,null,null,null,null,0,"","",null,null,null,null,0,0,0,0.5,{"$f":"VLOOKUP(H16,Tabulky!$A$4:$B$169,2,FALSE) * Z16","v":{"$error":"#N/A"}},{"$f":"IF(ISNA(IF(I16 = \"\",0,VLOOKUP(I16,Tabulky!$K$16:$L$29,2,FALSE)) *  (X16/100)), 0,IF(I16 = \"\",0,VLOOKUP(I16,Tabulky!$K$16:$L$29,2,FALSE)) *  (X16/100))","v":0},{"$f":"VLOOKUP(B16,Tabulky!$K$31:$L$34,2,FALSE) * Z16","v":{"$error":"#N/A"}},{"$f":"MATCH(X16,PRIM!$B$16:$U$16,0)","v":{"$error":"#N/A"}},{"$f":"MATCH(Y16,PRIM!$A$17:$A$36,0)","v":{"$error":"#N/A"}},{"$f":"ROUND(INDEX(PRIM!$B$17:$U$36,AE16,AD16),0)","v":{"$error":"#N/A"}},{"$error":"#N/A"},{"$error":"#N/A"},{"$f":"SUM(M16*PRIM!$S$49)","v":0},{"$f":"IF(N16=\"ANO\",PRIM!$S$50,0)","v":0},{"$f":"IF(L16 = \"\",0,VLOOKUP(L16,Tabulky!$K$36:$L$38,2,FALSE))","v":0},{"$error":"#N/A"},{"$error":"#N/A"}]
[null,null,null,null,null,null,null,null,null,null,null,null,null,null,null,0,"","",null,null,null,null,0,0,0,0.5,{"$f":"VLOOKUP(H17,Tabulky!$A$4:$B$169,2,FALSE) * Z17","v":{"$error":"#N/A"}},{"$f":"IF(ISNA(IF(I17 = \"\",0,VLOOKUP(I17,Tabulky!$K$16:$L$29,2,FALSE)) *  (X17/100)), 0,IF(I17 = \"\",0,VLOOKUP(I17,Tabulky!$K$16:$L$29,2,FALSE)) *  (X17/100))","v":0},{"$f":"VLOOKUP(B17,Tabulky!$K$31:$L$34,2,FALSE) * Z17","v":{"$error":"#N/A"}},{"$f":"MATCH(X17,PRIM!$B$16:$U$16,0)","v":{"$error":"#N/A"}},{"$f":"MATCH(Y17,PRIM!$A$17:$A$36,0)","v":{"$error":"#N/A"}},{"$f":"ROUND(INDEX(PRIM!$B$17:$U$36,AE17,AD17),0)","v":{"$error":"#N/A"}},{"$error":"#N/A"},{"$error":"#N/A"},{"$f":"SUM(M17*PRIM!$S$49)","v":0},{"$f":"IF(N17=\"ANO\",PRIM!$S$50,0)","v":0},{"$f":"IF(L17 = \"\",0,VLOOKUP(L17,Tabulky!$K$36:$L$38,2,FALSE))","v":0},{"$error":"#N/A"},{"$error":"#N/A"}]
[null,null,null,null,null,null,null,null,null,null,null,null,null,null,null,0,"","",null,null,null,null,0,0,0,0.5,{"$f":"VLOOKUP(H18,Tabulky!$A$4:$B$169,2,FALSE) * Z18","v":{"$error":"#N/A"}},{"$f":"IF(ISNA(IF(I18 = \"\",0,VLOOKUP(I18,Tabulky!$K$16:$L$29,2,FALSE)) *  (X18/100)), 0,IF(I18 = \"\",0,VLOOKUP(I18,Tabulky!$K$16:$L$29,2,FALSE)) *  (X18/100))","v":0},{"$f":"VLOOKUP(B18,Tabulky!$K$31:$L$34,2,FALSE) * Z18","v":{"$error":"#N/A"}},{"$f":"MATCH(X18,PRIM!$B$16:$U$16,0)","v":{"$error":"#N/A"}},{"$f":"MATCH(Y18,PRIM!$A$17:$A$36,0)","v":{"$error":"#N/A"}},{"$f":"ROUND(INDEX(PRIM!$B$17:$U$36,AE18,AD18),0)","v":{"$error":"#N/A"}},{"$error":"#N/A"},{"$error":"#N/A"},{"$f":"SUM(M18*PRIM!$S$49)","v":0},{"$f":"IF(N18=\"ANO\",PRIM!$S$50,0)","v":0},{"$f":"IF(L18 = \"\",0,VLOOKUP(L18,Tabulky!$K$36:$L$38,2,FALSE))","v":0},{"$error":"#N/A"},{"$error":"#N/A"}]
[null,null,null,null,null,null,null,null,null,null,null,null,null,null,null,0,"","",null,null,null,null,0,0,0,0.5,{"$f":"VLOOKUP(H19,Tabulky!$A$4:$B$169,2,FALSE) * Z19","v":{"$error":"#N/A"}},{"$f":"IF(ISNA(IF(I19 = \"\",0,VLOOKUP(I19,Tabulky!$K$16:$L$29,2,FALSE)) *  (X19/100)), 0,IF(I19 = \"\",0,VLOOKUP(I19,Tabulky!$K$16:$L$29,2,FALSE)) *  (X19/100))","v":0},{"$f":"VLOOKUP(B19,Tabulky!$K$31:$L$34,2,FALSE) * Z19","v":{"$error":"#N/A"}},{"$f":"MATCH(X19,PRIM!$B$16:$U$16,0)","v":{"$error":"#N/A"}},{"$f":"MATCH(Y19,PRIM!$A$17:$A$36,0)","v":{"$error":"#N/A"}},{"$f":"ROUND(INDEX(PRIM!$B$17:$U$36,AE19,AD19),0)","v":{"$error":"#N/A"}},{"$error":"#N/A"},{"$error":"#N/A"},{"$f":"SUM(M19*PRIM!$S$49)","v":0},{"$f":"IF(N19=\"ANO\",PRIM!$S$50,0)","v":0},{"$f":"IF(L19 = \"\",0,VLOOKUP(L19,Tabulky!$K$36:$L$38,2,FALSE))","v":0},{"$error":"#N/A"},{"$error":"#N/A"}]
[null,null,null,null,null,null,null,null,null,null,null,null,null,null,null,0,"","",null,null,null,null,0,0,0,0.5,{"$f":"VLOOKUP(H20,Tabulky!$A$4:$B$169,2,FALSE) * Z20","v":{"$error":"#N/A"}},{"$f":"IF(ISNA(IF(I20 = \"\",0,VLOOKUP(I20,Tabulky!$K$16:$L$29,2,FALSE)) *  (X20/100)), 0,IF(I20 = \"\",0,VLOOKUP(I20,Tabulky!$K$16:$L$29,2,FALSE)) *  (X20/100))","v":0},{"$f":"VLOOKUP(B20,Tabulky!$K$31:$L$34,2,FALSE) * Z20","v":{"$error":"#N/A"}},{"$f":"MATCH(X20,PRIM!$B$16:$U$16,0)","v":{"$error":"#N/A"}},{"$f":"MATCH(Y20,PRIM!$A$17:$A$36,0)","v":{"$error":"#N/A"}},{"$f":"ROUND(INDEX(PRIM!$B$17:$U$36,AE20,AD20),0)","v":{"$error":"#N/A"}},{"$error":"#N/A"},{"$error":"#N/A"},{"$f":"SUM(M20*PRIM!$S$49)","v":0},{"$f":"IF(N20=\"ANO\",PRIM!$S$50,0)","v":0},{"$f":"IF(L20 = \"\",0,VLOOKUP(L20,Tabulky!$K$36:$L$38,2,FALSE))","v":0},{"$error":"#N/A"},{"$error":"#N/A"}]
[null,null,null,null,null,null,null,null,null,null,null,null,null,null,null,0,"","",null,null,null,null,0,0,0,0.5,{"$f":"VLOOKUP(H21,Tabulky!$A$4:$B$169,2,FALSE) * Z21","v":{"$error":"#N/A"}},{"$f":"IF(ISNA(IF(I21 = \"\",0,VLOOKUP(I21,Tabulky!$K$16:$L$29,2,FALSE)) *  (X21/100)), 0,IF(I21 = \"\",0,VLOOKUP(I21,Tabulky!$K$16:$L$29,2,FALSE)) *  (X21/100))","v":0},{"$f":"VLOOKUP(B21,Tabulky!$K$31:$L$34,2,FALSE) * Z21","v":{"$error":"#N/A"}},{"$f":"MATCH(X21,PRIM!$B$16:$U$16,0)","v":{"$error":"#N/A"}},{"$f":"MATCH(Y21,PRIM!$A$17:$A$36,0)","v":{"$error":"#N/A"}},{"$f":"ROUND(INDEX(PRIM!$B$17:$U$36,AE21,AD21),0)","v":{"$error":"#N/A"}},{"$error":"#N/A"},{"$error":"#N/A"},{"$f":"SUM(M21*PRIM!$S$49)","v":0},{"$f":"IF(N21=\"ANO\",PRIM!$S$50,0)","v":0},{"$f":"IF(L21 = \"\",0,VLOOKUP(L21,Tabulky!$K$36:$L$38,2,FALSE))","v":0},{"$error":"#N/A"},{"$error":"#N/A"}]
[null,null,null,null,null,null,null,null,null,null,null,null,null,null,null,0,"","",null,null,null,null,0,0,0,0.5,{"$f":"VLOOKUP(H22,Tabulky!$A$4:$B$169,2,FALSE) * Z22","v":{"$error":"#N/A"}},{"$f":"IF(ISNA(IF(I22 = \"\",0,VLOOKUP(I22,Tabulky!$K$16:$L$29,2,FALSE)) *  (X22/100)), 0,IF(I22 = \"\",0,VLOOKUP(I22,Tabulky!$K$16:$L$29,2,FALSE)) *  (X22/100))","v":0},{"$f":"VLOOKUP(B22,Tabulky!$K$31:$L$34,2,FALSE) * Z22","v":{"$error":"#N/A"}},{"$f":"MATCH(X22,PRIM!$B$16:$U$16,0)","v":{"$error":"#N/A"}},{"$f":"MATCH(Y22,PRIM!$A$17:$A$36,0)","v":{"$error":"#N/A"}},{"$f":"ROUND(INDEX(PRIM!$B$17:$U$36,AE22,AD22),0)","v":{"$error":"#N/A"}},{"$error":"#N/A"},{"$error":"#N/A"},{"$f":"SUM(M22*PRIM!$S$49)","v":0},{"$f":"IF(N22=\"ANO\",PRIM!$S$50,0)","v":0},{"$f":"IF(L22 = \"\",0,VLOOKUP(L22,Tabulky!$K$36:$L$38,2,FALSE))","v":0},{"$error":"#N/A"},{"$error":"#N/A"}]
[null,null,null,null,null,null,null,null,null,null,null,null,null,null,null,0,"","",null,null,null,null,0,0,0,0.5,{"$f":"VLOOKUP(H23,Tabulky!$A$4:$B$169,2,FALSE) * Z23","v":{"$error":"#N/A"}},{"$f":"IF(ISNA(IF(I23 = \"\",0,VLOOKUP(I23,Tabulky!$K$16:$L$29,2,FALSE)) *  (X23/100)), 0,IF(I23 = \"\",0,VLOOKUP(I23,Tabulky!$K$16:$L$29,2,FALSE)) *  (X23/100))","v":0},{"$f":"VLOOKUP(B23,Tabulky!$K$31:$L$34,2,FALSE) * Z23","v":{"$error":"#N/A"}},{"$f":"MATCH(X23,PRIM!$B$16:$U$16,0)","v":{"$error":"#N/A"}},{"$f":"MATCH(Y23,PRIM!$A$17:$A$36,0)","v":{"$error":"#N/A"}},{"$f":"ROUND(INDEX(PRIM!$B$17:$U$36,AE23,AD23),0)","v":{"$error":"#N/A"}},{"$error":"#N/A"},{"$error":"#N/A"},{"$f":"SUM(M23*PRIM!$S$49)","v":0},{"$f":"IF(N23=\"ANO\",PRIM!$S$50,0)","v":0},{"$f":"IF(L23 = \"\",0,VLOOKUP(L23,Tabulky!$K$36:$L$38,2,FALSE))","v":0},{"$error":"#N/A"},{"$error":"#N/A"}]
[null,null,null,null,null,null,null,null,null,null,null,null,null,null,null,0,"","",null,null,null,null,0,0,0,0.5,{"$f":"VLOOKUP(H24,Tabulky!$A$4:$B$169,2,FALSE) * Z24","v":{"$error":"#N/A"}},{"$f":"IF(ISNA(IF(I24 = \"\",0,VLOOKUP(I24,Tabulky!$K$16:$L$29,2,FALSE)) *  (X24/100)), 0,IF(I24 = \"\",0,VLOOKUP(I24,Tabulky!$K$16:$L$29,2,FALSE)) *  (X24/100))","v":0},{"$f":"VLOOKUP(B24,Tabulky!$K$31:$L$34,2,FALSE) * Z24","v":{"$error":"#N/A"}},{"$f":"MATCH(X24,PRIM!$B$16:$U$16,0)","v":{"$error":"#N/A"}},{"$f":"MATCH(Y24,PRIM!$A$17:$A$36,0)","v":{"$error":"#N/A"}},{"$f":"ROUND(INDEX(PRIM!$B$17:$U$36,AE24,AD24),0)","v":{"$error":"#N/A"}},{"$error":"#N/A"},{"$error":"#N/A"},{"$f":"SUM(M24*PRIM!$S$49)","v":0},{"$f":"IF(N24=\"ANO\",PRIM!$S$50,0)","v":0},{"$f":"IF(L24 = \"\",0,VLOOKUP(L24,Tabulky!$K$36:$L$38,2,FALSE))","v":0},{"$error":"#N/A"},{"$error":"#N/A"}]
[null,null,null,null,null,null,null,null,null,null,null,null,null,null,null,0,"","",null,null,null,null,0,0,0,0.5,{"$f":"VLOOKUP(H25,Tabulky!$A$4:$B$169,2,FALSE) * Z25","v":{"$error":"#N/A"}},{"$f":"IF(ISNA(IF(I25 = \"\",0,VLOOKUP(I25,Tabulky!$K$16:$L$29,2,FALSE)) *  (X25/100)), 0,IF(I25 = \"\",0,VLOOKUP(I25,Tabulky!$K$16:$L$29,2,FALSE)) *  (X25/100))","v":0},{"$f":"VLOOKUP(B25,Tabulky!$K$31:$L$34,2,FALSE) * Z25","v":{"$error":"#N/A"}},{"$f":"MATCH(X25,PRIM!$B$16:$U$16,0)","v":{"$error":"#N/A"}},{"$f":"MATCH(Y25,PRIM!$A$17:$A$36,0)","v":{"$error":"#N/A"}},{"$f":"ROUND(INDEX(PRIM!$B$17:$U$36,AE25,AD25),0)","v":{"$error":"#N/A"}},{"$error":"#N/A"},{"$error":"#N/A"},{"$f":"SUM(M25*PRIM!$S$49)","v":0},{"$f":"IF(N25=\"ANO\",PRIM!$S$50,0)","v":0},{"$f":"IF(L25 = \"\",0,VLOOKUP(L25,Tabulky!$K$36:$L$38,2,FALSE))","v":0},{"$error":"#N/A"},{"$error":"#N/A"}]
[null,null,null,null,null,null,null,null,null,null,null,null,null,null,null,0,"","",null,null,null,null,0,0,0,0.5,{"$f":"VLOOKUP(H26,Tabulky!$A$4:$B$169,2,FALSE) * Z26","v":{"$error":"#N/A"}},{"$f":"IF(ISNA(IF(I26 = \"\",0,VLOOKUP(I26,Tabulky!$K$16:$L$29,2,FALSE)) *  (X26/100)), 0,IF(I26 = \"\",0,VLOOKUP(I26,Tabulky!$K$16:$L$29,2,FALSE)) *  (X26/100))","v":0},{"$f":"VLOOKUP(B26,Tabulky!$K$31:$L$34,2,FALSE) * Z26","v":{"$error":"#N/A"}},{"$f":"MATCH(X26,PRIM!$B$16:$U$16,0)","v":{"$error":"#N/A"}},{"$f":"MATCH(Y26,PRIM!$A$17:$A$36,0)","v":{"$error":"#N/A"}},{"$f":"ROUND(INDEX(PRIM!$B$17:$U$36,AE26,AD26),0)","v":{"$error":"#N/A"}},{"$error":"#N/A"},{"$error":"#N/A"},{"$f":"SUM(M26*PRIM!$S$49)","v":0},{"$f":"IF(N26=\"ANO\",PRIM!$S$50,0)","v":0},{"$f":"IF(L26 = \"\",0,VLOOKUP(L26,Tabulky!$K$36:$L$38,2,FALSE))","v":0},{"$error":"#N/A"},{"$error":"#N/A"}]
[null,null,null,null,null,null,null,null,null,null,null,null,null,null,null,0,"","",null,null,null,null,0,0,0,0.5,{"$f":"VLOOKUP(H27,Tabulky!$A$4:$B$169,2,FALSE) * Z27","v":{"$error":"#N/A"}},{"$f":"IF(ISNA(IF(I27 = \"\",0,VLOOKUP(I27,Tabulky!$K$16:$L$29,2,FALSE)) *  (X27/100)), 0,IF(I27 = \"\",0,VLOOKUP(I27,Tabulky!$K$16:$L$29,2,FALSE)) *  (X27/100))","v":0},{"$f":"VLOOKUP(B27,Tabulky!$K$31:$L$34,2,FALSE) * Z27","v":{"$error":"#N/A"}},{"$f":"MATCH(X27,PRIM!$B$16:$U$16,0)","v":{"$error":"#N/A"}},{"$f":"MATCH(Y27,PRIM!$A$17:$A$36,0)","v":{"$error":"#N/A"}},{"$f":"ROUND(INDEX(PRIM!$B$17:$U$36,AE27,AD27),0)","v":{"$error":"#N/A"}},{"$error":"#N/A"},{"$error":"#N/A"},{"$f":"SUM(M27*PRIM!$S$49)","v":0},{"$f":"IF(N27=\"ANO\",PRIM!$S$50,0)","v":0},{"$f":"IF(L27 = \"\",0,VLOOKUP(L27,Tabulky!$K$36:$L$38,2,FALSE))","v":0},{"$error":"#N/A"},{"$error":"#N/A"}]
[null,null,null,null,null,null,null,null,null,null,null,null,null,null,null,0,"","",null,null,null,null,0,0,0,0.5,{"$f":"VLOOKUP(H28,Tabulky!$A$4:$B$169,2,FALSE) * Z28","v":{"$error":"#N/A"}},{"$f":"IF(ISNA(IF(I28 = \"\",0,VLOOKUP(I28,Tabulky!$K$16:$L$29,2,FALSE)) *  (X28/100)), 0,IF(I28 = \"\",0,VLOOKUP(I28,Tabulky!$K$16:$L$29,2,FALSE)) *  (X28/100))","v":0},{"$f":"VLOOKUP(B28,Tabulky!$K$31:$L$34,2,FALSE) * Z28","v":{"$error":"#N/A"}},{"$f":"MATCH(X28,PRIM!$B$16:$U$16,0)","v":{"$error":"#N/A"}},{"$f":"MATCH(Y28,PRIM!$A$17:$A$36,0)","v":{"$error":"#N/A"}},{"$f":"ROUND(INDEX(PRIM!$B$17:$U$36,AE28,AD28),0)","v":{"$error":"#N/A"}},{"$error":"#N/A"},{"$error":"#N/A"},{"$f":"SUM(M28*PRIM!$S$49)","v":0},{"$f":"IF(N28=\"ANO\",PRIM!$S$50,0)","v":0},{"$f":"IF(L28 = \"\",0,VLOOKUP(L28,Tabulky!$K$36:$L$38,2,FALSE))","v":0},{"$error":"#N/A"},{"$error":"#N/A"}]
[null,null,null,null,null,null,null,null,null,null,null,null,null,null,null,0,"","",null,null,null,null,0,0,0,0.5,{"$f":"VLOOKUP(H29,Tabulky!$A$4:$B$169,2,FALSE) * Z29","v":{"$error":"#N/A"}},{"$f":"IF(ISNA(IF(I29 = \"\",0,VLOOKUP(I29,Tabulky!$K$16:$L$29,2,FALSE)) *  (X29/100)), 0,IF(I29 = \"\",0,VLOOKUP(I29,Tabulky!$K$16:$L$29,2,FALSE)) *  (X29/100))","v":0},{"$f":"VLOOKUP(B29,Tabulky!$K$31:$L$34,2,FALSE) * Z29","v":{"$error":"#N/A"}},{"$f":"MATCH(X29,PRIM!$B$16:$U$16,0)","v":{"$error":"#N/A"}},{"$f":"MATCH(Y29,PRIM!$A$17:$A$36,0)","v":{"$error":"#N/A"}},{"$f":"ROUND(INDEX(PRIM!$B$17:$U$36,AE29,AD29),0)","v":{"$error":"#N/A"}},{"$error":"#N/A"},{"$error":"#N/A"},{"$f":"SUM(M29*PRIM!$S$49)","v":0},{"$f":"IF(N29=\"ANO\",PRIM!$S$50,0)","v":0},{"$f":"IF(L29 = \"\",0,VLOOKUP(L29,Tabulky!$K$36:$L$38,2,FALSE))","v":0},{"$error":"#N/A"},{"$error":"#N/A"}]
[null,null,null,null,null,null,null,null,null,null,null,null,null,null,null,0,"","",null,null,null,null,0,0,0,0.5,{"$f":"VLOOKUP(H30,Tabulky!$A$4:$B$169,2,FALSE) * Z30","v":{"$error":"#N/A"}},{"$f":"IF(ISNA(IF(I30 = \"\",0,VLOOKUP(I30,Tabulky!$K$16:$L$29,2,FALSE)) *  (X30/100)), 0,IF(I30 = \"\",0,VLOOKUP(I30,Tabulky!$K$16:$L$29,2,FALSE)) *  (X30/100))","v":0},{"$f":"VLOOKUP(B30,Tabulky!$K$31:$L$34,2,FALSE) * Z30","v":{"$error":"#N/A"}},{"$f":"MATCH(X30,PRIM!$B$16:$U$16,0)","v":{"$error":"#N/A"}},{"$f":"MATCH(Y30,PRIM!$A$17:$A$36,0)","v":{"$error":"#N/A"}},{"$f":"ROUND(INDEX(PRIM!$B$17:$U$36,AE30,AD30),0)","v":{"$error":"#N/A"}},{"$error":"#N/A"},{"$error":"#N/A"},{"$f":"SUM(M30*PRIM!$S$49)","v":0},{"$f":"IF(N30=\"ANO\",PRIM!$S$50,0)","v":0},{"$f":"IF(L30 = \"\",0,VLOOKUP(L30,Tabulky!$K$36:$L$38,2,FALSE))","v":0},{"$error":"#N/A"},{"$error":"#N/A"}]
[null,null,null,null,null,null,null,null,null,null,null,null,null,null,null,0,"","",null,null,null,null,0,0,0,0.5,{"$f":"VLOOKUP(H31,Tabulky!$A$4:$B$169,2,FALSE) * Z31","v":{"$error":"#N/A"}},{"$f":"IF(ISNA(IF(I31 = \"\",0,VLOOKUP(I31,Tabulky!$K$16:$L$29,2,FALSE)) *  (X31/100)), 0,IF(I31 = \"\",0,VLOOKUP(I31,Tabulky!$K$16:$L$29,2,FALSE)) *  (X31/100))","v":0},{"$f":"VLOOKUP(B31,Tabulky!$K$31:$L$34,2,FALSE) * Z31","v":{"$error":"#N/A"}},{"$f":"MATCH(X31,PRIM!$B$16:$U$16,0)","v":{"$error":"#N/A"}},{"$f":"MATCH(Y31,PRIM!$A$17:$A$36,0)","v":{"$error":"#N/A"}},{"$f":"ROUND(INDEX(PRIM!$B$17:$U$36,AE31,AD31),0)","v":{"$error":"#N/A"}},{"$error":"#N/A"},{"$error":"#N/A"},{"$f":"SUM(M31*PRIM!$S$49)","v":0},{"$f":"IF(N31=\"ANO\",PRIM!$S$50,0)","v":0},{"$f":"IF(L31 = \"\",0,VLOOKUP(L31,Tabulky!$K$36:$L$38,2,FALSE))","v":0},{"$error":"#N/A"},{"$error":"#N/A"}]
["Žaluzie o rozměru na šířku 2000-2500mm a na výšku 2000-2600mm vyrobíme BEZ záruky. Žaluzie lze vyrobit max do 2,4m²."]
["Cena je pouze orientační  a nemusí odpovídat skutečnosti."]

{"sheet":"LOCO","index":4,"n_rows":60,"n_cols":21,"rows_kept":60,"cut":false,"hidden":true,"merged":[[37,19,37,20],[3,15,3,16],[4,15,4,16],[6,0,6,20],[7,0,7,20],[14,0,15,0],[44,0,44,17],[44,18,44,19],[45,0,45,17],[45,18,45,19],[40,0,40,17],[40,18,40,19],[41,0,41,17],[41,18,41,19],[42,0,42,17],[42,18,42,19],[43,0,43,17],[43,18,43,19],[54,3,54,6],[46,0,46,17],[46,18,46,19],[47,0,47,17],[47,18,47,19],[48,0,48,17],[48,18,48,19]]}
[null,null,null,null,null,null,null,null,null,null,null,null,null,null,"PROVOZOVNA:","Žerotínova 87"]
[null,null,null,null,null,null,null,null,null,null,null,null,null,null,null,"areál Na Bělidle"]
[null,null,null,null,null,null,null,null,null,null,null,null,null,null,null,"787 01 Šumperk"]
[null,null,null,null,null,null,null,null,null,null,null,null,null,null,"Region:",{"$f":"[1]Úvod!$G$7","v":"Šumperk"}]
["Stará 205 , 789 61, Bludov",null,null,null,null,null,"www.parapetyrs.cz",null,null,null,null,null,null,null,"Vyhotovil:",{"$f":"[1]Úvod!$G$8","v":"Baženov"}]
[]
["Ceník ISOLINE - LOCO žaluzií pro firmu"]
[{"$f":"'[1]Žaluzie KASKO'!$N$4","v":"INTERNET "}]
[]
["Typ:",null,"Sdružené ovládání pomocí řetízku - barva bílá, stříbrná, béžová, hnědá, světle hnědá"]
[null,null,"Vytahovací páska 0,14 x 5 mm - barva bílá, stříbrná, béžová, hnědá, světle hnědá "]
[null,null,"Horní a spodní profil plechový - bílá RAL 9010, stříbrná RAL 9006, hnědá RAL 8017, Zlatá (714), Bronzová (700)"]
[null,null,"slonová kost RAL 1013, sv. hnědá RAL 8003, sv. hnědá RAL 8004, Antracit RAL 7016"]
[]
["Výška",null,null,null,null,null,null,null,null,null,"Šířka"]
[null,30,40,50,60,70,80,90,100,110,120,130,140,150,160,170,180,190,200,210,220]
[30,{"$f":"IF($D$55=\"NE\",\"NE\",'[1]Žaluzie KASKO'!BA10)","v":184},{"$f":"IF($D$55=\"NE\",\"NE\",'[1]Žaluzie KASKO'!BB10)","v":198},{"$f":"IF($D$55=\"NE\",\"NE\",'[1]Žaluzie KASKO'!BC10)","v":211},{"$f":"IF($D$55=\"NE\",\"NE\",'[1]Žaluzie KASKO'!BD10)","v":223},{"$f":"IF($D$55=\"NE\",\"NE\",'[1]Žaluzie KASKO'!BE10)","v":251},{"$f":"IF($D$55=\"NE\",\"NE\",'[1]Žaluzie KASKO'!BF10)","v":263},{"$f":"IF($D$55=\"NE\",\"NE\",'[1]Žaluzie KASKO'!BG10)","v":275},{"$f":"IF($D$55=\"NE\",\"NE\",'[1]Žaluzie KASKO'!BH10)","v":293},{"$f":"IF($D$55=\"NE\",\"NE\",'[1]Žaluzie KASKO'!BI10)","v":306},{"$f":"IF($D$55=\"NE\",\"NE\",'[1]Žaluzie KASKO'!BJ10)","v":318},{"$f":"IF($D$55=\"NE\",\"NE\",'[1]Žaluzie KASKO'!BK10)","v":332},{"$f":"IF($D$55=\"NE\",\"NE\",'[1]Žaluzie KASKO'!BL10)","v":364},{"$f":"IF($D$55=\"NE\",\"NE\",'[1]Žaluzie KASKO'!BM10)","v":375},{"$f":"IF($D$55=\"NE\",\"NE\",'[1]Žaluzie KASKO'!BN10)","v":389},{"$f":"IF($D$55=\"NE\",\"NE\",'[1]Žaluzie KASKO'!BO10)","v":402},{"$f":"IF($D$55=\"NE\",\"NE\",'[1]Žaluzie KASKO'!BP10)","v":413},{"$f":"IF($D$55=\"NE\",\"NE\",'[1]Žaluzie KASKO'!BQ10)","v":428},{"$f":"IF($D$55=\"NE\",\"NE\",'[1]Žaluzie KASKO'!BR10)","v":457},{"$f":"IF($D$55=\"NE\",\"NE\",'[1]Žaluzie KASKO'!BS10)","v":473},{"$f":"IF($D$55=\"NE\",\"NE\",'[1]Žaluzie KASKO'!BT10)","v":484}]
[40,{"$f":"IF($D$55=\"NE\",\"NE\",'[1]Žaluzie KASKO'!BA11)","v":193},{"$f":"IF($D$55=\"NE\",\"NE\",'[1]Žaluzie KASKO'!BB11)","v":206},{"$f":"IF($D$55=\"NE\",\"NE\",'[1]Žaluzie KASKO'!BC11)","v":220},{"$f":"IF($D$55=\"NE\",\"NE\",'[1]Žaluzie KASKO'!BD11)","v":235},{"$f":"IF($D$55=\"NE\",\"NE\",'[1]Žaluzie KASKO'!BE11)","v":265},{"$f":"IF($D$55=\"NE\",\"NE\",'[1]Žaluzie KASKO'!BF11)","v":277},{"$f":"IF($D$55=\"NE\",\"NE\",'[1]Žaluzie KASKO'!BG11)","v":293},{"$f":"IF($D$55=\"NE\",\"NE\",'[1]Žaluzie KASKO'!BH11)","v":312},{"$f":"IF($D$55=\"NE\",\"NE\",'[1]Žaluzie KASKO'!BI11)","v":326},{"$f":"IF($D$55=\"NE\",\"NE\",'[1]Žaluzie KASKO'!BJ11)","v":340},{"$f":"IF($D$55=\"NE\",\"NE\",'[1]Žaluzie KASKO'!BK11)","v":361},{"$f":"IF($D$55=\"NE\",\"NE\",'[1]Žaluzie KASKO'!BL11)","v":390},{"$f":"IF($D$55=\"NE\",\"NE\",'[1]Žaluzie KASKO'!BM11)","v":405},{"$f":"IF($D$55=\"NE\",\"NE\",'[1]Žaluzie KASKO'!BN11)","v":418},{"$f":"IF($D$55=\"NE\",\"NE\",'[1]Žaluzie KASKO'!BO11)","v":432},{"$f":"IF($D$55=\"NE\",\"NE\",'[1]Žaluzie KASKO'!BP11)","v":446},{"$f":"IF($D$55=\"NE\",\"NE\",'[1]Žaluzie KASKO'!BQ11)","v":460},{"$f":"IF($D$55=\"NE\",\"NE\",'[1]Žaluzie KASKO'!BR11)","v":495},{"$f":"IF($D$55=\"NE\",\"NE\",'[1]Žaluzie KASKO'!BS11)","v":514},{"$f":"IF($D$55=\"NE\",\"NE\",'[1]Žaluzie KASKO'!BT11)","v":528}]
[50,{"$f":"IF($D$55=\"NE\",\"NE\",'[1]Žaluzie KASKO'!BA12)","v":198},{"$f":"IF($D$55=\"NE\",\"NE\",'[1]Žaluzie KASKO'!BB12)","v":213},{"$f":"IF($D$55=\"NE\",\"NE\",'[1]Žaluzie KASKO'!BC12)","v":228},{"$f":"IF($D$55=\"NE\",\"NE\",'[1]Žaluzie KASKO'!BD12)","v":244},{"$f":"IF($D$55=\"NE\",\"NE\",'[1]Žaluzie KASKO'!BE12)","v":275},{"$f":"IF($D$55=\"NE\",\"NE\",'[1]Žaluzie KASKO'!BF12)","v":289},{"$f":"IF($D$55=\"NE\",\"NE\",'[1]Žaluzie KASKO'!BG12)","v":306},{"$f":"IF($D$55=\"NE\",\"NE\",'[1]Žaluzie KASKO'!BH12)","v":328},{"$f":"IF($D$55=\"NE\",\"NE\",'[1]Žaluzie KASKO'!BI12)","v":344},{"$f":"IF($D$55=\"NE\",\"NE\",'[1]Žaluzie KASKO'!BJ12)","v":358},{"$f":"IF($D$55=\"NE\",\"NE\",'[1]Žaluzie KASKO'!BK12)","v":374},{"$f":"IF($D$55=\"NE\",\"NE\",'[1]Žaluzie KASKO'!BL12)","v":411},{"$f":"IF($D$55=\"NE\",\"NE\",'[1]Žaluzie KASKO'!BM12)","v":428},{"$f":"IF($D$55=\"NE\",\"NE\",'[1]Žaluzie KASKO'!BN12)","v":443},{"$f":"IF($D$55=\"NE\",\"NE\",'[1]Žaluzie KASKO'!BO12)","v":457},{"$f":"IF($D$55=\"NE\",\"NE\",'[1]Žaluzie KASKO'!BP12)","v":473},{"$f":"IF($D$55=\"NE\",\"NE\",'[1]Žaluzie KASKO'!BQ12)","v":489},{"$f":"IF($D$55=\"NE\",\"NE\",'[1]Žaluzie KASKO'!BR12)","v":527},{"$f":"IF($D$55=\"NE\",\"NE\",'[1]Žaluzie KASKO'!BS12)","v":542},{"$f":"IF($D$55=\"NE\",\"NE\",'[1]Žaluzie KASKO'!BT12)","v":558}]
[60,{"$f":"IF($D$55=\"NE\",\"NE\",'[1]Žaluzie KASKO'!BA13)","v":208},{"$f":"IF($D$55=\"NE\",\"NE\",'[1]Žaluzie KASKO'!BB13)","v":223},{"$f":"IF($D$55=\"NE\",\"NE\",'[1]Žaluzie KASKO'!BC13)","v":237},{"$f":"IF($D$55=\"NE\",\"NE\",'[1]Žaluzie KASKO'!BD13)","v":256},{"$f":"IF($D$55=\"NE\",\"NE\",'[1]Žaluzie KASKO'!BE13)","v":289},{"$f":"IF($D$55=\"NE\",\"NE\",'[1]Žaluzie KASKO'!BF13)","v":305},{"$f":"IF($D$55=\"NE\",\"NE\",'[1]Žaluzie KASKO'!BG13)","v":323},{"$f":"IF($D$55=\"NE\",\"NE\",'[1]Žaluzie KASKO'!BH13)","v":348},{"$f":"IF($D$55=\"NE\",\"NE\",'[1]Žaluzie KASKO'!BI13)","v":366},{"$f":"IF($D$55=\"NE\",\"NE\",'[1]Žaluzie KASKO'!BJ13)","v":381},{"$f":"IF($D$55=\"NE\",\"NE\",'[1]Žaluzie KASKO'!BK13)","v":399},{"$f":"IF($D$55=\"NE\",\"NE\",'[1]Žaluzie KASKO'!BL13)","v":441},{"$f":"IF($D$55=\"NE\",\"NE\",'[1]Žaluzie KASKO'!BM13)","v":458},{"$f":"IF($D$55=\"NE\",\"NE\",'[1]Žaluzie KASKO'!BN13)","v":460},{"$f":"IF($D$55=\"NE\",\"NE\",'[1]Žaluzie KASKO'!BO13)","v":490},{"$f":"IF($D$55=\"NE\",\"NE\",'[1]Žaluzie KASKO'!BP13)","v":509},{"$f":"IF($D$55=\"NE\",\"NE\",'[1]Žaluzie KASKO'!BQ13)","v":523},{"$f":"IF($D$55=\"NE\",\"NE\",'[1]Žaluzie KASKO'!BR13)","v":566},{"$f":"IF($D$55=\"NE\",\"NE\",'[1]Žaluzie KASKO'!BS13)","v":597},{"$f":"IF($D$55=\"NE\",\"NE\",'[1]Žaluzie KASKO'!BT13)","v":608}]
[70,{"$f":"IF($D$55=\"NE\",\"NE\",'[1]Žaluzie KASKO'!BA14)","v":217},{"$f":"IF($D$55=\"NE\",\"NE\",'[1]Žaluzie KASKO'!BB14)","v":232},{"$f":"IF($D$55=\"NE\",\"NE\",'[1]Žaluzie KASKO'!BC14)","v":251},{"$f":"IF($D$55=\"NE\",\"NE\",'[1]Žaluzie KASKO'!BD14)","v":271},{"$f":"IF($D$55=\"NE\",\"NE\",'[1]Žaluzie KASKO'!BE14)","v":306},{"$f":"IF($D$55=\"NE\",\"NE\",'[1]Žaluzie KASKO'!BF14)","v":323},{"$f":"IF($D$55=\"NE\",\"NE\",'[1]Žaluzie KASKO'!BG14)","v":341},{"$f":"IF($D$55=\"NE\",\"NE\",'[1]Žaluzie KASKO'!BH14)","v":371},{"$f":"IF($D$55=\"NE\",\"NE\",'[1]Žaluzie KASKO'!BI14)","v":388},{"$f":"IF($D$55=\"NE\",\"NE\",'[1]Žaluzie KASKO'!BJ14)","v":400},{"$f":"IF($D$55=\"NE\",\"NE\",'[1]Žaluzie KASKO'!BK14)","v":425},{"$f":"IF($D$55=\"NE\",\"NE\",'[1]Žaluzie KASKO'!BL14)","v":470},{"$f":"IF($D$55=\"NE\",\"NE\",'[1]Žaluzie KASKO'!BM14)","v":488},{"$f":"IF($D$55=\"NE\",\"NE\",'[1]Žaluzie KASKO'!BN14)","v":504},{"$f":"IF($D$55=\"NE\",\"NE\",'[1]Žaluzie KASKO'!BO14)","v":523},{"$f":"IF($D$55=\"NE\",\"NE\",'[1]Žaluzie KASKO'!BP14)","v":542},{"$f":"IF($D$55=\"NE\",\"NE\",'[1]Žaluzie KASKO'!BQ14)","v":561},{"$f":"IF($D$55=\"NE\",\"NE\",'[1]Žaluzie KASKO'!BR14)","v":604},{"$f":"IF($D$55=\"NE\",\"NE\",'[1]Žaluzie KASKO'!BS14)","v":633},{"$f":"IF($D$55=\"NE\",\"NE\",'[1]Žaluzie KASKO'!BT14)","v":657}]
[80,{"$f":"IF($D$55=\"NE\",\"NE\",'[1]Žaluzie KASKO'!BA15)","v":224},{"$f":"IF($D$55=\"NE\",\"NE\",'[1]Žaluzie KASKO'!BB15)","v":251},{"$f":"IF($D$55=\"NE\",\"NE\",'[1]Žaluzie KASKO'!BC15)","v":262},{"$f":"IF($D$55=\"NE\",\"NE\",'[1]Žaluzie KASKO'!BD15)","v":282},{"$f":"IF($D$55=\"NE\",\"NE\",'[1]Žaluzie KASKO'!BE15)","v":318},{"$f":"IF($D$55=\"NE\",\"NE\",'[1]Žaluzie KASKO'!BF15)","v":338},{"$f":"IF($D$55=\"NE\",\"NE\",'[1]Žaluzie KASKO'!BG15)","v":357},{"$f":"IF($D$55=\"NE\",\"NE\",'[1]Žaluzie KASKO'!BH15)","v":388},{"$f":"IF($D$55=\"NE\",\"NE\",'[1]Žaluzie KASKO'!BI15)","v":407},{"$f":"IF($D$55=\"NE\",\"NE\",'[1]Žaluzie KASKO'!BJ15)","v":421},{"$f":"IF($D$55=\"NE\",\"NE\",'[1]Žaluzie KASKO'!BK15)","v":444},{"$f":"IF($D$55=\"NE\",\"NE\",'[1]Žaluzie KASKO'!BL15)","v":491},{"$f":"IF($D$55=\"NE\",\"NE\",'[1]Žaluzie KASKO'!BM15)","v":512},{"$f":"IF($D$55=\"NE\",\"NE\",'[1]Žaluzie KASKO'!BN15)","v":531},{"$f":"IF($D$55=\"NE\",\"NE\",'[1]Žaluzie KASKO'!BO15)","v":552},{"$f":"IF($D$55=\"NE\",\"NE\",'[1]Žaluzie KASKO'!BP15)","v":570},{"$f":"IF($D$55=\"NE\",\"NE\",'[1]Žaluzie KASKO'!BQ15)","v":589},{"$f":"IF($D$55=\"NE\",\"NE\",'[1]Žaluzie KASKO'!BR15)","v":637},{"$f":"IF($D$55=\"NE\",\"NE\",'[1]Žaluzie KASKO'!BS15)","v":670},{"$f":"IF($D$55=\"NE\",\"NE\",'[1]Žaluzie KASKO'!BT15)","v":706}]
[90,{"$f":"IF($D$55=\"NE\",\"NE\",'[1]Žaluzie KASKO'!BA16)","v":232},{"$f":"IF($D$55=\"NE\",\"NE\",'[1]Žaluzie KASKO'!BB16)","v":253},{"$f":"IF($D$55=\"NE\",\"NE\",'[1]Žaluzie KASKO'!BC16)","v":275},{"$f":"IF($D$55=\"NE\",\"NE\",'[1]Žaluzie KASKO'!BD16)","v":293},{"$f":"IF($D$55=\"NE\",\"NE\",'[1]Žaluzie KASKO'!BE16)","v":332},{"$f":"IF($D$55=\"NE\",\"NE\",'[1]Žaluzie KASKO'!BF16)","v":354},{"$f":"IF($D$55=\"NE\",\"NE\",'[1]Žaluzie KASKO'!BG16)","v":375},{"$f":"IF($D$55=\"NE\",\"NE\",'[1]Žaluzie KASKO'!BH16)","v":408},{"$f":"IF($D$55=\"NE\",\"NE\",'[1]Žaluzie KASKO'!BI16)","v":430},{"$f":"IF($D$55=\"NE\",\"NE\",'[1]Žaluzie KASKO'!BJ16)","v":450},{"$f":"IF($D$55=\"NE\",\"NE\",'[1]Žaluzie KASKO'!BK16)","v":471},{"$f":"IF($D$55=\"NE\",\"NE\",'[1]Žaluzie KASKO'!BL16)","v":519},{"$f":"IF($D$55=\"NE\",\"NE\",'[1]Žaluzie KASKO'!BM16)","v":541},{"$f":"IF($D$55=\"NE\",\"NE\",'[1]Žaluzie KASKO'!BN16)","v":563},{"$f":"IF($D$55=\"NE\",\"NE\",'[1]Žaluzie KASKO'!BO16)","v":584},{"$f":"IF($D$55=\"NE\",\"NE\",'[1]Žaluzie KASKO'!BP16)","v":606},{"$f":"IF($D$55=\"NE\",\"NE\",'[1]Žaluzie KASKO'!BQ16)","v":624},{"$f":"IF($D$55=\"NE\",\"NE\",'[1]Žaluzie KASKO'!BR16)","v":675},{"$f":"IF($D$55=\"NE\",\"NE\",'[1]Žaluzie KASKO'!BS16)","v":697},{"$f":"IF($D$55=\"NE\",\"NE\",'[1]Žaluzie KASKO'!BT16)","v":753}]
[100,{"$f":"IF($D$55=\"NE\",\"NE\",'[1]Žaluzie KASKO'!BA17)","v":241},{"$f":"IF($D$55=\"NE\",\"NE\",'[1]Žaluzie KASKO'!BB17)","v":263},{"$f":"IF($D$55=\"NE\",\"NE\",'[1]Žaluzie KASKO'!BC17)","v":286},{"$f":"IF($D$55=\"NE\",\"NE\",'[1]Žaluzie KASKO'!BD17)","v":309},{"$f":"IF($D$55=\"NE\",\"NE\",'[1]Žaluzie KASKO'!BE17)","v":348},{"$f":"IF($D$55=\"NE\",\"NE\",'[1]Žaluzie KASKO'!BF17)","v":369},{"$f":"IF($D$55=\"NE\",\"NE\",'[1]Žaluzie KASKO'!BG17)","v":393},{"$f":"IF($D$55=\"NE\",\"NE\",'[1]Žaluzie KASKO'!BH17)","v":430},{"$f":"IF($D$55=\"NE\",\"NE\",'[1]Žaluzie KASKO'!BI17)","v":450},{"$f":"IF($D$55=\"NE\",\"NE\",'[1]Žaluzie KASKO'!BJ17)","v":473},{"$f":"IF($D$55=\"NE\",\"NE\",'[1]Žaluzie KASKO'!BK17)","v":496},{"$f":"IF($D$55=\"NE\",\"NE\",'[1]Žaluzie KASKO'!BL17)","v":549},{"$f":"IF($D$55=\"NE\",\"NE\",'[1]Žaluzie KASKO'!BM17)","v":572},{"$f":"IF($D$55=\"NE\",\"NE\",'[1]Žaluzie KASKO'!BN17)","v":594},{"$f":"IF($D$55=\"NE\",\"NE\",'[1]Žaluzie KASKO'!BO17)","v":617},{"$f":"IF($D$55=\"NE\",\"NE\",'[1]Žaluzie KASKO'!BP17)","v":637},{"$f":"IF($D$55=\"NE\",\"NE\",'[1]Žaluzie KASKO'!BQ17)","v":661},{"$f":"IF($D$55=\"NE\",\"NE\",'[1]Žaluzie KASKO'!BR17)","v":714},{"$f":"IF($D$55=\"NE\",\"NE\",'[1]Žaluzie KASKO'!BS17)","v":740},{"$f":"IF($D$55=\"NE\",\"NE\",'[1]Žaluzie KASKO'!BT17)","v":777}]
[110,{"$f":"IF($D$55=\"NE\",\"NE\",'[1]Žaluzie KASKO'!BA18)","v":249},{"$f":"IF($D$55=\"NE\",\"NE\",'[1]Žaluzie KASKO'!BB18)","v":271},{"$f":"IF($D$55=\"NE\",\"NE\",'[1]Žaluzie KASKO'!BC18)","v":296},{"$f":"IF($D$55=\"NE\",\"NE\",'[1]Žaluzie KASKO'!BD18)","v":320},{"$f":"IF($D$55=\"NE\",\"NE\",'[1]Žaluzie KASKO'!BE18)","v":361},{"$f":"IF($D$55=\"NE\",\"NE\",'[1]Žaluzie KASKO'!BF18)","v":385},{"$f":"IF($D$55=\"NE\",\"NE\",'[1]Žaluzie KASKO'!BG18)","v":408},{"$f":"IF($D$55=\"NE\",\"NE\",'[1]Žaluzie KASKO'!BH18)","v":446},{"$f":"IF($D$55=\"NE\",\"NE\",'[1]Žaluzie KASKO'!BI18)","v":469},{"$f":"IF($D$55=\"NE\",\"NE\",'[1]Žaluzie KASKO'!BJ18)","v":495},{"$f":"IF($D$55=\"NE\",\"NE\",'[1]Žaluzie KASKO'!BK18)","v":518},{"$f":"IF($D$55=\"NE\",\"NE\",'[1]Žaluzie KASKO'!BL18)","v":573},{"$f":"IF($D$55=\"NE\",\"NE\",'[1]Žaluzie KASKO'!BM18)","v":596},{"$f":"IF($D$55=\"NE\",\"NE\",'[1]Žaluzie KASKO'!BN18)","v":619},{"$f":"IF($D$55=\"NE\",\"NE\",'[1]Žaluzie KASKO'!BO18)","v":644},{"$f":"IF($D$55=\"NE\",\"NE\",'[1]Žaluzie KASKO'!BP18)","v":667},{"$f":"IF($D$55=\"NE\",\"NE\",'[1]Žaluzie KASKO'!BQ18)","v":691},{"$f":"IF($D$55=\"NE\",\"NE\",'[1]Žaluzie KASKO'!BR18)","v":746},{"$f":"IF($D$55=\"NE\",\"NE\",'[1]Žaluzie KASKO'!BS18)","v":779},{"$f":"IF($D$55=\"NE\",\"NE\",'[1]Žaluzie KASKO'!BT18)","v":815}]
[120,{"$f":"IF($D$55=\"NE\",\"NE\",'[1]Žaluzie KASKO'!BA19)","v":259},{"$f":"IF($D$55=\"NE\",\"NE\",'[1]Žaluzie KASKO'!BB19)","v":282},{"$f":"IF($D$55=\"NE\",\"NE\",'[1]Žaluzie KASKO'!BC19)","v":307},{"$f":"IF($D$55=\"NE\",\"NE\",'[1]Žaluzie KASKO'!BD19)","v":332},{"$f":"IF($D$55=\"NE\",\"NE\",'[1]Žaluzie KASKO'!BE19)","v":376},{"$f":"IF($D$55=\"NE\",\"NE\",'[1]Žaluzie KASKO'!BF19)","v":402},{"$f":"IF($D$55=\"NE\",\"NE\",'[1]Žaluzie KASKO'!BG19)","v":426},{"$f":"IF($D$55=\"NE\",\"NE\",'[1]Žaluzie KASKO'!BH19)","v":471},{"$f":"IF($D$55=\"NE\",\"NE\",'[1]Žaluzie KASKO'!BI19)","v":494},{"$f":"IF($D$55=\"NE\",\"NE\",'[1]Žaluzie KASKO'!BJ19)","v":517},{"$f":"IF($D$55=\"NE\",\"NE\",'[1]Žaluzie KASKO'!BK19)","v":562},{"$f":"IF($D$55=\"NE\",\"NE\",'[1]Žaluzie KASKO'!BL19)","v":601},{"$f":"IF($D$55=\"NE\",\"NE\",'[1]Žaluzie KASKO'!BM19)","v":626},{"$f":"IF($D$55=\"NE\",\"NE\",'[1]Žaluzie KASKO'!BN19)","v":652},{"$f":"IF($D$55=\"NE\",\"NE\",'[1]Žaluzie KASKO'!BO19)","v":678},{"$f":"IF($D$55=\"NE\",\"NE\",'[1]Žaluzie KASKO'!BP19)","v":703},{"$f":"IF($D$55=\"NE\",\"NE\",'[1]Žaluzie KASKO'!BQ19)","v":727},{"$f":"IF($D$55=\"NE\",\"NE\",'[1]Žaluzie KASKO'!BR19)","v":785},{"$f":"IF($D$55=\"NE\",\"NE\",'[1]Žaluzie KASKO'!BS19)","v":815},{"$f":"IF($D$55=\"NE\",\"NE\",'[1]Žaluzie KASKO'!BT19)","v":841}]
[130,{"$f":"IF($D$55=\"NE\",\"NE\",'[1]Žaluzie KASKO'!BA20)","v":265},{"$f":"IF($D$55=\"NE\",\"NE\",'[1]Žaluzie KASKO'!BB20)","v":293},{"$f":"IF($D$55=\"NE\",\"NE\",'[1]Žaluzie KASKO'!BC20)","v":322},{"$f":"IF($D$55=\"NE\",\"NE\",'[1]Žaluzie KASKO'!BD20)","v":345},{"$f":"IF($D$55=\"NE\",\"NE\",'[1]Žaluzie KASKO'!BE20)","v":391},{"$f":"IF($D$55=\"NE\",\"NE\",'[1]Žaluzie KASKO'!BF20)","v":415},{"$f":"IF($D$55=\"NE\",\"NE\",'[1]Žaluzie KASKO'!BG20)","v":443},{"$f":"IF($D$55=\"NE\",\"NE\",'[1]Žaluzie KASKO'!BH20)","v":485},{"$f":"IF($D$55=\"NE\",\"NE\",'[1]Žaluzie KASKO'!BI20)","v":513},{"$f":"IF($D$55=\"NE\",\"NE\",'[1]Žaluzie KASKO'!BJ20)","v":540},{"$f":"IF($D$55=\"NE\",\"NE\",'[1]Žaluzie KASKO'!BK20)","v":568},{"$f":"IF($D$55=\"NE\",\"NE\",'[1]Žaluzie KASKO'!BL20)","v":628},{"$f":"IF($D$55=\"NE\",\"NE\",'[1]Žaluzie KASKO'!BM20)","v":654},{"$f":"IF($D$55=\"NE\",\"NE\",'[1]Žaluzie KASKO'!BN20)","v":682},{"$f":"IF($D$55=\"NE\",\"NE\",'[1]Žaluzie KASKO'!BO20)","v":709},{"$f":"IF($D$55=\"NE\",\"NE\",'[1]Žaluzie KASKO'!BP20)","v":734},{"$f":"IF($D$55=\"NE\",\"NE\",'[1]Žaluzie KASKO'!BQ20)","v":762},{"$f":"IF($D$55=\"NE\",\"NE\",'[1]Žaluzie KASKO'!BR20)","v":824},{"$f":"IF($D$55=\"NE\",\"NE\",'[1]Žaluzie KASKO'!BS20)","v":854},{"$f":"IF($D$55=\"NE\",\"NE\",'[1]Žaluzie KASKO'!BT20)","v":920}]
[140,{"$f":"IF($D$55=\"NE\",\"NE\",'[1]Žaluzie KASKO'!BA21)","v":274},{"$f":"IF($D$55=\"NE\",\"NE\",'[1]Žaluzie KASKO'!BB21)","v":301},{"$f":"IF($D$55=\"NE\",\"NE\",'[1]Žaluzie KASKO'!BC21)","v":327},{"$f":"IF($D$55=\"NE\",\"NE\",'[1]Žaluzie KASKO'!BD21)","v":356},{"$f":"IF($D$55=\"NE\",\"NE\",'[1]Žaluzie KASKO'!BE21)","v":402},{"$f":"IF($D$55=\"NE\",\"NE\",'[1]Žaluzie KASKO'!BF21)","v":432},{"$f":"IF($D$55=\"NE\",\"NE\",'[1]Žaluzie KASKO'!BG21)","v":459},{"$f":"IF($D$55=\"NE\",\"NE\",'[1]Žaluzie KASKO'!BH21)","v":501},{"$f":"IF($D$55=\"NE\",\"NE\",'[1]Žaluzie KASKO'!BI21)","v":532},{"$f":"IF($D$55=\"NE\",\"NE\",'[1]Žaluzie KASKO'!BJ21)","v":560},{"$f":"IF($D$55=\"NE\",\"NE\",'[1]Žaluzie KASKO'!BK21)","v":588},{"$f":"IF($D$55=\"NE\",\"NE\",'[1]Žaluzie KASKO'!BL21)","v":652},{"$f":"IF($D$55=\"NE\",\"NE\",'[1]Žaluzie KASKO'!BM21)","v":680},{"$f":"IF($D$55=\"NE\",\"NE\",'[1]Žaluzie KASKO'!BN21)","v":708},{"$f":"IF($D$55=\"NE\",\"NE\",'[1]Žaluzie KASKO'!BO21)","v":737},{"$f":"IF($D$55=\"NE\",\"NE\",'[1]Žaluzie KASKO'!BP21)","v":762},{"$f":"IF($D$55=\"NE\",\"NE\",'[1]Žaluzie KASKO'!BQ21)","v":791},{"$f":"IF($D$55=\"NE\",\"NE\",'[1]Žaluzie KASKO'!BR21)","v":855},{"$f":"IF($D$55=\"NE\",\"NE\",'[1]Žaluzie KASKO'!BS21)","v":893},{"$f":"IF($D$55=\"NE\",\"NE\",'[1]Žaluzie KASKO'!BT21)","v":967}]
[150,{"$f":"IF($D$55=\"NE\",\"NE\",'[1]Žaluzie KASKO'!BA22)","v":280},{"$f":"IF($D$55=\"NE\",\"NE\",'[1]Žaluzie KASKO'!BB22)","v":310},{"$f":"IF($D$55=\"NE\",\"NE\",'[1]Žaluzie KASKO'!BC22)","v":340},{"$f":"IF($D$55=\"NE\",\"NE\",'[1]Žaluzie KASKO'!BD22)","v":369},{"$f":"IF($D$55=\"NE\",\"NE\",'[1]Žaluzie KASKO'!BE22)","v":418},{"$f":"IF($D$55=\"NE\",\"NE\",'[1]Žaluzie KASKO'!BF22)","v":446},{"$f":"IF($D$55=\"NE\",\"NE\",'[1]Žaluzie KASKO'!BG22)","v":476},{"$f":"IF($D$55=\"NE\",\"NE\",'[1]Žaluzie KASKO'!BH22)","v":522},{"$f":"IF($D$55=\"NE\",\"NE\",'[1]Žaluzie KASKO'!BI22)","v":554},{"$f":"IF($D$55=\"NE\",\"NE\",'[1]Žaluzie KASKO'!BJ22)","v":583},{"$f":"IF($D$55=\"NE\",\"NE\",'[1]Žaluzie KASKO'!BK22)","v":614},{"$f":"IF($D$55=\"NE\",\"NE\",'[1]Žaluzie KASKO'!BL22)","v":680},{"$f":"IF($D$55=\"NE\",\"NE\",'[1]Žaluzie KASKO'!BM22)","v":710},{"$f":"IF($D$55=\"NE\",\"NE\",'[1]Žaluzie KASKO'!BN22)","v":739},{"$f":"IF($D$55=\"NE\",\"NE\",'[1]Žaluzie KASKO'!BO22)","v":767},{"$f":"IF($D$55=\"NE\",\"NE\",'[1]Žaluzie KASKO'!BP22)","v":805},{"$f":"IF($D$55=\"NE\",\"NE\",'[1]Žaluzie KASKO'!BQ22)","v":828},{"$f":"IF($D$55=\"NE\",\"NE\",'[1]Žaluzie KASKO'!BR22)","v":892},{"$f":"IF($D$55=\"NE\",\"NE\",'[1]Žaluzie KASKO'!BS22)","v":924},{"$f":"IF($D$55=\"NE\",\"NE\",'[1]Žaluzie KASKO'!BT22)","v":1005}]
[160,{"$f":"IF($D$55=\"NE\",\"NE\",'[1]Žaluzie KASKO'!BA23)","v":290},{"$f":"IF($D$55=\"NE\",\"NE\",'[1]Žaluzie KASKO'!BB23)","v":322},{"$f":"IF($D$55=\"NE\",\"NE\",'[1]Žaluzie KASKO'!BC23)","v":353},{"$f":"IF($D$55=\"NE\",\"NE\",'[1]Žaluzie KASKO'!BD23)","v":384},{"$f":"IF($D$55=\"NE\",\"NE\",'[1]Žaluzie KASKO'!BE23)","v":432},{"$f":"IF($D$55=\"NE\",\"NE\",'[1]Žaluzie KASKO'!BF23)","v":462},{"$f":"IF($D$55=\"NE\",\"NE\",'[1]Žaluzie KASKO'!BG23)","v":495},{"$f":"IF($D$55=\"NE\",\"NE\",'[1]Žaluzie KASKO'!BH23)","v":541},{"$f":"IF($D$55=\"NE\",\"NE\",'[1]Žaluzie KASKO'!BI23)","v":576},{"$f":"IF($D$55=\"NE\",\"NE\",'[1]Žaluzie KASKO'!BJ23)","v":605},{"$f":"IF($D$55=\"NE\",\"NE\",'[1]Žaluzie KASKO'!BK23)","v":638},{"$f":"IF($D$55=\"NE\",\"NE\",'[1]Žaluzie KASKO'!BL23)","v":707},{"$f":"IF($D$55=\"NE\",\"NE\",'[1]Žaluzie KASKO'!BM23)","v":738},{"$f":"IF($D$55=\"NE\",\"NE\",'[1]Žaluzie KASKO'!BN23)","v":769},{"$f":"IF($D$55=\"NE\",\"NE\",'[1]Žaluzie KASKO'!BO23)","v":801},{"$f":"IF($D$55=\"NE\",\"NE\",'[1]Žaluzie KASKO'!BP23)","v":831},{"$f":"IF($D$55=\"NE\",\"NE\",'[1]Žaluzie KASKO'!BQ23)","v":862},{"$f":"IF($D$55=\"NE\",\"NE\",'[1]Žaluzie KASKO'!BR23)","v":918},{"$f":"IF($D$55=\"NE\",\"NE\",'[1]Žaluzie KASKO'!BS23)","v":972},{"$f":"IF($D$55=\"NE\",\"NE\",'[1]Žaluzie KASKO'!BT23)","v":1035}]
[170,{"$f":"IF($D$55=\"NE\",\"NE\",'[1]Žaluzie KASKO'!BA24)","v":297},{"$f":"IF($D$55=\"NE\",\"NE\",'[1]Žaluzie KASKO'!BB24)","v":327},{"$f":"IF($D$55=\"NE\",\"NE\",'[1]Žaluzie KASKO'!BC24)","v":362},{"$f":"IF($D$55=\"NE\",\"NE\",'[1]Žaluzie KASKO'!BD24)","v":394},{"$f":"IF($D$55=\"NE\",\"NE\",'[1]Žaluzie KASKO'!BE24)","v":445},{"$f":"IF($D$55=\"NE\",\"NE\",'[1]Žaluzie KASKO'!BF24)","v":476},{"$f":"IF($D$55=\"NE\",\"NE\",'[1]Žaluzie KASKO'!BG24)","v":509},{"$f":"IF($D$55=\"NE\",\"NE\",'[1]Žaluzie KASKO'!BH24)","v":562},{"$f":"IF($D$55=\"NE\",\"NE\",'[1]Žaluzie KASKO'!BI24)","v":594},{"$f":"IF($D$55=\"NE\",\"NE\",'[1]Žaluzie KASKO'!BJ24)","v":626},{"$f":"IF($D$55=\"NE\",\"NE\",'[1]Žaluzie KASKO'!BK24)","v":661},{"$f":"IF($D$55=\"NE\",\"NE\",'[1]Žaluzie KASKO'!BL24)","v":730},{"$f":"IF($D$55=\"NE\",\"NE\",'[1]Žaluzie KASKO'!BM24)","v":762},{"$f":"IF($D$55=\"NE\",\"NE\",'[1]Žaluzie KASKO'!BN24)","v":794},{"$f":"IF($D$55=\"NE\",\"NE\",'[1]Žaluzie KASKO'!BO24)","v":828},{"$f":"IF($D$55=\"NE\",\"NE\",'[1]Žaluzie KASKO'!BP24)","v":860},{"$f":"IF($D$55=\"NE\",\"NE\",'[1]Žaluzie KASKO'!BQ24)","v":892},{"$f":"IF($D$55=\"NE\",\"NE\",'[1]Žaluzie KASKO'!BR24)","v":964},{"$f":"IF($D$55=\"NE\",\"NE\",'[1]Žaluzie KASKO'!BS24)","v":1007},{"$f":"IF($D$55=\"NE\",\"NE\",'[1]Žaluzie KASKO'!BT24)","v":1070}]
[180,{"$f":"IF($D$55=\"NE\",\"NE\",'[1]Žaluzie KASKO'!BA25)","v":306},{"$f":"IF($D$55=\"NE\",\"NE\",'[1]Žaluzie KASKO'!BB25)","v":338},{"$f":"IF($D$55=\"NE\",\"NE\",'[1]Žaluzie KASKO'!BC25)","v":374},{"$f":"IF($D$55=\"NE\",\"NE\",'[1]Žaluzie KASKO'!BD25)","v":406},{"$f":"IF($D$55=\"NE\",\"NE\",'[1]Žaluzie KASKO'!BE25)","v":460},{"$f":"IF($D$55=\"NE\",\"NE\",'[1]Žaluzie KASKO'!BF25)","v":499},{"$f":"IF($D$55=\"NE\",\"NE\",'[1]Žaluzie KASKO'!BG25)","v":528},{"$f":"IF($D$55=\"NE\",\"NE\",'[1]Žaluzie KASKO'!BH25)","v":581},{"$f":"IF($D$55=\"NE\",\"NE\",'[1]Žaluzie KASKO'!BI25)","v":615},{"$f":"IF($D$55=\"NE\",\"NE\",'[1]Žaluzie KASKO'!BJ25)","v":651},{"$f":"IF($D$55=\"NE\",\"NE\",'[1]Žaluzie KASKO'!BK25)","v":685},{"$f":"IF($D$55=\"NE\",\"NE\",'[1]Žaluzie KASKO'!BL25)","v":758},{"$f":"IF($D$55=\"NE\",\"NE\",'[1]Žaluzie KASKO'!BM25)","v":792},{"$f":"IF($D$55=\"NE\",\"NE\",'[1]Žaluzie KASKO'!BN25)","v":825},{"$f":"IF($D$55=\"NE\",\"NE\",'[1]Žaluzie KASKO'!BO25)","v":859},{"$f":"IF($D$55=\"NE\",\"NE\",'[1]Žaluzie KASKO'!BP25)","v":896},{"$f":"IF($D$55=\"NE\",\"NE\",'[1]Žaluzie KASKO'!BQ25)","v":928},{"$f":"IF($D$55=\"NE\",\"NE\",'[1]Žaluzie KASKO'!BR25)","v":1001},{"$f":"IF($D$55=\"NE\",\"NE\",'[1]Žaluzie KASKO'!BS25)","v":1050},{"$f":"IF($D$55=\"NE\",\"NE\",'[1]Žaluzie KASKO'!BT25)","v":1108}]
[190,{"$f":"IF($D$55=\"NE\",\"NE\",'[1]Žaluzie KASKO'!BA26)","v":312},{"$f":"IF($D$55=\"NE\",\"NE\",'[1]Žaluzie KASKO'!BB26)","v":348},{"$f":"IF($D$55=\"NE\",\"NE\",'[1]Žaluzie KASKO'!BC26)","v":384},{"$f":"IF($D$55=\"NE\",\"NE\",'[1]Žaluzie KASKO'!BD26)","v":418},{"$f":"IF($D$55=\"NE\",\"NE\",'[1]Žaluzie KASKO'!BE26)","v":471},{"$f":"IF($D$55=\"NE\",\"NE\",'[1]Žaluzie KASKO'!BF26)","v":508},{"$f":"IF($D$55=\"NE\",\"NE\",'[1]Žaluzie KASKO'!BG26)","v":542},{"$f":"IF($D$55=\"NE\",\"NE\",'[1]Žaluzie KASKO'!BH26)","v":597},{"$f":"IF($D$55=\"NE\",\"NE\",'[1]Žaluzie KASKO'!BI26)","v":633},{"$f":"IF($D$55=\"NE\",\"NE\",'[1]Žaluzie KASKO'!BJ26)","v":670},{"$f":"IF($D$55=\"NE\",\"NE\",'[1]Žaluzie KASKO'!BK26)","v":705},{"$f":"IF($D$55=\"NE\",\"NE\",'[1]Žaluzie KASKO'!BL26)","v":780},{"$f":"IF($D$55=\"NE\",\"NE\",'[1]Žaluzie KASKO'!BM26)","v":819},{"$f":"IF($D$55=\"NE\",\"NE\",'[1]Žaluzie KASKO'!BN26)","v":851},{"$f":"IF($D$55=\"NE\",\"NE\",'[1]Žaluzie KASKO'!BO26)","v":874},{"$f":"IF($D$55=\"NE\",\"NE\",'[1]Žaluzie KASKO'!BP26)","v":922},{"$f":"IF($D$55=\"NE\",\"NE\",'[1]Žaluzie KASKO'!BQ26)","v":958},{"$f":"IF($D$55=\"NE\",\"NE\",'[1]Žaluzie KASKO'!BR26)","v":1034},{"$f":"IF($D$55=\"NE\",\"NE\",'[1]Žaluzie KASKO'!BS26)","v":1089},{"$f":"IF($D$55=\"NE\",\"NE\",'[1]Žaluzie KASKO'!BT26)","v":1155}]
[200,{"$f":"IF($D$55=\"NE\",\"NE\",'[1]Žaluzie KASKO'!BA27)","v":322},{"$f":"IF($D$55=\"NE\",\"NE\",'[1]Žaluzie KASKO'!BB27)","v":357},{"$f":"IF($D$55=\"NE\",\"NE\",'[1]Žaluzie KASKO'!BC27)","v":394},{"$f":"IF($D$55=\"NE\",\"NE\",'[1]Žaluzie KASKO'!BD27)","v":432},{"$f":"IF($D$55=\"NE\",\"NE\",'[1]Žaluzie KASKO'!BE27)","v":487},{"$f":"IF($D$55=\"NE\",\"NE\",'[1]Žaluzie KASKO'!BF27)","v":523},{"$f":"IF($D$55=\"NE\",\"NE\",'[1]Žaluzie KASKO'!BG27)","v":560},{"$f":"IF($D$55=\"NE\",\"NE\",'[1]Žaluzie KASKO'!BH27)","v":614},{"$f":"IF($D$55=\"NE\",\"NE\",'[1]Žaluzie KASKO'!BI27)","v":657},{"$f":"IF($D$55=\"NE\",\"NE\",'[1]Žaluzie KASKO'!BJ27)","v":693},{"$f":"IF($D$55=\"NE\",\"NE\",'[1]Žaluzie KASKO'!BK27)","v":727},{"$f":"IF($D$55=\"NE\",\"NE\",'[1]Žaluzie KASKO'!BL27)","v":809},{"$f":"IF($D$55=\"NE\",\"NE\",'[1]Žaluzie KASKO'!BM27)","v":847},{"$f":"IF($D$55=\"NE\",\"NE\",'[1]Žaluzie KASKO'!BN27)","v":882},{"$f":"IF($D$55=\"NE\",\"NE\",'[1]Žaluzie KASKO'!BO27)","v":916},{"$f":"IF($D$55=\"NE\",\"NE\",'[1]Žaluzie KASKO'!BP27)","v":956},{"$f":"IF($D$55=\"NE\",\"NE\",'[1]Žaluzie KASKO'!BQ27)","v":992},{"$f":"IF($D$55=\"NE\",\"NE\",'[1]Žaluzie KASKO'!BR27)","v":1069},{"$f":"IF($D$55=\"NE\",\"NE\",'[1]Žaluzie KASKO'!BS27)","v":1129},{"$f":"IF($D$55=\"NE\",\"NE\",'[1]Žaluzie KASKO'!BT27)","v":1202}]
[210,{"$f":"IF($D$55=\"NE\",\"NE\",'[1]Žaluzie KASKO'!BA28)","v":328},{"$f":"IF($D$55=\"NE\",\"NE\",'[1]Žaluzie KASKO'!BB28)","v":367},{"$f":"IF($D$55=\"NE\",\"NE\",'[1]Žaluzie KASKO'!BC28)","v":404},{"$f":"IF($D$55=\"NE\",\"NE\",'[1]Žaluzie KASKO'!BD28)","v":444},{"$f":"IF($D$55=\"NE\",\"NE\",'[1]Žaluzie KASKO'!BE28)","v":502},{"$f":"IF($D$55=\"NE\",\"NE\",'[1]Žaluzie KASKO'!BF28)","v":540},{"$f":"IF($D$55=\"NE\",\"NE\",'[1]Žaluzie KASKO'!BG28)","v":578},{"$f":"IF($D$55=\"NE\",\"NE\",'[1]Žaluzie KASKO'!BH28)","v":633},{"$f":"IF($D$55=\"NE\",\"NE\",'[1]Žaluzie KASKO'!BI28)","v":680},{"$f":"IF($D$55=\"NE\",\"NE\",'[1]Žaluzie KASKO'!BJ28)","v":716},{"$f":"IF($D$55=\"NE\",\"NE\",'[1]Žaluzie KASKO'!BK28)","v":749},{"$f":"IF($D$55=\"NE\",\"NE\",'[1]Žaluzie KASKO'!BL28)","v":837},{"$f":"IF($D$55=\"NE\",\"NE\",'[1]Žaluzie KASKO'!BM28)","v":874},{"$f":"IF($D$55=\"NE\",\"NE\",'[1]Žaluzie KASKO'!BN28)","v":912},{"$f":"IF($D$55=\"NE\",\"NE\",'[1]Žaluzie KASKO'!BO28)","v":951},{"$f":"IF($D$55=\"NE\",\"NE\",'[1]Žaluzie KASKO'!BP28)","v":988},{"$f":"IF($D$55=\"NE\",\"NE\",'[1]Žaluzie KASKO'!BQ28)","v":1033},{"$f":"IF($D$55=\"NE\",\"NE\",'[1]Žaluzie KASKO'!BR28)","v":1109},{"$f":"IF($D$55=\"NE\",\"NE\",'[1]Žaluzie KASKO'!BS28)","v":1155},{"$f":"IF($D$55=\"NE\",\"NE\",'[1]Žaluzie KASKO'!BT28)","v":1250}]
[220,{"$f":"IF($D$55=\"NE\",\"NE\",'[1]Žaluzie KASKO'!BA29)","v":337},{"$f":"IF($D$55=\"NE\",\"NE\",'[1]Žaluzie KASKO'!BB29)","v":375},{"$f":"IF($D$55=\"NE\",\"NE\",'[1]Žaluzie KASKO'!BC29)","v":416},{"$f":"IF($D$55=\"NE\",\"NE\",'[1]Žaluzie KASKO'!BD29)","v":454},{"$f":"IF($D$55=\"NE\",\"NE\",'[1]Žaluzie KASKO'!BE29)","v":514},{"$f":"IF($D$55=\"NE\",\"NE\",'[1]Žaluzie KASKO'!BF29)","v":553},{"$f":"IF($D$55=\"NE\",\"NE\",'[1]Žaluzie KASKO'!BG29)","v":593},{"$f":"IF($D$55=\"NE\",\"NE\",'[1]Žaluzie KASKO'!BH29)","v":657},{"$f":"IF($D$55=\"NE\",\"NE\",'[1]Žaluzie KASKO'!BI29)","v":697},{"$f":"IF($D$55=\"NE\",\"NE\",'[1]Žaluzie KASKO'!BJ29)","v":736},{"$f":"IF($D$55=\"NE\",\"NE\",'[1]Žaluzie KASKO'!BK29)","v":777},{"$f":"IF($D$55=\"NE\",\"NE\",'[1]Žaluzie KASKO'!BL29)","v":861},{"$f":"IF($D$55=\"NE\",\"NE\",'[1]Žaluzie KASKO'!BM29)","v":900},{"$f":"IF($D$55=\"NE\",\"NE\",'[1]Žaluzie KASKO'!BN29)","v":939},{"$f":"IF($D$55=\"NE\",\"NE\",'[1]Žaluzie KASKO'!BO29)","v":985},{"$f":"IF($D$55=\"NE\",\"NE\",'[1]Žaluzie KASKO'!BP29)","v":1018},{"$f":"IF($D$55=\"NE\",\"NE\",'[1]Žaluzie KASKO'!BQ29)","v":1054},{"$f":"IF($D$55=\"NE\",\"NE\",'[1]Žaluzie KASKO'!BR29)","v":1140},{"$f":"IF($D$55=\"NE\",\"NE\",'[1]Žaluzie KASKO'!BS29)","v":1207},{"$f":"IF($D$55=\"NE\",\"NE\",'[1]Žaluzie KASKO'!BT29)","v":1296}]
[]
["Pro stanovení ceny se počítá nejbližší vyšší rozměr."]
[]
["Příplatky:"]
["Lamely z proužkem 780,783,1940, matné 8xxx a perforované PR",null,null,null,null,null,null,null,null,null,null,null,null,null,null,null,null,null,{"$f":"IF($D$55=\"NE\",\"NE\",'[1]Žaluzie KASKO'!$I$33)","v":80},null,"/m²"]
["Lamela 25x0,21 a 16x0,21",null,null,null,null,null,null,null,null,null,null,null,null,null,null,null,null,null,{"$f":"IF($D$55=\"NE\",\"NE\",'[1]Žaluzie KASKO'!$I$34)","v":80},null,"/m²"]
["Lamela 25x0,21 - Dekory SD, SL",null,null,null,null,null,null,null,null,null,null,null,null,null,null,null,null,null,{"$f":"IF($D$53=\"NE\",\"NE\",'[1]Žaluzie KASKO'!$I$38)","v":90},null,"/m²"]
["Lamela 25x0,21 - Dekory SR, SM",null,null,null,null,null,null,null,null,null,null,null,null,null,null,null,null,null,{"$f":"IF($D$53=\"NE\",\"NE\",'[1]Žaluzie KASKO'!$I$39)","v":135},null,"/m²"]
["Imitace dřeva - lamely",null,null,null,null,null,null,null,null,null,null,null,null,null,null,null,null,null,{"$f":"IF($D$55=\"NE\",\"NE\",'[1]Žaluzie KASKO'!$I$35)","v":240},null,"/m²"]
["LOCO provedení v renolitu (horní a dolní profil)",null,null,null,null,null,null,null,null,null,null,null,null,null,null,null,null,null,{"$f":"IF($D$55=\"NE\",\"NE\",'[1]Žaluzie KASKO'!$I$41)","v":200},null,"/ks"]
["LOCO renolit jen horní lišta",null,null,null,null,null,null,null,null,null,null,null,null,null,null,null,null,null,{"$f":"IF($D$55=\"NE\",\"NE\",'[1]Žaluzie KASKO'!$I$42)","v":100},null,"/ks"]
["Distanční podložka",null,null,null,null,null,null,null,null,null,null,null,null,null,null,null,null,null,{"$f":"IF($D$55=\"NE\",\"NE\",'[1]Žaluzie KASKO'!$I$45)","v":4},null,"/pár"]
["Bezpečnostní prvky",null,null,null,null,null,null,null,null,null,null,null,null,null,null,null,null,null,{"$f":"IF($D$55=\"NE\",\"NE\",'[1]Žaluzie KASKO'!$I$46)","v":10},null,"/ks"]
["Uvedené ceny jsou bez DPH."]
["U nestandardních věcí, jako je lakování atd., je termín dodání 4 týdny, popř. dle dohody !!!"]
["Na žaluzie o šířce 170-200mm a 2000-2500mm, o výšce 2000-2600mm a nebo o ploše větší než 2,4m² neposkytujeme záruku!!!"]
[]
[]
["Platnost od:",null,null,{"$f":"'[1]Žaluzie KASKO'!$C$4","v":"2018-10-16"},null,null,null,null,null,null,null,null,null,null,null,null,null,{"$f":"[1]Úvod!$K$3","v":2},{"$f":"[1]Úvod!$L$3","v":"ŽALUZIE"}]
[]
[]
["Bankovní spojení:",null,null,null,null,null,null,null,null,"IČ: 69204705",null,null,null,null,null,null,null,"TEL: 583/284070"]
["KB Šumperk",null,null,null,null,null,null,null,null,"DIČ: CZ7204215799",null,null,null,null,null,null,null,"FAX: 583/238875"]
["č.ú. 43-5137000207/0100",null,null,null,null,null,null,null,null,"mail: objednavky@parapetyrs.cz",null,null,null,null,null,null,null,"MOBIL: 777/238872"]

{"sheet":"OBJ LOCO","index":5,"n_rows":33,"n_cols":40,"rows_kept":33,"cut":false,"hidden":false,"merged":[[2,0,2,4],[2,5,2,11],[2,12,2,13],[2,15,2,18],[0,0,0,18],[1,0,1,4],[1,5,1,11],[1,12,1,14],[1,15,1,18],[4,0,4,4],[4,5,4,6],[4,7,4,11],[4,12,4,13],[4,15,4,18],[3,0,3,4],[3,5,3,6],[3,7,3,11],[3,12,3,13],[3,15,3,18],[5,12,5,13],[5,15,5,18],[6,0,6,4],[6,5,6,6],[6,7,6,11],[6,12,7,13],[6,14,7,14],[6,15,6,18],[7,15,7,18],[8,3,9,3],[8,4,8,5],[5,0,5,4],[5,5,5,6],[5,7,5,11],[7,0,7,4],[7,5,7,6],[7,7,7,11],[32,0,32,18],[8,7,8,9],[8,14,9,14],[8,15,9,15],[8,16,9,16],[8,17,9,17],[8,18,9,18],[31,0,31,18],[8,6,9,6],[8,10,9,10],[8,11,9,11],[8,12,9,12],[8,13,9,13],[8,0,9,0],[8,1,9,1],[8,2,9,2]]}
["Objednávka žaluzií - ISOLINE LOCO"]
["Objednatel:",null,null,null,null,"List č. 1  z  1",null,null,null,null,null,null,"Souhrn objednávky:"]
[{"$f":"ISOLINE!A8","v":"INTERNET "},null,null,null,null,"(příklad: List č. 1   z.  5)",null,null,null,null,null,null,"Platnost od:",null,{"$f":"ISOLINE!$D$55","v":"2018-10-16"}]
[null,null,null,null,null,"Datum objednání:",null,null,null,null,null,null,"Plocha m²:",null,{"$f":"SUM(W11:W31)","v":0}]
[null,null,null,null,null,"Datum dodání:",null,null,null,null,null,null,"Kusů:",null,{"$f":"SUM(G11:G31)","v":0},"Stará 205, 789 61, Bludov"]
["IČ:",null,null,null,null,"Adresa dodání:",null,null,null,null,null,null,"Rabat, marže:",null,0,"Provozovna:"]
[null,null,null,null,null,"Kontakt:",null,null,null,null,null,null,"Přibližná cena bez DPH:",null,{"$f":"SUM(R11:R31)","v":0},"ul. Žerotínova 87, 787 01, Šumperk"]
[null,null,null,null,null,"Zakázka:",null,null,null,null,null,null,null,null,null,"bývalý areál Moravolenu (Bělidlo)"]
["Pozice","Lamela","Ovl.","Profil","Rozměr (v mm)",null,"ks","Barva",null,null,"Celostín","Rám okna","Podl. (pár)","Bezpeč. prvky","Délka ovl.         ( v mm)","m²","Cena kus","Cena celkem","Poznámka"]
[null,null,null,null,"Šířka","Výška",null,"Lamely","Profilů","LOCO lišty",null,null,null,null,null,null,null,null,null,null,null,null,"m2 řádek","šířka zaok","výška zaok","m2","příp barva lamela","příp barva profilu","příp barva loco","Index loco","příp síla lamely","Š index","V index","Cena index","Cena jednotka","Cena vše","Dist. Podložka","Bezpečnostní prvky","Marže ks","Marže vše"]
[null,null,null,null,null,null,null,null,null,null,null,null,null,null,null,{"$f":"SUM(E11*F11)/1000000","v":0},{"$f":"IF(ISNA(AM11),\"\",AM11)","v":""},{"$f":"IF(ISNA(AN11),\"\",AN11)","v":""},null,null,null,null,{"$f":"SUM(G11*P11)","v":0},{"$f":"CEILING(E11,100)/10","v":0},{"$f":"CEILING(F11,100)/10","v":0},{"$f":"IF(P11>0.5,PRODUCT(X11,Y11)/10000,0.5)","v":0.5},{"$f":"VLOOKUP(H11,Tabulky!$A$4:$B$169,2,FALSE) * Z11","v":{"$error":"#N/A"}},{"$f":"IF(ISNA(IF(I11 = \"\",0,VLOOKUP(I11,Tabulky!$K$16:$N$29,3,FALSE)) *  (X11/100)), 0,IF(I11 = \"\",0,VLOOKUP(I11,Tabulky!$K$16:$N$29,3,FALSE)) *  (X11/100))","v":0},{"$f":"IF(ISNA(IF(J11 = \"\",0,VLOOKUP(J11,Tabulky!$K$16:$N$29,4,FALSE)) *  (X11/100)), 0,IF(J11 = \"\",0,VLOOKUP(J11,Tabulky!$K$16:$N$29,4,FALSE)) *  (X11/100))","v":0},{"$f":"IF(AB11>10,0,AC11)","v":0},{"$f":"VLOOKUP(B11,Tabulky!$K$31:$L$34,2,FALSE) * Z11","v":{"$error":"#N/A"}},{"$f":"MATCH(X11,LOCO!$B$16:$U$16,0)","v":{"$error":"#N/A"}},{"$f":"MATCH(Y11,LOCO!$A$17:$A$36,0)","v":{"$error":"#N/A"}},{"$f":"ROUND(INDEX(LOCO!$B$17:$U$36,AG11,AF11),0)","v":{"$error":"#N/A"}},{"$f":"SUM(AA11,AB11,AD11,AE11,AL11,AH11,AK11)","v":{"$error":"#N/A"}},{"$f":"AI11*IF(G11 = \"\",1,G11)","v":{"$error":"#N/A"}},{"$f":"SUM(M11*LOCO!$S$48)","v":0},{"$f":"IF(N11=\"ANO\",LOCO!$S$49,0)","v":0},{"$f":"SUM(AI11+AI11*$O$6)","v":{"$error":"#N/A"}},{"$f":"SUM(AJ11+AJ11*$O$6)","v":{"$error":"#N/A"}}]
[null,null,null,null,null,null,null,null,null,null,null,null,null,null,null,{"$f":"SUM(E12*F12)/1000000","v":0},{"$f":"IF(ISNA(AM12),\"\",AM12)","v":""},{"$f":"IF(ISNA(AN12),\"\",AN12)","v":""},null,null,null,null,{"$f":"SUM(G12*P12)","v":0},{"$f":"CEILING(E12,100)/10","v":0},{"$f":"CEILING(F12,100)/10","v":0},{"$f":"IF(P12>0.5,PRODUCT(X12,Y12)/10000,0.5)","v":0.5},{"$f":"VLOOKUP(H12,Tabulky!$A$4:$B$169,2,FALSE) * Z12","v":{"$error":"#N/A"}},{"$f":"IF(ISNA(IF(I12 = \"\",0,VLOOKUP(I12,Tabulky!$K$16:$N$29,3,FALSE)) *  (X12/100)), 0,IF(I12 = \"\",0,VLOOKUP(I12,Tabulky!$K$16:$N$29,3,FALSE)) *  (X12/100))","v":0},{"$f":"IF(ISNA(IF(J12 = \"\",0,VLOOKUP(J12,Tabulky!$K$16:$N$29,4,FALSE)) *  (X12/100)), 0,IF(J12 = \"\",0,VLOOKUP(J12,Tabulky!$K$16:$N$29,4,FALSE)) *  (X12/100))","v":0},{"$f":"IF(AB12>10,0,AC12)","v":0},{"$f":"VLOOKUP(B12,Tabulky!$K$31:$L$34,2,FALSE) * Z12","v":{"$error":"#N/A"}},{"$f":"MATCH(X12,LOCO!$B$16:$U$16,0)","v":{"$error":"#N/A"}},{"$f":"MATCH(Y12,LOCO!$A$17:$A$36,0)","v":{"$error":"#N/A"}},{"$f":"ROUND(INDEX(LOCO!$B$17:$U$36,AG12,AF12),0)","v":{"$error":"#N/A"}},{"$f":"SUM(AA12,AB12,AD12,AE12,AL12,AH12,AK12)","v":{"$error":"#N/A"}},{"$f":"AI12*IF(G12 = \"\",1,G12)","v":{"$error":"#N/A"}},{"$f":"SUM(M12*LOCO!$S$48)","v":0},{"$f":"IF(N12=\"ANO\",LOCO!$S$49,0)","v":0},{"$f":"SUM(AI12+AI12*$O$6)","v":{"$error":"#N/A"}},{"$f":"SUM(AJ12+AJ12*$O$6)","v":{"$error":"#N/A"}}]
[null,null,null,null,null,null,null,null,null,null,null,null,null,null,null,0,"","",null,null,null,null,0,0,0,0.5,{"$f":"VLOOKUP(H13,Tabulky!$A$4:$B$169,2,FALSE) * Z13","v":{"$error":"#N/A"}},{"$f":"IF(ISNA(IF(I13 = \"\",0,VLOOKUP(I13,Tabulky!$K$16:$N$29,3,FALSE)) *  (X13/100)), 0,IF(I13 = \"\",0,VLOOKUP(I13,Tabulky!$K$16:$N$29,3,FALSE)) *  (X13/100))","v":0},{"$f":"IF(ISNA(IF(J13 = \"\",0,VLOOKUP(J13,Tabulky!$K$16:$N$29,4,FALSE)) *  (X13/100)), 0,IF(J13 = \"\",0,VLOOKUP(J13,Tabulky!$K$16:$N$29,4,FALSE)) *  (X13/100))","v":0},0,{"$f":"VLOOKUP(B13,Tabulky!$K$31:$L$34,2,FALSE) * Z13","v":{"$error":"#N/A"}},{"$f":"MATCH(X13,LOCO!$B$16:$U$16,0)","v":{"$error":"#N/A"}},{"$f":"MATCH(Y13,LOCO!$A$17:$A$36,0)","v":{"$error":"#N/A"}},{"$f":"ROUND(INDEX(LOCO!$B$17:$U$36,AG13,AF13),0)","v":{"$error":"#N/A"}},{"$error":"#N/A"},{"$error":"#N/A"},{"$f":"SUM(M13*LOCO!$S$48)","v":0},{"$f":"IF(N13=\"ANO\",LOCO!$S$49,0)","v":0},{"$error":"#N/A"},{"$error":"#N/A"}]
[null,null,null,null,null,null,null,null,null,null,null,null,null,null,null,0,"","",null,null,null,null,0,0,0,0.5,{"$f":"VLOOKUP(H14,Tabulky!$A$4:$B$169,2,FALSE) * Z14","v":{"$error":"#N/A"}},{"$f":"IF(ISNA(IF(I14 = \"\",0,VLOOKUP(I14,Tabulky!$K$16:$N$29,3,FALSE)) *  (X14/100)), 0,IF(I14 = \"\",0,VLOOKUP(I14,Tabulky!$K$16:$N$29,3,FALSE)) *  (X14/100))","v":0},{"$f":"IF(ISNA(IF(J14 = \"\",0,VLOOKUP(J14,Tabulky!$K$16:$N$29,4,FALSE)) *  (X14/100)), 0,IF(J14 = \"\",0,VLOOKUP(J14,Tabulky!$K$16:$N$29,4,FALSE)) *  (X14/100))","v":0},0,{"$f":"VLOOKUP(B14,Tabulky!$K$31:$L$34,2,FALSE) * Z14","v":{"$error":"#N/A"}},{"$f":"MATCH(X14,LOCO!$B$16:$U$16,0)","v":{"$error":"#N/A"}},{"$f":"MATCH(Y14,LOCO!$A$17:$A$36,0)","v":{"$error":"#N/A"}},{"$f":"ROUND(INDEX(LOCO!$B$17:$U$36,AG14,AF14),0)","v":{"$error":"#N/A"}},{"$error":"#N/A"},{"$error":"#N/A"},{"$f":"SUM(M14*LOCO!$S$48)","v":0},{"$f":"IF(N14=\"ANO\",LOCO!$S$49,0)","v":0},{"$error":"#N/A"},{"$error":"#N/A"}]
[null,null,null,null,null,null,null,null,null,null,null,null,null,null,null,0,"","",null,null,null,null,0,0,0,0.5,{"$f":"VLOOKUP(H15,Tabulky!$A$4:$B$169,2,FALSE) * Z15","v":{"$error":"#N/A"}},{"$f":"IF(ISNA(IF(I15 = \"\",0,VLOOKUP(I15,Tabulky!$K$16:$N$29,3,FALSE)) *  (X15/100)), 0,IF(I15 = \"\",0,VLOOKUP(I15,Tabulky!$K$16:$N$29,3,FALSE)) *  (X15/100))","v":0},{"$f":"IF(ISNA(IF(J15 = \"\",0,VLOOKUP(J15,Tabulky!$K$16:$N$29,4,FALSE)) *  (X15/100)), 0,IF(J15 = \"\",0,VLOOKUP(J15,Tabulky!$K$16:$N$29,4,FALSE)) *  (X15/100))","v":0},0,{"$f":"VLOOKUP(B15,Tabulky!$K$31:$L$34,2,FALSE) * Z15","v":{"$error":"#N/A"}},{"$f":"MATCH(X15,LOCO!$B$16:$U$16,0)","v":{"$error":"#N/A"}},{"$f":"MATCH(Y15,LOCO!$A$17:$A$36,0)","v":{"$error":"#N/A"}},{"$f":"ROUND(INDEX(LOCO!$B$17:$U$36,AG15,AF15),0)","v":{"$error":"#N/A"}},{"$error":"#N/A"},{"$error":"#N/A"},{"$f":"SUM(M15*LOCO!$S$48)","v":0},{"$f":"IF(N15=\"ANO\",LOCO!$S$49,0)","v":0},{"$error":"#N/A"},{"$error":"#N/A"}]
[null,null,null,null,null,null,null,null,null,null,null,null,null,null,null,0,"","",null,null,null,null,0,0,0,0.5,{"$f":"VLOOKUP(H16,Tabulky!$A$4:$B$169,2,FALSE) * Z16","v":{"$error":"#N/A"}},{"$f":"IF(ISNA(IF(I16 = \"\",0,VLOOKUP(I16,Tabulky!$K$16:$N$29,3,FALSE)) *  (X16/100)), 0,IF(I16 = \"\",0,VLOOKUP(I16,Tabulky!$K$16:$N$29,3,FALSE)) *  (X16/100))","v":0},{"$f":"IF(ISNA(IF(J16 = \"\",0,VLOOKUP(J16,Tabulky!$K$16:$N$29,4,FALSE)) *  (X16/100)), 0,IF(J16 = \"\",0,VLOOKUP(J16,Tabulky!$K$16:$N$29,4,FALSE)) *  (X16/100))","v":0},0,{"$f":"VLOOKUP(B16,Tabulky!$K$31:$L$34,2,FALSE) * Z16","v":{"$error":"#N/A"}},{"$f":"MATCH(X16,LOCO!$B$16:$U$16,0)","v":{"$error":"#N/A"}},{"$f":"MATCH(Y16,LOCO!$A$17:$A$36,0)","v":{"$error":"#N/A"}},{"$f":"ROUND(INDEX(LOCO!$B$17:$U$36,AG16,AF16),0)","v":{"$error":"#N/A"}},{"$error":"#N/A"},{"$error":"#N/A"},{"$f":"SUM(M16*LOCO!$S$48)","v":0},{"$f":"IF(N16=\"ANO\",LOCO!$S$49,0)","v":0},{"$error":"#N/A"},{"$error":"#N/A"}]
[null,null,null,null,null,null,null,null,null,null,null,null,null,null,null,0,"","",null,null,null,null,0,0,0,0.5,{"$f":"VLOOKUP(H17,Tabulky!$A$4:$B$169,2,FALSE) * Z17","v":{"$error":"#N/A"}},{"$f":"IF(ISNA(IF(I17 = \"\",0,VLOOKUP(I17,Tabulky!$K$16:$N$29,3,FALSE)) *  (X17/100)), 0,IF(I17 = \"\",0,VLOOKUP(I17,Tabulky!$K$16:$N$29,3,FALSE)) *  (X17/100))","v":0},{"$f":"IF(ISNA(IF(J17 = \"\",0,VLOOKUP(J17,Tabulky!$K$16:$N$29,4,FALSE)) *  (X17/100)), 0,IF(J17 = \"\",0,VLOOKUP(J17,Tabulky!$K$16:$N$29,4,FALSE)) *  (X17/100))","v":0},0,{"$f":"VLOOKUP(B17,Tabulky!$K$31:$L$34,2,FALSE) * Z17","v":{"$error":"#N/A"}},{"$f":"MATCH(X17,LOCO!$B$16:$U$16,0)","v":{"$error":"#N/A"}},{"$f":"MATCH(Y17,LOCO!$A$17:$A$36,0)","v":{"$error":"#N/A"}},{"$f":"ROUND(INDEX(LOCO!$B$17:$U$36,AG17,AF17),0)","v":{"$error":"#N/A"}},{"$error":"#N/A"},{"$error":"#N/A"},{"$f":"SUM(M17*LOCO!$S$48)","v":0},{"$f":"IF(N17=\"ANO\",LOCO!$S$49,0)","v":0},{"$error":"#N/A"},{"$error":"#N/A"}]
[null,null,null,null,null,null,null,null,null,null,null,null,null,null,null,0,"","",null,null,null,null,0,0,0,0.5,{"$f":"VLOOKUP(H18,Tabulky!$A$4:$B$169,2,FALSE) * Z18","v":{"$error":"#N/A"}},{"$f":"IF(ISNA(IF(I18 = \"\",0,VLOOKUP(I18,Tabulky!$K$16:$N$29,3,FALSE)) *  (X18/100)), 0,IF(I18 = \"\",0,VLOOKUP(I18,Tabulky!$K$16:$N$29,3,FALSE)) *  (X18/100))","v":0},{"$f":"IF(ISNA(IF(J18 = \"\",0,VLOOKUP(J18,Tabulky!$K$16:$N$29,4,FALSE)) *  (X18/100)), 0,IF(J18 = \"\",0,VLOOKUP(J18,Tabulky!$K$16:$N$29,4,FALSE)) *  (X18/100))","v":0},0,{"$f":"VLOOKUP(B18,Tabulky!$K$31:$L$34,2,FALSE) * Z18","v":{"$error":"#N/A"}},{"$f":"MATCH(X18,LOCO!$B$16:$U$16,0)","v":{"$error":"#N/A"}},{"$f":"MATCH(Y18,LOCO!$A$17:$A$36,0)","v":{"$error":"#N/A"}},{"$f":"ROUND(INDEX(LOCO!$B$17:$U$36,AG18,AF18),0)","v":{"$error":"#N/A"}},{"$error":"#N/A"},{"$error":"#N/A"},{"$f":"SUM(M18*LOCO!$S$48)","v":0},{"$f":"IF(N18=\"ANO\",LOCO!$S$49,0)","v":0},{"$error":"#N/A"},{"$error":"#N/A"}]
[null,null,null,null,null,null,null,null,null,null,null,null,null,null,null,0,"","",null,null,null,null,0,0,0,0.5,{"$f":"VLOOKUP(H19,Tabulky!$A$4:$B$169,2,FALSE) * Z19","v":{"$error":"#N/A"}},{"$f":"IF(ISNA(IF(I19 = \"\",0,VLOOKUP(I19,Tabulky!$K$16:$N$29,3,FALSE)) *  (X19/100)), 0,IF(I19 = \"\",0,VLOOKUP(I19,Tabulky!$K$16:$N$29,3,FALSE)) *  (X19/100))","v":0},{"$f":"IF(ISNA(IF(J19 = \"\",0,VLOOKUP(J19,Tabulky!$K$16:$N$29,4,FALSE)) *  (X19/100)), 0,IF(J19 = \"\",0,VLOOKUP(J19,Tabulky!$K$16:$N$29,4,FALSE)) *  (X19/100))","v":0},0,{"$f":"VLOOKUP(B19,Tabulky!$K$31:$L$34,2,FALSE) * Z19","v":{"$error":"#N/A"}},{"$f":"MATCH(X19,LOCO!$B$16:$U$16,0)","v":{"$error":"#N/A"}},{"$f":"MATCH(Y19,LOCO!$A$17:$A$36,0)","v":{"$error":"#N/A"}},{"$f":"ROUND(INDEX(LOCO!$B$17:$U$36,AG19,AF19),0)","v":{"$error":"#N/A"}},{"$error":"#N/A"},{"$error":"#N/A"},{"$f":"SUM(M19*LOCO!$S$48)","v":0},{"$f":"IF(N19=\"ANO\",LOCO!$S$49,0)","v":0},{"$error":"#N/A"},{"$error":"#N/A"}]
[null,null,null,null,null,null,null,null,null,null,null,null,null,null,null,0,"","",null,null,null,null,0,0,0,0.5,{"$f":"VLOOKUP(H20,Tabulky!$A$4:$B$169,2,FALSE) * Z20","v":{"$error":"#N/A"}},{"$f":"IF(ISNA(IF(I20 = \"\",0,VLOOKUP(I20,Tabulky!$K$16:$N$29,3,FALSE)) *  (X20/100)), 0,IF(I20 = \"\",0,VLOOKUP(I20,Tabulky!$K$16:$N$29,3,FALSE)) *  (X20/100))","v":0},{"$f":"IF(ISNA(IF(J20 = \"\",0,VLOOKUP(J20,Tabulky!$K$16:$N$29,4,FALSE)) *  (X20/100)), 0,IF(J20 = \"\",0,VLOOKUP(J20,Tabulky!$K$16:$N$29,4,FALSE)) *  (X20/100))","v":0},0,{"$f":"VLOOKUP(B20,Tabulky!$K$31:$L$34,2,FALSE) * Z20","v":{"$error":"#N/A"}},{"$f":"MATCH(X20,LOCO!$B$16:$U$16,0)","v":{"$error":"#N/A"}},{"$f":"MATCH(Y20,LOCO!$A$17:$A$36,0)","v":{"$error":"#N/A"}},{"$f":"ROUND(INDEX(LOCO!$B$17:$U$36,AG20,AF20),0)","v":{"$error":"#N/A"}},{"$error":"#N/A"},{"$error":"#N/A"},{"$f":"SUM(M20*LOCO!$S$48)","v":0},{"$f":"IF(N20=\"ANO\",LOCO!$S$49,0)","v":0},{"$error":"#N/A"},{"$error":"#N/A"}]
[null,null,null,null,null,null,null,null,null,null,null,null,null,null,null,0,"","",null,null,null,null,0,0,0,0.5,{"$f":"VLOOKUP(H21,Tabulky!$A$4:$B$169,2,FALSE) * Z21","v":{"$error":"#N/A"}},{"$f":"IF(ISNA(IF(I21 = \"\",0,VLOOKUP(I21,Tabulky!$K$16:$N$29,3,FALSE)) *  (X21/100)), 0,IF(I21 = \"\",0,VLOOKUP(I21,Tabulky!$K$16:$N$29,3,FALSE)) *  (X21/100))","v":0},{"$f":"IF(ISNA(IF(J21 = \"\",0,VLOOKUP(J21,Tabulky!$K$16:$N$29,4,FALSE)) *  (X21/100)), 0,IF(J21 = \"\",0,VLOOKUP(J21,Tabulky!$K$16:$N$29,4,FALSE)) *  (X21/100))","v":0},0,{"$f":"VLOOKUP(B21,Tabulky!$K$31:$L$34,2,FALSE) * Z21","v":{"$error":"#N/A"}},{"$f":"MATCH(X21,LOCO!$B$16:$U$16,0)","v":{"$error":"#N/A"}},{"$f":"MATCH(Y21,LOCO!$A$17:$A$36,0)","v":{"$error":"#N/A"}},{"$f":"ROUND(INDEX(LOCO!$B$17:$U$36,AG21,AF21),0)","v":{"$error":"#N/A"}},{"$error":"#N/A"},{"$error":"#N/A"},{"$f":"SUM(M21*LOCO!$S$48)","v":0},{"$f":"IF(N21=\"ANO\",LOCO!$S$49,0)","v":0},{"$error":"#N/A"},{"$error":"#N/A"}]
[null,null,null,null,null,null,null,null,null,null,null,null,null,null,null,0,"","",null,null,null,null,0,0,0,0.5,{"$f":"VLOOKUP(H22,Tabulky!$A$4:$B$169,2,FALSE) * Z22","v":{"$error":"#N/A"}},{"$f":"IF(ISNA(IF(I22 = \"\",0,VLOOKUP(I22,Tabulky!$K$16:$N$29,3,FALSE)) *  (X22/100)), 0,IF(I22 = \"\",0,VLOOKUP(I22,Tabulky!$K$16:$N$29,3,FALSE)) *  (X22/100))","v":0},{"$f":"IF(ISNA(IF(J22 = \"\",0,VLOOKUP(J22,Tabulky!$K$16:$N$29,4,FALSE)) *  (X22/100)), 0,IF(J22 = \"\",0,VLOOKUP(J22,Tabulky!$K$16:$N$29,4,FALSE)) *  (X22/100))","v":0},0,{"$f":"VLOOKUP(B22,Tabulky!$K$31:$L$34,2,FALSE) * Z22","v":{"$error":"#N/A"}},{"$f":"MATCH(X22,LOCO!$B$16:$U$16,0)","v":{"$error":"#N/A"}},{"$f":"MATCH(Y22,LOCO!$A$17:$A$36,0)","v":{"$error":"#N/A"}},{"$f":"ROUND(INDEX(LOCO!$B$17:$U$36,AG22,AF22),0)","v":{"$error":"#N/A"}},{"$error":"#N/A"},{"$error":"#N/A"},{"$f":"SUM(M22*LOCO!$S$48)","v":0},{"$f":"IF(N22=\"ANO\",LOCO!$S$49,0)","v":0},{"$error":"#N/A"},{"$error":"#N/A"}]
[null,null,null,null,null,null,null,null,null,null,null,null,null,null,null,0,"","",null,null,null,null,0,0,0,0.5,{"$f":"VLOOKUP(H23,Tabulky!$A$4:$B$169,2,FALSE) * Z23","v":{"$error":"#N/A"}},{"$f":"IF(ISNA(IF(I23 = \"\",0,VLOOKUP(I23,Tabulky!$K$16:$N$29,3,FALSE)) *  (X23/100)), 0,IF(I23 = \"\",0,VLOOKUP(I23,Tabulky!$K$16:$N$29,3,FALSE)) *  (X23/100))","v":0},{"$f":"IF(ISNA(IF(J23 = \"\",0,VLOOKUP(J23,Tabulky!$K$16:$N$29,4,FALSE)) *  (X23/100)), 0,IF(J23 = \"\",0,VLOOKUP(J23,Tabulky!$K$16:$N$29,4,FALSE)) *  (X23/100))","v":0},0,{"$f":"VLOOKUP(B23,Tabulky!$K$31:$L$34,2,FALSE) * Z23","v":{"$error":"#N/A"}},{"$f":"MATCH(X23,LOCO!$B$16:$U$16,0)","v":{"$error":"#N/A"}},{"$f":"MATCH(Y23,LOCO!$A$17:$A$36,0)","v":{"$error":"#N/A"}},{"$f":"ROUND(INDEX(LOCO!$B$17:$U$36,AG23,AF23),0)","v":{"$error":"#N/A"}},{"$error":"#N/A"},{"$error":"#N/A"},{"$f":"SUM(M23*LOCO!$S$48)","v":0},{"$f":"IF(N23=\"ANO\",LOCO!$S$49,0)","v":0},{"$error":"#N/A"},{"$error":"#N/A"}]
[null,null,null,null,null,null,null,null,null,null,null,null,null,null,null,0,"","",null,null,null,null,0,0,0,0.5,{"$f":"VLOOKUP(H24,Tabulky!$A$4:$B$169,2,FALSE) * Z24","v":{"$error":"#N/A"}},{"$f":"IF(ISNA(IF(I24 = \"\",0,VLOOKUP(I24,Tabulky!$K$16:$N$29,3,FALSE)) *  (X24/100)), 0,IF(I24 = \"\",0,VLOOKUP(I24,Tabulky!$K$16:$N$29,3,FALSE)) *  (X24/100))","v":0},{"$f":"IF(ISNA(IF(J24 = \"\",0,VLOOKUP(J24,Tabulky!$K$16:$N$29,4,FALSE)) *  (X24/100)), 0,IF(J24 = \"\",0,VLOOKUP(J24,Tabulky!$K$16:$N$29,4,FALSE)) *  (X24/100))","v":0},0,{"$f":"VLOOKUP(B24,Tabulky!$K$31:$L$34,2,FALSE) * Z24","v":{"$error":"#N/A"}},{"$f":"MATCH(X24,LOCO!$B$16:$U$16,0)","v":{"$error":"#N/A"}},{"$f":"MATCH(Y24,LOCO!$A$17:$A$36,0)","v":{"$error":"#N/A"}},{"$f":"ROUND(INDEX(LOCO!$B$17:$U$36,AG24,AF24),0)","v":{"$error":"#N/A"}},{"$error":"#N/A"},{"$error":"#N/A"},{"$f":"SUM(M24*LOCO!$S$48)","v":0},{"$f":"IF(N24=\"ANO\",LOCO!$S$49,0)","v":0},{"$error":"#N/A"},{"$error":"#N/A"}]
[null,null,null,null,null,null,null,null,null,null,null,null,null,null,null,0,"","",null,null,null,null,0,0,0,0.5,{"$f":"VLOOKUP(H25,Tabulky!$A$4:$B$169,2,FALSE) * Z25","v":{"$error":"#N/A"}},{"$f":"IF(ISNA(IF(I25 = \"\",0,VLOOKUP(I25,Tabulky!$K$16:$N$29,3,FALSE)) *  (X25/100)), 0,IF(I25 = \"\",0,VLOOKUP(I25,Tabulky!$K$16:$N$29,3,FALSE)) *  (X25/100))","v":0},{"$f":"IF(ISNA(IF(J25 = \"\",0,VLOOKUP(J25,Tabulky!$K$16:$N$29,4,FALSE)) *  (X25/100)), 0,IF(J25 = \"\",0,VLOOKUP(J25,Tabulky!$K$16:$N$29,4,FALSE)) *  (X25/100))","v":0},0,{"$f":"VLOOKUP(B25,Tabulky!$K$31:$L$34,2,FALSE) * Z25","v":{"$error":"#N/A"}},{"$f":"MATCH(X25,LOCO!$B$16:$U$16,0)","v":{"$error":"#N/A"}},{"$f":"MATCH(Y25,LOCO!$A$17:$A$36,0)","v":{"$error":"#N/A"}},{"$f":"ROUND(INDEX(LOCO!$B$17:$U$36,AG25,AF25),0)","v":{"$error":"#N/A"}},{"$error":"#N/A"},{"$error":"#N/A"},{"$f":"SUM(M25*LOCO!$S$48)","v":0},{"$f":"IF(N25=\"ANO\",LOCO!$S$49,0)","v":0},{"$error":"#N/A"},{"$error":"#N/A"}]
[null,null,null,null,null,null,null,null,null,null,null,null,null,null,null,0,"","",null,null,null,null,0,0,0,0.5,{"$f":"VLOOKUP(H26,Tabulky!$A$4:$B$169,2,FALSE) * Z26","v":{"$error":"#N/A"}},{"$f":"IF(ISNA(IF(I26 = \"\",0,VLOOKUP(I26,Tabulky!$K$16:$N$29,3,FALSE)) *  (X26/100)), 0,IF(I26 = \"\",0,VLOOKUP(I26,Tabulky!$K$16:$N$29,3,FALSE)) *  (X26/100))","v":0},{"$f":"IF(ISNA(IF(J26 = \"\",0,VLOOKUP(J26,Tabulky!$K$16:$N$29,4,FALSE)) *  (X26/100)), 0,IF(J26 = \"\",0,VLOOKUP(J26,Tabulky!$K$16:$N$29,4,FALSE)) *  (X26/100))","v":0},0,{"$f":"VLOOKUP(B26,Tabulky!$K$31:$L$34,2,FALSE) * Z26","v":{"$error":"#N/A"}},{"$f":"MATCH(X26,LOCO!$B$16:$U$16,0)","v":{"$error":"#N/A"}},{"$f":"MATCH(Y26,LOCO!$A$17:$A$36,0)","v":{"$error":"#N/A"}},{"$f":"ROUND(INDEX(LOCO!$B$17:$U$36,AG26,AF26),0)","v":{"$error":"#N/A"}},{"$error":"#N/A"},{"$error":"#N/A"},{"$f":"SUM(M26*LOCO!$S$48)","v":0},{"$f":"IF(N26=\"ANO\",LOCO!$S$49,0)","v":0},{"$error":"#N/A"},{"$error":"#N/A"}]
[null,null,null,null,null,null,null,null,null,null,null,null,null,null,null,0,"","",null,null,null,null,0,0,0,0.5,{"$f":"VLOOKUP(H27,Tabulky!$A$4:$B$169,2,FALSE) * Z27","v":{"$error":"#N/A"}},{"$f":"IF(ISNA(IF(I27 = \"\",0,VLOOKUP(I27,Tabulky!$K$16:$N$29,3,FALSE)) *  (X27/100)), 0,IF(I27 = \"\",0,VLOOKUP(I27,Tabulky!$K$16:$N$29,3,FALSE)) *  (X27/100))","v":0},{"$f":"IF(ISNA(IF(J27 = \"\",0,VLOOKUP(J27,Tabulky!$K$16:$N$29,4,FALSE)) *  (X27/100)), 0,IF(J27 = \"\",0,VLOOKUP(J27,Tabulky!$K$16:$N$29,4,FALSE)) *  (X27/100))","v":0},0,{"$f":"VLOOKUP(B27,Tabulky!$K$31:$L$34,2,FALSE) * Z27","v":{"$error":"#N/A"}},{"$f":"MATCH(X27,LOCO!$B$16:$U$16,0)","v":{"$error":"#N/A"}},{"$f":"MATCH(Y27,LOCO!$A$17:$A$36,0)","v":{"$error":"#N/A"}},{"$f":"ROUND(INDEX(LOCO!$B$17:$U$36,AG27,AF27),0)","v":{"$error":"#N/A"}},{"$error":"#N/A"},{"$error":"#N/A"},{"$f":"SUM(M27*LOCO!$S$48)","v":0},{"$f":"IF(N27=\"ANO\",LOCO!$S$49,0)","v":0},{"$error":"#N/A"},{"$error":"#N/A"}]
[null,null,null,null,null,null,null,null,null,null,null,null,null,null,null,0,"","",null,null,null,null,0,0,0,0.5,{"$f":"VLOOKUP(H28,Tabulky!$A$4:$B$169,2,FALSE) * Z28","v":{"$error":"#N/A"}},{"$f":"IF(ISNA(IF(I28 = \"\",0,VLOOKUP(I28,Tabulky!$K$16:$N$29,3,FALSE)) *  (X28/100)), 0,IF(I28 = \"\",0,VLOOKUP(I28,Tabulky!$K$16:$N$29,3,FALSE)) *  (X28/100))","v":0},{"$f":"IF(ISNA(IF(J28 = \"\",0,VLOOKUP(J28,Tabulky!$K$16:$N$29,4,FALSE)) *  (X28/100)), 0,IF(J28 = \"\",0,VLOOKUP(J28,Tabulky!$K$16:$N$29,4,FALSE)) *  (X28/100))","v":0},0,{"$f":"VLOOKUP(B28,Tabulky!$K$31:$L$34,2,FALSE) * Z28","v":{"$error":"#N/A"}},{"$f":"MATCH(X28,LOCO!$B$16:$U$16,0)","v":{"$error":"#N/A"}},{"$f":"MATCH(Y28,LOCO!$A$17:$A$36,0)","v":{"$error":"#N/A"}},{"$f":"ROUND(INDEX(LOCO!$B$17:$U$36,AG28,AF28),0)","v":{"$error":"#N/A"}},{"$error":"#N/A"},{"$error":"#N/A"},{"$f":"SUM(M28*LOCO!$S$48)","v":0},{"$f":"IF(N28=\"ANO\",LOCO!$S$49,0)","v":0},{"$error":"#N/A"},{"$error":"#N/A"}]
[null,null,null,null,null,null,null,null,null,null,null,null,null,null,null,0,"","",null,null,null,null,0,0,0,0.5,{"$f":"VLOOKUP(H29,Tabulky!$A$4:$B$169,2,FALSE) * Z29","v":{"$error":"#N/A"}},{"$f":"IF(ISNA(IF(I29 = \"\",0,VLOOKUP(I29,Tabulky!$K$16:$N$29,3,FALSE)) *  (X29/100)), 0,IF(I29 = \"\",0,VLOOKUP(I29,Tabulky!$K$16:$N$29,3,FALSE)) *  (X29/100))","v":0},{"$f":"IF(ISNA(IF(J29 = \"\",0,VLOOKUP(J29,Tabulky!$K$16:$N$29,4,FALSE)) *  (X29/100)), 0,IF(J29 = \"\",0,VLOOKUP(J29,Tabulky!$K$16:$N$29,4,FALSE)) *  (X29/100))","v":0},0,{"$f":"VLOOKUP(B29,Tabulky!$K$31:$L$34,2,FALSE) * Z29","v":{"$error":"#N/A"}},{"$f":"MATCH(X29,LOCO!$B$16:$U$16,0)","v":{"$error":"#N/A"}},{"$f":"MATCH(Y29,LOCO!$A$17:$A$36,0)","v":{"$error":"#N/A"}},{"$f":"ROUND(INDEX(LOCO!$B$17:$U$36,AG29,AF29),0)","v":{"$error":"#N/A"}},{"$error":"#N/A"},{"$error":"#N/A"},{"$f":"SUM(M29*LOCO!$S$48)","v":0},{"$f":"IF(N29=\"ANO\",LOCO!$S$49,0)","v":0},{"$error":"#N/A"},{"$error":"#N/A"}]
[null,null,null,null,null,null,null,null,null,null,null,null,null,null,null,0,"","",null,null,null,null,0,0,0,0.5,{"$f":"VLOOKUP(H30,Tabulky!$A$4:$B$169,2,FALSE) * Z30","v":{"$error":"#N/A"}},{"$f":"IF(ISNA(IF(I30 = \"\",0,VLOOKUP(I30,Tabulky!$K$16:$N$29,3,FALSE)) *  (X30/100)), 0,IF(I30 = \"\",0,VLOOKUP(I30,Tabulky!$K$16:$N$29,3,FALSE)) *  (X30/100))","v":0},{"$f":"IF(ISNA(IF(J30 = \"\",0,VLOOKUP(J30,Tabulky!$K$16:$N$29,4,FALSE)) *  (X30/100)), 0,IF(J30 = \"\",0,VLOOKUP(J30,Tabulky!$K$16:$N$29,4,FALSE)) *  (X30/100))","v":0},0,{"$f":"VLOOKUP(B30,Tabulky!$K$31:$L$34,2,FALSE) * Z30","v":{"$error":"#N/A"}},{"$f":"MATCH(X30,LOCO!$B$16:$U$16,0)","v":{"$error":"#N/A"}},{"$f":"MATCH(Y30,LOCO!$A$17:$A$36,0)","v":{"$error":"#N/A"}},{"$f":"ROUND(INDEX(LOCO!$B$17:$U$36,AG30,AF30),0)","v":{"$error":"#N/A"}},{"$error":"#N/A"},{"$error":"#N/A"},{"$f":"SUM(M30*LOCO!$S$48)","v":0},{"$f":"IF(N30=\"ANO\",LOCO!$S$49,0)","v":0},{"$error":"#N/A"},{"$error":"#N/A"}]
[null,null,null,null,null,null,null,null,null,null,null,null,null,null,null,0,"","",null,null,null,null,0,0,0,0.5,{"$f":"VLOOKUP(H31,Tabulky!$A$4:$B$169,2,FALSE) * Z31","v":{"$error":"#N/A"}},{"$f":"IF(ISNA(IF(I31 = \"\",0,VLOOKUP(I31,Tabulky!$K$16:$N$29,3,FALSE)) *  (X31/100)), 0,IF(I31 = \"\",0,VLOOKUP(I31,Tabulky!$K$16:$N$29,3,FALSE)) *  (X31/100))","v":0},{"$f":"IF(ISNA(IF(J31 = \"\",0,VLOOKUP(J31,Tabulky!$K$16:$N$29,4,FALSE)) *  (X31/100)), 0,IF(J31 = \"\",0,VLOOKUP(J31,Tabulky!$K$16:$N$29,4,FALSE)) *  (X31/100))","v":0},0,{"$f":"VLOOKUP(B31,Tabulky!$K$31:$L$34,2,FALSE) * Z31","v":{"$error":"#N/A"}},{"$f":"MATCH(X31,LOCO!$B$16:$U$16,0)","v":{"$error":"#N/A"}},{"$f":"MATCH(Y31,LOCO!$A$17:$A$36,0)","v":{"$error":"#N/A"}},{"$f":"ROUND(INDEX(LOCO!$B$17:$U$36,AG31,AF31),0)","v":{"$error":"#N/A"}},{"$error":"#N/A"},{"$error":"#N/A"},{"$f":"SUM(M31*LOCO!$S$48)","v":0},{"$f":"IF(N31=\"ANO\",LOCO!$S$49,0)","v":0},{"$error":"#N/A"},{"$error":"#N/A"}]
["Žaluzie o rozměru na šířku 170-200mm a 2000-2500mm a na výšku 2000-2600mm vyrobíme BEZ záruky. Žaluzie lze vyrobit max do 2,4m²."]
["Cena je pouze orientační  a nemusí odpovídat skutečnosti."]

{"sheet":"Tabulky","index":6,"n_rows":169,"n_cols":24,"rows_kept":169,"cut":false,"hidden":true,"merged":[]}
[]
["Příplatky:"]
[]
["25x18","Příplatek",null,"25x21","Příplatek",null,"16x21","Příplatek",null,null,"Horní a spodní profil","Příplatek",null,"Lamely",{"$f":"INDIRECT(\"Tabulky!\" &HLOOKUP('OBJ ISOLINE'!$B11,Tabulky!$A$4:$I$82,79,FALSE),1)","v":{"$error":"#N/A"}}]
[1,0,"m²",101,0,"m²",1,0,"m²",null,"Fe",0,"m²","Celostín",{"$f":"INDIRECT(\"Tabulky!\" &HLOOKUP(B11,Tabulky!$K$8:$M$11,4,FALSE),1)","v":{"$error":"#N/A"}},null,null,null,null,null,null,null,null,{"$f":"INDIRECT(\"Tabulky!\" &HLOOKUP(K11,Tabulky!K11K,79,FALSE),1)","v":{"$error":"#NAME?"}}]
[65,0,"m²",102,0,"m²",58,0,"m²",null,"Al",{"$f":"ISOLINE!$S$47","v":60},"m²"]
[103,0,"m²",107,0,"m²",872,0,"m²"]
[104,0,"m²",115,0,"m²",17,0,"m²",null,"25x18","25x21","16x21"]
[58,0,"m²",121,0,"m²",711,0,"m²",null,"ANO","ANO"]
[266,0,"m²",311,0,"m²",713,0,"m²",null,"NE","NE","NE"]
[872,0,"m²",371,0,"m²",714,0,"m²",null,"K9:K10","L9:L10","M10"]
[279,0,"m²","700(21)",0,"m²",700,0,"m²",null,"Dřevěná krycí lišta + dolní rýna","Příplatek"]
[285,0,"m²","714(21)",0,"m²",716,0,"m²",null,"DKL+DR",null,"ks"]
[1037,0,"m²",105,0,"m²"]
[698,0,"m²",106,0,"m²",null,null,null,null,"Profil renolit","Příplatek bm","Příplatek bm LOCO ID","Příplatek bm LOCO ID lišta"]
[61,0,"m²",108,0,"m²",null,null,null,null,"Z.Dub-21",{"$f":"ISOLINE!$S$48","v":150},{"$f":"LOCO!$S$46","v":200},{"$f":"LOCO!$S$47","v":100}]
[62,0,"m²",109,0,"m²",null,null,null,null,"T.Ořech-28",{"$f":"ISOLINE!$S$48","v":150},{"$f":"LOCO!$S$46","v":200},{"$f":"LOCO!$S$47","v":100}]
[814,0,"m²",110,0,"m²",null,null,null,null,"T.Dub-24",{"$f":"ISOLINE!$S$48","v":150},{"$f":"LOCO!$S$46","v":200},{"$f":"LOCO!$S$47","v":100}]
[44,0,"m²",111,0,"m²",null,null,null,null,"B.Dub-32",{"$f":"ISOLINE!$S$48","v":150},{"$f":"LOCO!$S$46","v":200},{"$f":"LOCO!$S$47","v":100}]
[570,0,"m²",112,0,"m²",null,null,null,null,"R.Dub-31",{"$f":"ISOLINE!$S$48","v":150},{"$f":"LOCO!$S$46","v":200},{"$f":"LOCO!$S$47","v":100}]
[5,0,"m²",113,0,"m²",null,null,null,null,"V.Ořech-25",{"$f":"ISOLINE!$S$48","v":150},{"$f":"LOCO!$S$46","v":200},{"$f":"LOCO!$S$47","v":100}]
[869,0,"m²",117,0,"m²",null,null,null,null,"P.Dub-27",{"$f":"ISOLINE!$S$48","v":150},{"$f":"LOCO!$S$46","v":200},{"$f":"LOCO!$S$47","v":100}]
[870,0,"m²",119,0,"m²",null,null,null,null,"Třeš Am-22",{"$f":"ISOLINE!$S$48","v":150},{"$f":"LOCO!$S$46","v":200},{"$f":"LOCO!$S$47","v":100}]
[866,0,"m²",120,0,"m²",null,null,null,null,"Douglas-29",{"$f":"ISOLINE!$S$48","v":150},{"$f":"LOCO!$S$46","v":200},{"$f":"LOCO!$S$47","v":100}]
[77,0,"m²",123,0,"m²",null,null,null,null,"Douglas z-34",{"$f":"ISOLINE!$S$48","v":150},{"$f":"LOCO!$S$46","v":200},{"$f":"LOCO!$S$47","v":100}]
["P14",0,"m²",124,0,"m²",null,null,null,null,"Borovice-23",{"$f":"ISOLINE!$S$48","v":150},{"$f":"LOCO!$S$46","v":200},{"$f":"LOCO!$S$47","v":100}]
[502,0,"m²",125,0,"m²",null,null,null,null,"P.Ořech-35",{"$f":"ISOLINE!$S$48","v":150},{"$f":"LOCO!$S$46","v":200},{"$f":"LOCO!$S$47","v":100}]
[17,0,"m²",128,0,"m²",null,null,null,null,"Oregon4-30",{"$f":"ISOLINE!$S$48","v":150},{"$f":"LOCO!$S$46","v":200},{"$f":"LOCO!$S$47","v":100}]
[711,0,"m²",130,0,"m²",null,null,null,null,"Sapeli-26",{"$f":"ISOLINE!$S$48","v":150},{"$f":"LOCO!$S$46","v":200},{"$f":"LOCO!$S$47","v":100}]
[705,0,"m²",131,0,"m²"]
[378,0,"m²",132,0,"m²",null,null,null,null,"Lamela","Příplatek"]
[529,0,"m²",135,0,"m²",null,null,null,null,"25x18",0,"m²"]
[712,0,"m²",136,0,"m²",null,null,null,null,"25x21",{"$f":"ISOLINE!$S$43","v":80},"m²"]
[717,0,"m²",137,0,"m²",null,null,null,null,"16x21",{"$f":"ISOLINE!$S$43","v":80},"m²"]
[714,0,"m²",138,0,"m²"]
[713,0,"m²",139,0,"m²",null,null,null,null,null,"Příplatek"]
[700,0,"m²",142,0,"m²",null,null,null,null,"Brzda",{"$f":"PRIM!S47","v":35},"ks"]
[715,0,"m²",143,0,"m²",null,null,null,null,"Převodovka",{"$f":"PRIM!S48","v":55},"ks"]
[315,0,"m²",145,0,"m²"]
[718,0,"m²",146,0,"m²"]
[716,0,"m²",148,0,"m²"]
["9030b/s",0,"m²",149,0,"m²"]
["9030s/b",0,"m²",150,0,"m²"]
["738s/z",0,"m²",153,0,"m²"]
["738z/s",0,"m²",154,0,"m²"]
[7016,0,"m²",155,0,"m²"]
[783,{"$f":"ISOLINE!$S$42","v":80},"m²",211,0,"m²"]
[780,{"$f":"ISOLINE!$S$42","v":80},"m²",241,0,"m²"]
[1940,{"$f":"ISOLINE!$S$42","v":80},"m²",245,0,"m²"]
[8107,{"$f":"ISOLINE!$S$42","v":80},"m²",251,0,"m²"]
[8204,{"$f":"ISOLINE!$S$42","v":80},"m²",261,0,"m²"]
[8300,{"$f":"ISOLINE!$S$42","v":80},"m²",265,0,"m²"]
[8101,{"$f":"ISOLINE!$S$42","v":80},"m²",321,0,"m²"]
[8005,{"$f":"ISOLINE!$S$42","v":80},"m²",325,0,"m²"]
["W95",{"$f":"ISOLINE!$S$46","v":240},"m²",341,0,"m²"]
["W96",{"$f":"ISOLINE!$S$46","v":240},"m²",361,0,"m²"]
["W93",{"$f":"ISOLINE!$S$46","v":240},"m²","SA 511",0,"m²"]
["W94",{"$f":"ISOLINE!$S$46","v":240},"m²","SA 515",0,"m²"]
["W98",{"$f":"ISOLINE!$S$46","v":240},"m²","SA 521",0,"m²"]
["W91",{"$f":"ISOLINE!$S$46","v":240},"m²","SD 421",0,"m²"]
["W97",{"$f":"ISOLINE!$S$46","v":240},"m²","SL 551",0,"m²"]
["W92",{"$f":"ISOLINE!$S$46","v":240},"m²","SL 555",0,"m²"]
["PR1",{"$f":"ISOLINE!$S$42","v":80},"m²","SL 560",0,"m²"]
["PR285",{"$f":"ISOLINE!$S$42","v":80},"m²","SM-801",0,"m²"]
["PR61",{"$f":"ISOLINE!$S$42","v":80},"m²","SM-804",0,"m²"]
["PR103",{"$f":"ISOLINE!$S$42","v":80},"m²","SM-805",0,"m²"]
["PR58",{"$f":"ISOLINE!$S$42","v":80},"m²","SM-809",0,"m²"]
[null,null,null,"SM-832",0,"m²"]
[null,null,null,"SM-835",0,"m²"]
[null,null,null,"SM-837",0,"m²"]
[null,null,null,"SM-841",0,"m²"]
[null,null,null,"SM-851",0,"m²"]
[null,null,null,"SM-857",0,"m²"]
[null,null,null,"SM-869",0,"m²"]
[null,null,null,"SM-871",0,"m²"]
[null,null,null,"SR 621",0,"m²"]
[null,null,null,"SR 622",0,"m²"]
[null,null,null,"SR 624",0,"m²"]
[null,null,null,"SR 627",0,"m²"]
[null,null,null,"SR 630",0,"m²"]
[]
["A5:A67",null,null,"D5:D80",null,null,"G5:G13"]
[]
[101,0,"m²"]
[102,0,"m²"]
[107,0,"m²"]
[115,0,"m²"]
[121,0,"m²"]
[311,0,"m²"]
[371,0,"m²"]
["700(21)",0,"m²"]
["714(21)",0,"m²"]
[105,0,"m²"]
[106,0,"m²"]
[108,0,"m²"]
[109,0,"m²"]
[110,0,"m²"]
[111,0,"m²"]
[112,0,"m²"]
[113,0,"m²"]
[117,0,"m²"]
[119,0,"m²"]
[120,0,"m²"]
[123,0,"m²"]
[124,0,"m²"]
[125,0,"m²"]
[128,0,"m²"]
[130,0,"m²"]
[131,0,"m²"]
[132,0,"m²"]
[135,0,"m²"]
[136,0,"m²"]
[137,0,"m²"]
[138,0,"m²"]
[139,0,"m²"]
[142,0,"m²"]
[143,0,"m²"]
[145,0,"m²"]
[146,0,"m²"]
[148,0,"m²"]
[149,0,"m²"]
[150,0,"m²"]
[153,0,"m²"]
[154,0,"m²"]
[155,0,"m²"]
[211,0,"m²"]
[241,0,"m²"]
[245,0,"m²"]
[251,0,"m²"]
[261,0,"m²"]
[265,0,"m²"]
[321,0,"m²"]
[325,0,"m²"]
[341,0,"m²"]
[361,0,"m²"]
["SA 511",0,"m²"]
["SA 515",0,"m²"]
["SA 521",0,"m²"]
["SD 421",{"$f":"ISOLINE!$S$44","v":90},"m²"]
["SL 551",{"$f":"ISOLINE!$S$44","v":90},"m²"]
["SL 555",{"$f":"ISOLINE!$S$44","v":90},"m²"]
["SL 560",{"$f":"ISOLINE!$S$44","v":90},"m²"]
["SM-801",{"$f":"ISOLINE!$S$45","v":135},"m²"]
["SM-804",{"$f":"ISOLINE!$S$45","v":135},"m²"]
["SM-805",{"$f":"ISOLINE!$S$45","v":135},"m²"]
["SM-809",{"$f":"ISOLINE!$S$45","v":135},"m²"]
["SM-832",{"$f":"ISOLINE!$S$45","v":135},"m²"]
["SM-835",{"$f":"ISOLINE!$S$45","v":135},"m²"]
["SM-837",{"$f":"ISOLINE!$S$45","v":135},"m²"]
["SM-841",{"$f":"ISOLINE!$S$45","v":135},"m²"]
["SM-851",{"$f":"ISOLINE!$S$45","v":135},"m²"]
["SM-857",{"$f":"ISOLINE!$S$45","v":135},"m²"]
["SM-869",{"$f":"ISOLINE!$S$45","v":135},"m²"]
["SM-871",{"$f":"ISOLINE!$S$45","v":135},"m²"]
["SR 621",{"$f":"ISOLINE!$S$45","v":135},"m²"]
["SR 622",{"$f":"ISOLINE!$S$45","v":135},"m²"]
["SR 624",{"$f":"ISOLINE!$S$45","v":135},"m²"]
["SR 627",{"$f":"ISOLINE!$S$45","v":135},"m²"]
["SR 630",{"$f":"ISOLINE!$S$45","v":135},"m²"]
[]
[1,0,"m²"]
[58,0,"m²"]
[872,0,"m²"]
[17,0,"m²"]
[711,0,"m²"]
[713,0,"m²"]
[714,0,"m²"]
[700,0,"m²"]
[716,0,"m²"]